{"text_format":"1","workbook":"xlsx","n_sheets":9,"sheets":["Project Name","Local Controller Data - EXIST","Local Controller Data - PROP","Local Data - COMB - Read Only","Volume Data","Coordination Timing - EXISTING","Coordination Timing - PROPOSED","Combined Coord Timing-Read Only","Comb Coord Schedule-Read Only"],"not_rendered":{"charts":0,"images":0,"macros":1,"external_links":0,"defined_names":6,"comments":0,"pivot_tables":0},"unopened":[],"bounds":{"document_bytes":16777216,"sheet_cells":100000,"rows_first":2000,"rows_last":500,"rows_between":2000,"halvings":0,"cell_chars":16384,"cell_head_chars":4096},"cells_cut":0,"cells_raw":0,"read":"whole","date_system":"1900"}

{"sheet":"Project Name","index":0,"n_rows":2,"n_cols":2,"rows_kept":2,"cut":false,"hidden":false,"merged":[[2,0,2,3],[0,0,0,3]]}
[]
[null,"PROJECT NAME:"]

{"sheet":"Local Controller Data - EXIST","index":1,"n_rows":600,"n_cols":47,"rows_kept":600,"cut":false,"hidden":false,"merged":[[588,3,588,6],[588,7,588,9],[589,3,589,6],[589,7,589,9],[590,3,590,6],[590,7,590,9],[591,3,591,6],[591,7,591,9],[592,3,592,6],[592,7,592,9],[583,3,583,6],[583,7,583,9],[584,3,584,6],[584,7,584,9],[585,3,585,6],[585,7,585,9],[586,3,586,6],[586,7,586,9],[587,3,587,6],[587,7,587,9],[570,0,570,1],[571,0,573,0],[575,0,575,10],[576,0,578,10],[579,0,579,10],[581,0,581,1],[581,3,581,9],[582,3,582,6],[582,7,582,9],[561,0,561,1],[562,0,562,1],[563,0,563,1],[564,0,564,1],[565,0,565,1],[566,0,566,1],[567,0,567,1],[568,0,568,1],[569,0,569,1],[553,0,553,2],[553,3,553,10],[554,0,554,2],[555,0,555,2],[556,0,556,1],[557,1,557,2],[558,0,558,1],[559,0,559,1],[560,0,560,1],[548,1,548,2],[548,3,549,6],[548,7,549,7],[548,8,549,8],[548,9,549,9],[548,10,549,10],[549,0,549,1],[550,1,550,2],[550,3,552,6],[550,7,552,7],[550,8,552,8],[550,9,552,9],[550,10,552,10],[551,1,551,2],[552,0,552,2],[541,0,541,10],[542,0,542,10],[544,0,544,2],[544,3,544,10],[545,0,545,2],[545,3,545,10],[546,0,547,2],[546,3,546,4],[546,6,546,7],[546,8,546,10],[547,3,547,4],[528,3,528,6],[528,7,528,9],[529,3,529,6],[529,7,529,9],[530,3,530,6],[530,7,530,9],[531,3,531,6],[531,7,531,9],[532,3,532,6],[532,7,532,9],[523,3,523,6],[523,7,523,9],[524,3,524,6],[524,7,524,9],[525,3,525,6],[525,7,525,9],[526,3,526,6],[526,7,526,9],[527,3,527,6],[527,7,527,9],[510,0,510,1],[511,0,513,0],[515,0,515,10],[516,0,518,10],[519,0,519,10],[521,0,521,1],[521,3,521,9],[522,3,522,6],[522,7,522,9],[501,0,501,1],[502,0,502,1],[503,0,503,1],[504,0,504,1],[505,0,505,1],[506,0,506,1],[507,0,507,1],[508,0,508,1],[509,0,509,1],[493,0,493,2],[493,3,493,10],[494,0,494,2],[495,0,495,2],[496,0,496,1],[497,1,497,2],[498,0,498,1],[499,0,499,1],[500,0,500,1],[488,1,488,2],[488,3,489,6],[488,7,489,7],[488,8,489,8],[488,9,489,9],[488,10,489,10],[489,0,489,1],[490,1,490,2],[490,3,492,6],[490,7,492,7],[490,8,492,8],[490,9,492,9],[490,10,492,10],[491,1,491,2],[492,0,492,2],[481,0,481,10],[482,0,482,10],[484,0,484,2],[484,3,484,10],[485,0,485,2],[485,3,485,10],[486,0,487,2],[486,3,486,4],[486,6,486,7],[486,8,486,10],[487,3,487,4],[468,3,468,6],[468,7,468,9],[469,3,469,6],[469,7,469,9],[470,3,470,6],[470,7,470,9],[471,3,471,6],[471,7,471,9],[472,3,472,6],[472,7,472,9],[463,3,463,6],[463,7,463,9],[464,3,464,6],[464,7,464,9],[465,3,465,6],[465,7,465,9],[466,3,466,6],[466,7,466,9],[467,3,467,6],[467,7,467,9],[450,0,450,1],[451,0,453,0],[455,0,455,10],[456,0,458,10],[459,0,459,10],[461,0,461,1],[461,3,461,9],[462,3,462,6],[462,7,462,9],[441,0,441,1],[442,0,442,1],[443,0,443,1],[444,0,444,1],[445,0,445,1],[446,0,446,1],[447,0,447,1],[448,0,448,1],[449,0,449,1],[433,0,433,2],[433,3,433,10],[434,0,434,2],[435,0,435,2],[436,0,436,1],[437,1,437,2],[438,0,438,1],[439,0,439,1],[440,0,440,1],[428,1,428,2],[428,3,429,6],[428,7,429,7],[428,8,429,8],[428,9,429,9],[428,10,429,10],[429,0,429,1],[430,1,430,2],[430,3,432,6],[430,7,432,7],[430,8,432,8],[430,9,432,9],[430,10,432,10],[431,1,431,2],[432,0,432,2],[421,0,421,10],[422,0,422,10],[424,0,424,2],[424,3,424,10],[425,0,425,2],[425,3,425,10],[426,0,427,2],[426,3,426,4],[426,6,426,7],[426,8,426,10],[427,3,427,4],[408,3,408,6],[408,7,408,9],[409,3,409,6],[409,7,409,9],[410,3,410,6],[410,7,410,9],[411,3,411,6],[411,7,411,9],[412,3,412,6],[412,7,412,9],[403,3,403,6],[403,7,403,9],[404,3,404,6],[404,7,404,9],[405,3,405,6],[405,7,405,9],[406,3,406,6],[406,7,406,9],[407,3,407,6],[407,7,407,9],[390,0,390,1],[391,0,393,0],[395,0,395,10],[396,0,398,10],[399,0,399,10],[401,0,401,1],[401,3,401,9],[402,3,402,6],[402,7,402,9],[381,0,381,1],[382,0,382,1],[383,0,383,1],[384,0,384,1],[385,0,385,1],[386,0,386,1],[387,0,387,1],[388,0,388,1],[389,0,389,1],[373,0,373,2],[373,3,373,10],[374,0,374,2],[375,0,375,2],[376,0,376,1],[377,1,377,2],[378,0,378,1],[379,0,379,1],[380,0,380,1],[368,1,368,2],[368,3,369,6],[368,7,369,7],[368,8,369,8],[368,9,369,9],[368,10,369,10],[369,0,369,1],[370,1,370,2],[370,3,372,6],[370,7,372,7],[370,8,372,8],[370,9,372,9],[370,10,372,10],[371,1,371,2],[372,0,372,2],[361,0,361,10],[362,0,362,10],[364,0,364,2],[364,3,364,10],[365,0,365,2],[365,3,365,10],[366,0,367,2],[366,3,366,4],[366,6,366,7],[366,8,366,10],[367,3,367,4],[348,3,348,6],[348,7,348,9],[349,3,349,6],[349,7,349,9],[350,3,350,6],[350,7,350,9],[351,3,351,6],[351,7,351,9],[352,3,352,6],[352,7,352,9],[343,3,343,6],[343,7,343,9],[344,3,344,6],[344,7,344,9],[345,3,345,6],[345,7,345,9],[346,3,346,6],[346,7,346,9],[347,3,347,6],[347,7,347,9],[330,0,330,1],[331,0,333,0],[335,0,335,10],[336,0,338,10],[339,0,339,10],[341,0,341,1],[341,3,341,9],[342,3,342,6],[342,7,342,9],[321,0,321,1],[322,0,322,1],[323,0,323,1],[324,0,324,1],[325,0,325,1],[326,0,326,1],[327,0,327,1],[328,0,328,1],[329,0,329,1],[313,0,313,2],[313,3,313,10],[314,0,314,2],[315,0,315,2],[316,0,316,1],[317,1,317,2],[318,0,318,1],[319,0,319,1],[320,0,320,1],[308,1,308,2],[308,3,309,6],[308,7,309,7],[308,8,309,8],[308,9,309,9],[308,10,309,10],[309,0,309,1],[310,1,310,2],[310,3,312,6],[310,7,312,7],[310,8,312,8],[310,9,312,9],[310,10,312,10],[311,1,311,2],[312,0,312,2],[301,0,301,10],[302,0,302,10],[304,0,304,2],[304,3,304,10],[305,0,305,2],[305,3,305,10],[306,0,307,2],[306,3,306,4],[306,6,306,7],[306,8,306,10],[307,3,307,4],[288,3,288,6],[288,7,288,9],[289,3,289,6],[289,7,289,9],[290,3,290,6],[290,7,290,9],[291,3,291,6],[291,7,291,9],[292,3,292,6],[292,7,292,9],[283,3,283,6],[283,7,283,9],[284,3,284,6],[284,7,284,9],[285,3,285,6],[285,7,285,9],[286,3,286,6],[286,7,286,9],[287,3,287,6],[287,7,287,9],[270,0,270,1],[271,0,273,0],[275,0,275,10],[276,0,278,10],[279,0,279,10],[281,0,281,1],[281,3,281,9],[282,3,282,6],[282,7,282,9],[261,0,261,1],[262,0,262,1],[263,0,263,1],[264,0,264,1],[265,0,265,1],[266,0,266,1],[267,0,267,1],[268,0,268,1],[269,0,269,1],[253,0,253,2],[253,3,253,10],[254,0,254,2],[255,0,255,2],[256,0,256,1],[257,1,257,2],[258,0,258,1],[259,0,259,1],[260,0,260,1],[248,1,248,2],[248,3,249,6],[248,7,249,7],[248,8,249,8],[248,9,249,9],[248,10,249,10],[249,0,249,1],[250,1,250,2],[250,3,252,6],[250,7,252,7],[250,8,252,8],[250,9,252,9],[250,10,252,10],[251,1,251,2],[252,0,252,2],[241,0,241,10],[242,0,242,10],[244,0,244,2],[244,3,244,10],[245,0,245,2],[245,3,245,10],[246,0,247,2],[246,3,246,4],[246,6,246,7],[246,8,246,10],[247,3,247,4],[228,3,228,6],[228,7,228,9],[229,3,229,6],[229,7,229,9],[230,3,230,6],[230,7,230,9],[231,3,231,6],[231,7,231,9],[232,3,232,6],[232,7,232,9],[223,3,223,6],[223,7,223,9],[224,3,224,6],[224,7,224,9],[225,3,225,6],[225,7,225,9],[226,3,226,6],[226,7,226,9],[227,3,227,6],[227,7,227,9],[210,0,210,1],[211,0,213,0],[215,0,215,10],[216,0,218,10],[219,0,219,10],[221,0,221,1],[221,3,221,9],[222,3,222,6],[222,7,222,9],[201,0,201,1],[202,0,202,1],[203,0,203,1],[204,0,204,1],[205,0,205,1],[206,0,206,1],[207,0,207,1],[208,0,208,1],[209,0,209,1],[193,0,193,2],[193,3,193,10],[194,0,194,2],[195,0,195,2],[196,0,196,1],[197,1,197,2],[198,0,198,1],[199,0,199,1],[200,0,200,1],[188,1,188,2],[188,3,189,6],[188,7,189,7],[188,8,189,8],[188,9,189,9],[188,10,189,10],[189,0,189,1],[190,1,190,2],[190,3,192,6],[190,7,192,7],[190,8,192,8],[190,9,192,9],[190,10,192,10],[191,1,191,2],[192,0,192,2],[181,0,181,10],[182,0,182,10],[184,0,184,2],[184,3,184,10],[185,0,185,2],[185,3,185,10],[186,0,187,2],[186,3,186,4],[186,6,186,7],[186,8,186,10],[187,3,187,4],[168,3,168,6],[168,7,168,9],[169,3,169,6],[169,7,169,9],[170,3,170,6],[170,7,170,9],[171,3,171,6],[171,7,171,9],[172,3,172,6],[172,7,172,9],[163,3,163,6],[163,7,163,9],[164,3,164,6],[164,7,164,9],[165,3,165,6],[165,7,165,9],[166,3,166,6],[166,7,166,9],[167,3,167,6],[167,7,167,9],[150,0,150,1],[151,0,153,0],[155,0,155,10],[156,0,158,10],[159,0,159,10],[161,0,161,1],[161,3,161,9],[162,3,162,6],[162,7,162,9],[141,0,141,1],[142,0,142,1],[143,0,143,1],[144,0,144,1],[145,0,145,1],[146,0,146,1],[147,0,147,1],[148,0,148,1],[149,0,149,1],[133,0,133,2],[133,3,133,10],[134,0,134,2],[135,0,135,2],[136,0,136,1],[137,1,137,2],[138,0,138,1],[139,0,139,1],[140,0,140,1],[128,1,128,2],[128,3,129,6],[128,7,129,7],[128,8,129,8],[128,9,129,9],[128,10,129,10],[129,0,129,1],[130,1,130,2],[130,3,132,6],[130,7,132,7],[130,8,132,8],[130,9,132,9],[130,10,132,10],[131,1,131,2],[132,0,132,2],[121,0,121,10],[122,0,122,10],[124,0,124,2],[124,3,124,10],[125,0,125,2],[125,3,125,10],[126,0,127,2],[126,3,126,4],[126,6,126,7],[126,8,126,10],[127,3,127,4],[5,8,5,10],[3,0,3,2],[4,0,4,2],[3,3,3,10],[4,3,4,10],[5,3,5,4],[6,3,6,4],[9,3,11,6],[22,0,22,1],[5,6,5,7],[7,1,7,2],[8,0,8,1],[9,1,9,2],[10,1,10,2],[12,0,12,2],[13,0,13,2],[14,0,14,2],[5,0,6,2],[17,0,17,1],[18,0,18,1],[19,0,19,1],[20,0,20,1],[21,0,21,1],[12,3,12,10],[7,10,8,10],[9,7,11,7],[9,8,11,8],[9,10,11,10],[7,7,8,7],[7,8,8,8],[7,9,8,9],[24,0,24,1],[25,0,25,1],[11,0,11,2],[16,1,16,2],[15,0,15,1],[7,3,8,6],[23,0,23,1],[47,3,47,6],[46,7,46,9],[61,0,61,10],[62,0,62,10],[64,0,64,2],[64,3,64,10],[65,0,65,2],[40,0,40,1],[9,9,11,9],[34,0,34,10],[30,0,32,0],[29,0,29,1],[28,0,28,1],[26,0,26,1],[35,0,37,10],[65,3,65,10],[38,0,38,10],[27,0,27,1],[75,0,75,2],[0,0,0,10],[1,0,1,10],[48,3,48,6],[49,3,49,6],[40,3,40,9],[41,3,41,6],[42,3,42,6],[43,3,43,6],[44,3,44,6],[50,3,50,6],[51,3,51,6],[41,7,41,9],[42,7,42,9],[47,7,47,9],[48,7,48,9],[49,7,49,9],[50,7,50,9],[43,7,43,9],[44,7,44,9],[45,7,45,9],[51,7,51,9],[45,3,45,6],[46,3,46,6],[81,0,81,1],[82,0,82,1],[83,0,83,1],[84,0,84,1],[78,0,78,1],[80,0,80,1],[76,0,76,1],[77,1,77,2],[79,0,79,1],[101,0,101,1],[101,3,101,9],[85,0,85,1],[86,0,86,1],[87,0,87,1],[88,0,88,1],[89,0,89,1],[90,0,90,1],[91,0,93,0],[95,0,95,10],[96,0,98,10],[99,0,99,10],[105,3,105,6],[105,7,105,9],[106,3,106,6],[106,7,106,9],[107,3,107,6],[107,7,107,9],[102,3,102,6],[102,7,102,9],[103,3,103,6],[103,7,103,9],[104,3,104,6],[104,7,104,9],[111,3,111,6],[111,7,111,9],[112,3,112,6],[112,7,112,9],[108,3,108,6],[108,7,108,9],[109,3,109,6],[109,7,109,9],[110,3,110,6],[110,7,110,9],[70,1,70,2],[74,0,74,2],[70,3,72,6],[70,7,72,7],[70,8,72,8],[70,9,72,9],[70,10,72,10],[71,1,71,2],[72,0,72,2],[73,0,73,2],[73,3,73,10],[66,0,67,2],[66,3,66,4],[66,6,66,7],[66,8,66,10],[67,3,67,4],[68,1,68,2],[68,3,69,6],[68,7,69,7],[68,8,69,8],[68,9,69,9],[68,10,69,10],[69,0,69,1]]}
[{"$f":"'Project Name'!$C$2","v":0}]
["Existing Local Controller Data"]
[]
["INTERSECTION:",null,null,null,null,null,null,null,null,null,null,null,null,"-",null,null,null,"MANUAL PATTERN","SYSTEM SOURCE","SPLITS IN","TRANSITION","DWELL/ADD TIME","OFFSET REFERNECE","PED RECALL","LOCAL ZERO OVERRIDE","RE-SYNC COUNT","ECPI COORD","SYSTEM FORMAT ","OFFSET IN","MAX SELECT","FORCE OFF","USE PED TIME","PED RESERVICE","FO ADD INI GRN","MULTISYNC",null,"OPERATION","MODE (NORMAL)","MAXIMUM","CORRECTION","OFFSET MODE","FORCE MODE","MAX DWELL TIME","YIELD PERIOD","MANUAL CONTROL: DIAL","MANUAL CONTROL: SPLIT","MANUAL CONTROL: OFFSET"]
["MAINTAINING AGENCY:",null,null,null,null,null,null,null,null,null,null,null,null,"ON",null,null,null,"-","-","-","-","-","-","-","-","-","-","-","-","-","-","-","-","-","-",null,"-","-","-","-","-","-"]
["START UP",null,null,"DUAL ENTRY: ",null,"-","PHASES:",null,"-",null,null,null,null,"OFF",null,null,null,"AUTO","HDW","SECONDS","DWELL",0,"LEAD","NO","NO",0,"NO","STD","SECONDS","MAXINH","FIXED ","NO","NO","NO","NO",null,"0 - FREE","0 - PERMISSIVE","0 - INHIBIT","0 - DWELL","0 - BEG GREEN","0 - PLAN"]
[null,null,null,"REST IN RED: ",null,null,"RING 1","-",null,"RING 2","-",null,null,null,null,"-",null,"FREE","TBC",null,"SMOOTH",1,"LAG","YES","YES",1,"YES","TS2",null,"MAX 1","FLOAT","YES","YES","YES","YES",null,"1 - AUTO","1 - YIELD","1 - MAX I","1 - MAX DWELL","1 - END GREEN","1 - CYCLE"]
["START IN: ","-",null,"OVERLAP",null,null,null,"A","B","C","D",null,null,null,null,"NB",null,"FLASH","SYS",null,"ADD ONLY",2,"YIELD",null,null,2,null,"PTN",null,"MAX 2",null,null,null,null,null,null,"2 - MANUAL","2 - PERMISSIVE YIELD","2 - MAX II","2 - SHORT WAY",null,"2 - FLOATING"]
["TIME FOR: FLASH , ALL RED (SEC.):   ",null,"9, 6",null,null,null,null,null,null,null,null,null,null,"-",null,"SB",null,1,null,null,null,3,"YELLOW",null,null,3,null,null,null,"MAX 3 ",null,null,null,null,null,null,null,"3 - PERMISSIVE OMIT",null,"3 - ADD ONLY",null,"3 - FIXED"]
["FIRST PHASE(S):","-",null,"PHASES",null,null,null,"-","-","-","-",null,null,"YELLOW/RED FLASH",null,"EB",null,2,null,null,null,4,"RING 1",null,null,4,null,null,null,null,null,null,null,null,null,null,null,"4 - SEQUENTIAL OMIT",null,"4 - SHORT WAY 2"]
["COLOR DISPLAYED:","-",null,null,null,null,null,null,null,null,null,null,null,"ALL-RED FLASH",null,"WB",null,3,null,null,null,5,null,null,null,5,null,null,null,null,null,null,null,null,null,null,null,"5 - FULLY ACTUATED"]
[null,null,null,null,null,null,null,null,null,null,null,null,null,null,null,"NB LT",null,4,null,null,null,6,null,null,null,6,null,null,null,null,null,null,null,null,null,null,null,"6 - MUTUAL COORD"]
["INTERVAL OR FEATURE",null,null,"CONTROLLER MOVEMENT NO.",null,null,null,null,null,null,null,null,null,"-",null,"SB LT",null,5,null,null,null,7,null,null,null,7]
["INTERSECTION MOVEMENT (PHASE)",null,null,1,2,3,4,5,6,7,8,null,null,"GREEN",null,"EB LT",null,6,null,null,null,8,null,null,null,8]
["DIRECTION",null,null,"-","-","-","-","-","-","-","-",null,null,"YELLOW",null,"WB LT",null,7,null,null,null,9,null,null,null,9]
["MINIMUM GREEN (INITIAL) ",null,"(SEC.)","-","-","-","-","-","-","-","-",null,null,null,null,null,null,8,null,null,null,10,null,null,null,10]
["ADDED INITIAL","*(SEC./ACTUATION)",null,"-","-","-","-","-","-","-","-",null,null,null,null,null,null,9,null,null,null,11,null,null,null,11]
["MAXIMUM INITIAL",null,"*(SEC.)","-","-","-","-","-","-","-","-",null,null,null,null,null,null,10,null,null,null,12,null,null,null,12]
["PASSAGE TIME (PRESET GAP)",null,"(SEC.)","-","-","-","-","-","-","-","-",null,null,null,null,null,null,11,null,null,null,13,null,null,null,13]
["TIME BEFORE REDUCTION",null,"*(SEC.)","-","-","-","-","-","-","-","-",null,null,null,null,null,null,12,null,null,null,14,null,null,null,14]
["MINIMUM GAP",null,"*(SEC.)","-","-","-","-","-","-","-","-",null,null,null,null,null,null,13,null,null,null,15,null,null,null,15]
["TIME TO REDUCE",null,"*(SEC.)","-","-","-","-","-","-","-","-",null,null,null,null,null,null,14,null,null,null,16,null,null,null,16]
["MAXIMUM GREEN I",null,"(SEC.)","-","-","-","-","-","-","-","-",null,null,null,null,null,null,15,null,null,null,17,null,null,null,17]
["MAXIMUM GREEN II",null,"(SEC.)","-","-","-","-","-","-","-","-",null,null,null,null,null,null,16,null,null,null,18,null,null,null,18]
["YELLOW CHANGE",null,"(SEC.)","-","-","-","-","-","-","-","-",null,null,null,null,null,null,17,null,null,null,19,null,null,null,19]
["ALL RED CLEARANCE",null,"(SEC.)","-","-","-","-","-","-","-","-",null,null,null,null,null,null,18,null,null,null,20,null,null,null,20]
["DELAYED GREEN (LPI) #",null,"(SEC.)","-","-","-","-","-","-","-","-"]
["FLASHING YELLOW ARROW DELAY^",null,"(SEC.)","-","-","-","-","-","-","-","-"]
["WALK",null,"(SEC.)","-","-","-","-","-","-","-","-",null,null,null,null,null,null,19,null,null,null,21,null,null,null,21]
["PEDESTRIAN CLEARANCE",null,"(SEC.)","-","-","-","-","-","-","-","-",null,null,null,null,null,null,20,null,null,null,22,null,null,null,22]
["RECALL","MAXIMUM","(ON/OFF)","-","-","-","-","-","-","-","-",null,null,null,null,null,null,21,null,null,null,23,null,null,null,23]
[null,"MINIMUM","(ON/OFF)","-","-","-","-","-","-","-","-",null,null,null,null,null,null,22,null,null,null,24,null,null,null,24]
[null,"PEDESTRIAN","(ON/OFF)","-","-","-","-","-","-","-","-",null,null,null,null,null,null,23,null,null,null,25,null,null,null,25]
["MEMORY    ",null,"(ON/OFF)","-","-","-","-","-","-","-","-",null,null,null,null,null,null,24,null,null,null,26,null,null,null,26]
["*VOLUME DENSITY CONTROLS",null,null,null,null,null,null,null,null,null,null,null,null,null,null,null,null,25,null,null,null,27,null,null,null,27]
["# FOR CROSSINGS WITH PEDESTRIAN PUSHBUTTONS, LPI'S (LEADING PEDESTRIAN INTERVALS) MAY BE IMPLEMENTED (3-6 SEC.) IN ACCORDANCE WITH LPI DURATION TIME PER THE ODOT SIGNAL CALCULATIONS - CLEARANCE INTERVALS SPREADSHEET",null,null,null,null,null,null,null,null,null,null,null,null,null,null,null,null,26,null,null,null,28,null,null,null,28]
[null,null,null,null,null,null,null,null,null,null,null,null,null,null,null,null,null,27,null,null,null,29,null,null,null,29]
[]
["^ WHEN IMPLEMENTING FYA, A MINIMUM 3 SEC. DELAY SHALL BE PROGRAMMED PER FYA PHASE. "]
[]
["ECONOLITE COORD SETTINGS",null,null,"SIEMENS COORD SETTINGS",null,null,null,null,null,null,null,null,null,null,null,null,null,28,null,null,null,30,null,null,null,30]
["MANUAL PATTERN","-",null,"OPERATION",null,null,null,"-",null,null,null,null,null,null,null,null,null,29,null,null,null,31,null,null,null,31]
["SYSTEM SOURCE","-",null,"MODE (NORMAL)",null,null,null,"-",null,null,null,null,null,null,null,null,null,30,null,null,null,32,null,null,null,32]
["SPLITS IN","-",null,"MAXIMUM",null,null,null,"-",null,null,null,null,null,null,null,null,null,31,null,null,null,33,null,null,null,33]
["TRANSITION","-",null,"CORRECTION",null,null,null,"-",null,null,null,null,null,null,null,null,null,32,null,null,null,34,null,null,null,34]
["DWELL/ADD TIME","-",null,"OFFSET MODE",null,null,null,"-",null,null,null,null,null,null,null,null,null,33,null,null,null,35,null,null,null,35]
["OFFSET REFERENCE","-",null,"FORCE MODE",null,null,null,"-",null,null,null,null,null,null,null,null,null,34,null,null,null,36,null,null,null,36]
["PED RECALL","-",null,"MAX DWELL TIME",null,null,null,"-",null,null,null,null,null,null,null,null,null,35,null,null,null,37,null,null,null,37]
["LOCAL ZERO OVERRIDE","-",null,"YIELD PERIOD",null,null,null,"-",null,null,null,null,null,null,null,null,null,36,null,null,null,38,null,null,null,38]
["RE-SYNC COUNT","-",null,"MANUAL CONTROL: DIAL",null,null,null,"-",null,null,null,null,null,null,null,null,null,37,null,null,null,39,null,null,null,39]
["ECPI COORD","-",null,"MANUAL CONTROL: SPLIT",null,null,null,"-",null,null,null,null,null,null,null,null,null,38,null,null,null,40,null,null,null,40]
["SYSTEM FORMAT ","-",null,"MANUAL CONTROL: OFFSET",null,null,null,"-",null,null,null,null,null,null,null,null,null,39,null,null,null,41,null,null,null,41]
["OFFSET IN","-",null,null,null,null,null,null,null,null,null,null,null,null,null,null,null,40,null,null,null,42,null,null,null,42]
["MAX SELECT","-",null,null,null,null,null,null,null,null,null,null,null,null,null,null,null,41,null,null,null,43,null,null,null,43]
["FORCE OFF","-",null,null,null,null,null,null,null,null,null,null,null,null,null,null,null,42,null,null,null,44,null,null,null,44]
["USE PED TIME","-",null,null,null,null,null,null,null,null,null,null,null,null,null,null,null,43,null,null,null,45,null,null,null,45]
["PED RESERVICE","-",null,null,null,null,null,null,null,null,null,null,null,null,null,null,null,44,null,null,null,46,null,null,null,46]
["FO ADD INI GRN","-",null,null,null,null,null,null,null,null,null,null,null,null,null,null,null,45,null,null,null,47,null,null,null,47]
["MULTISYNC","-",null,null,null,null,null,null,null,null,null,null,null,null,null,null,null,46,null,null,null,48,null,null,null,48]
[null,null,null,null,null,null,null,null,null,null,null,null,null,null,null,null,null,47,null,null,null,49,null,null,null,49]
[null,null,null,null,null,null,null,null,null,null,null,null,null,null,null,null,null,48,null,null,null,50,null,null,null,50]
[{"$f":"'Project Name'!$C$2","v":0},null,null,null,null,null,null,null,null,null,null,null,null,null,null,null,null,52,null,null,null,54,null,null,null,54]
["Existing Local Controller Data",null,null,null,null,null,null,null,null,null,null,null,null,null,null,null,null,53,null,null,null,55,null,null,null,55]
[null,null,null,null,null,null,null,null,null,null,null,null,null,null,null,null,null,54,null,null,null,56,null,null,null,56]
["INTERSECTION:",null,null,null,null,null,null,null,null,null,null,null,null,null,null,null,null,55,null,null,null,57,null,null,null,57]
["MAINTAINING AGENCY:",null,null,null,null,null,null,null,null,null,null,null,null,null,null,null,null,56,null,null,null,58,null,null,null,58]
["START UP",null,null,"DUAL ENTRY: ",null,"-","PHASES:",null,"-",null,null,null,null,null,null,null,null,57,null,null,null,59,null,null,null,59]
[null,null,null,"REST IN RED: ",null,null,"RING 1","-",null,"RING 2","-",null,null,null,null,null,null,58,null,null,null,60,null,null,null,60]
["START IN: ","-",null,"OVERLAP",null,null,null,"A","B","C","D",null,null,null,null,null,null,59,null,null,null,61,null,null,null,61]
["TIME FOR FLASH / ALL RED (SEC.):   ",null,"9, 6",null,null,null,null,null,null,null,null,null,null,null,null,null,null,60,null,null,null,62,null,null,null,62]
["FIRST PHASE(S):","-",null,"PHASES",null,null,null,"-","-","-","-",null,null,null,null,null,null,61,null,null,null,63,null,null,null,63]
["COLOR DISPLAYED:","-",null,null,null,null,null,null,null,null,null,null,null,null,null,null,null,62,null,null,null,64,null,null,null,64]
[null,null,null,null,null,null,null,null,null,null,null,null,null,null,null,null,null,63,null,null,null,65,null,null,null,65]
["INTERVAL OR FEATURE",null,null,"CONTROLLER MOVEMENT NO.",null,null,null,null,null,null,null,null,null,null,null,null,null,64,null,null,null,66,null,null,null,66]
["INTERSECTION MOVEMENT (PHASE)",null,null,1,2,3,4,5,6,7,8,null,null,null,null,null,null,65,null,null,null,67,null,null,null,67]
["DIRECTION",null,null,"-","-","-","-","-","-","-","-",null,null,null,null,null,null,66,null,null,null,68,null,null,null,68]
["MINIMUM GREEN (INITIAL) ",null,"(SEC.)","-","-","-","-","-","-","-","-",null,null,null,null,null,null,67,null,null,null,69,null,null,null,69]
["ADDED INITIAL","*(SEC./ACTUATION)",null,"-","-","-","-","-","-","-","-",null,null,null,null,null,null,68,null,null,null,70,null,null,null,70]
["MAXIMUM INITIAL",null,"*(SEC.)","-","-","-","-","-","-","-","-",null,null,null,null,null,null,69,null,null,null,71,null,null,null,71]
["PASSAGE TIME (PRESET GAP)",null,"(SEC.)","-","-","-","-","-","-","-","-",null,null,null,null,null,null,70,null,null,null,72,null,null,null,72]
["TIME BEFORE REDUCTION",null,"*(SEC.)","-","-","-","-","-","-","-","-",null,null,null,null,null,null,71,null,null,null,73,null,null,null,73]
["MINIMUM GAP",null,"*(SEC.)","-","-","-","-","-","-","-","-",null,null,null,null,null,null,72,null,null,null,74,null,null,null,74]
["TIME TO REDUCE",null,"*(SEC.)","-","-","-","-","-","-","-","-",null,null,null,null,null,null,73,null,null,null,75,null,null,null,75]
["MAXIMUM GREEN I",null,"(SEC.)","-","-","-","-","-","-","-","-",null,null,null,null,null,null,74,null,null,null,76,null,null,null,76]
["MAXIMUM GREEN II",null,"(SEC.)","-","-","-","-","-","-","-","-",null,null,null,null,null,null,75,null,null,null,77,null,null,null,77]
["YELLOW CHANGE",null,"(SEC.)","-","-","-","-","-","-","-","-",null,null,null,null,null,null,76,null,null,null,78,null,null,null,78]
["ALL RED CLEARANCE",null,"(SEC.)","-","-","-","-","-","-","-","-",null,null,null,null,null,null,77,null,null,null,79,null,null,null,79]
["DELAYED GREEN (LPI) #",null,"(SEC.)","-","-","-","-","-","-","-","-",null,null,null,null,null,null,78,null,null,null,80,null,null,null,80]
["FLASHING YELLOW ARROW DELAY^",null,"(SEC.)","-","-","-","-","-","-","-","-",null,null,null,null,null,null,79,null,null,null,81,null,null,null,81]
["WALK",null,"(SEC.)","-","-","-","-","-","-","-","-",null,null,null,null,null,null,80,null,null,null,82,null,null,null,82]
["PEDESTRIAN CLEARANCE",null,"(SEC.)","-","-","-","-","-","-","-","-",null,null,null,null,null,null,81,null,null,null,83,null,null,null,83]
["RECALL","MAXIMUM","(ON/OFF)","-","-","-","-","-","-","-","-",null,null,null,null,null,null,82,null,null,null,84,null,null,null,84]
[null,"MINIMUM","(ON/OFF)","-","-","-","-","-","-","-","-",null,null,null,null,null,null,83,null,null,null,85,null,null,null,85]
[null,"PEDESTRIAN","(ON/OFF)","-","-","-","-","-","-","-","-",null,null,null,null,null,null,84,null,null,null,86,null,null,null,86]
["MEMORY    ",null,"(ON/OFF)","-","-","-","-","-","-","-","-",null,null,null,null,null,null,85,null,null,null,87,null,null,null,87]
["*VOLUME DENSITY CONTROLS",null,null,null,null,null,null,null,null,null,null,null,null,null,null,null,null,86,null,null,null,88,null,null,null,88]
["# FOR CROSSINGS WITH PEDESTRIAN PUSHBUTTONS, LPI'S (LEADING PEDESTRIAN INTERVALS) MAY BE IMPLEMENTED (3-6 SEC.) IN ACCORDANCE WITH LPI DURATION TIME PER THE ODOT SIGNAL CALCULATIONS - CLEARANCE INTERVALS SPREADSHEET",null,null,null,null,null,null,null,null,null,null,null,null,null,null,null,null,87,null,null,null,89,null,null,null,89]
[null,null,null,null,null,null,null,null,null,null,null,null,null,null,null,null,null,88,null,null,null,90,null,null,null,90]
[]
["^ WHEN IMPLEMENTING FYA, A MINIMUM 3 SEC. DELAY SHALL BE PROGRAMMED PER FYA PHASE. ",null,null,null,null,null,null,null,null,null,null,null,null,null,null,null,null,89,null,null,null,91,null,null,null,91]
[]
["ECONOLITE COORD SETTINGS",null,null,"SIEMENS COORD SETTINGS",null,null,null,null,null,null,null,null,null,null,null,null,null,90,null,null,null,92,null,null,null,92]
["MANUAL PATTERN","-",null,"OPERATION",null,null,null,"-",null,null,null,null,null,null,null,null,null,91,null,null,null,93,null,null,null,93]
["SYSTEM SOURCE","-",null,"MODE (NORMAL)",null,null,null,"-",null,null,null,null,null,null,null,null,null,92,null,null,null,94,null,null,null,94]
["SPLITS IN","-",null,"MAXIMUM",null,null,null,"-",null,null,null,null,null,null,null,null,null,93,null,null,null,95,null,null,null,95]
["TRANSITION","-",null,"CORRECTION",null,null,null,"-",null,null,null,null,null,null,null,null,null,94,null,null,null,96,null,null,null,96]
["DWELL/ADD TIME","-",null,"OFFSET MODE",null,null,null,"-",null,null,null,null,null,null,null,null,null,95,null,null,null,97,null,null,null,97]
["OFFSET REFERENCE","-",null,"FORCE MODE",null,null,null,"-",null,null,null,null,null,null,null,null,null,96,null,null,null,98,null,null,null,98]
["PED RECALL","-",null,"MAX DWELL TIME",null,null,null,"-",null,null,null,null,null,null,null,null,null,97,null,null,null,99,null,null,null,99]
["LOCAL ZERO OVERRIDE","-",null,"YIELD PERIOD",null,null,null,"-",null,null,null,null,null,null,null,null,null,98,null,null,null,100,null,null,null,100]
["RE-SYNC COUNT","-",null,"MANUAL CONTROL: DIAL",null,null,null,"-",null,null,null,null,null,null,null,null,null,99,null,null,null,101,null,null,null,101]
["ECPI COORD","-",null,"MANUAL CONTROL: SPLIT",null,null,null,"-",null,null,null,null,null,null,null,null,null,100,null,null,null,102,null,null,null,102]
["SYSTEM FORMAT ","-",null,"MANUAL CONTROL: OFFSET",null,null,null,"-",null,null,null,null,null,null,null,null,null,101,null,null,null,103,null,null,null,103]
["OFFSET IN","-",null,null,null,null,null,null,null,null,null,null,null,null,null,null,null,102,null,null,null,104,null,null,null,104]
["MAX SELECT","-",null,null,null,null,null,null,null,null,null,null,null,null,null,null,null,103,null,null,null,105,null,null,null,105]
["FORCE OFF","-",null,null,null,null,null,null,null,null,null,null,null,null,null,null,null,104,null,null,null,106,null,null,null,106]
["USE PED TIME","-",null,null,null,null,null,null,null,null,null,null,null,null,null,null,null,105,null,null,null,107,null,null,null,107]
["PED RESERVICE","-",null,null,null,null,null,null,null,null,null,null,null,null,null,null,null,106,null,null,null,108,null,null,null,108]
["FO ADD INI GRN","-",null,null,null,null,null,null,null,null,null,null,null,null,null,null,null,107,null,null,null,109,null,null,null,109]
["MULTISYNC","-",null,null,null,null,null,null,null,null,null,null,null,null,null,null,null,108,null,null,null,110,null,null,null,110]
[null,null,null,null,null,null,null,null,null,null,null,null,null,null,null,null,null,109,null,null,null,111,null,null,null,111]
[{"$f":"'Project Name'!$C$2","v":0},null,null,null,null,null,null,null,null,null,null,null,null,null,null,null,null,110,null,null,null,112,null,null,null,112]
["Existing Local Controller Data",null,null,null,null,null,null,null,null,null,null,null,null,null,null,null,null,111,null,null,null,113,null,null,null,113]
[null,null,null,null,null,null,null,null,null,null,null,null,null,null,null,null,null,112,null,null,null,114,null,null,null,114]
["INTERSECTION:",null,null,null,null,null,null,null,null,null,null,null,null,null,null,null,null,113,null,null,null,115,null,null,null,115]
["MAINTAINING AGENCY:",null,null,null,null,null,null,null,null,null,null,null,null,null,null,null,null,114,null,null,null,116,null,null,null,116]
["START UP",null,null,"DUAL ENTRY: ",null,"-","PHASES:",null,"-",null,null,null,null,null,null,null,null,115,null,null,null,117,null,null,null,117]
[null,null,null,"REST IN RED: ",null,null,"RING 1","-",null,"RING 2","-",null,null,null,null,null,null,116,null,null,null,118,null,null,null,118]
["START IN: ","-",null,"OVERLAP",null,null,null,"A","B","C","D",null,null,null,null,null,null,117,null,null,null,119,null,null,null,119]
["TIME FOR FLASH / ALL RED (SEC.):   ",null,"9, 6",null,null,null,null,null,null,null,null,null,null,null,null,null,null,118,null,null,null,120,null,null,null,120]
["FIRST PHASE(S):","-",null,"PHASES",null,null,null,"-","-","-","-",null,null,null,null,null,null,119,null,null,null,121,null,null,null,121]
["COLOR DISPLAYED:","-",null,null,null,null,null,null,null,null,null,null,null,null,null,null,null,120,null,null,null,122,null,null,null,122]
[null,null,null,null,null,null,null,null,null,null,null,null,null,null,null,null,null,null,null,null,null,123,null,null,null,123]
["INTERVAL OR FEATURE",null,null,"CONTROLLER MOVEMENT NO.",null,null,null,null,null,null,null,null,null,null,null,null,null,null,null,null,null,124,null,null,null,124]
["INTERSECTION MOVEMENT (PHASE)",null,null,1,2,3,4,5,6,7,8,null,null,null,null,null,null,null,null,null,null,125,null,null,null,125]
["DIRECTION",null,null,"-","-","-","-","-","-","-","-",null,null,null,null,null,null,null,null,null,null,126,null,null,null,126]
["MINIMUM GREEN (INITIAL) ",null,"(SEC.)","-","-","-","-","-","-","-","-",null,null,null,null,null,null,null,null,null,null,127,null,null,null,127]
["ADDED INITIAL","*(SEC./ACTUATION)",null,"-","-","-","-","-","-","-","-",null,null,null,null,null,null,null,null,null,null,128,null,null,null,128]
["MAXIMUM INITIAL",null,"*(SEC.)","-","-","-","-","-","-","-","-",null,null,null,null,null,null,null,null,null,null,129,null,null,null,129]
["PASSAGE TIME (PRESET GAP)",null,"(SEC.)","-","-","-","-","-","-","-","-",null,null,null,null,null,null,null,null,null,null,130,null,null,null,130]
["TIME BEFORE REDUCTION",null,"*(SEC.)","-","-","-","-","-","-","-","-",null,null,null,null,null,null,null,null,null,null,131,null,null,null,131]
["MINIMUM GAP",null,"*(SEC.)","-","-","-","-","-","-","-","-",null,null,null,null,null,null,null,null,null,null,132,null,null,null,132]
["TIME TO REDUCE",null,"*(SEC.)","-","-","-","-","-","-","-","-",null,null,null,null,null,null,null,null,null,null,133,null,null,null,133]
["MAXIMUM GREEN I",null,"(SEC.)","-","-","-","-","-","-","-","-",null,null,null,null,null,null,null,null,null,null,134,null,null,null,134]
["MAXIMUM GREEN II",null,"(SEC.)","-","-","-","-","-","-","-","-",null,null,null,null,null,null,null,null,null,null,135,null,null,null,135]
["YELLOW CHANGE",null,"(SEC.)","-","-","-","-","-","-","-","-",null,null,null,null,null,null,null,null,null,null,136,null,null,null,136]
["ALL RED CLEARANCE",null,"(SEC.)","-","-","-","-","-","-","-","-",null,null,null,null,null,null,null,null,null,null,137,null,null,null,137]
["DELAYED GREEN (LPI) #",null,"(SEC.)","-","-","-","-","-","-","-","-",null,null,null,null,null,null,null,null,null,null,138,null,null,null,138]
["FLASHING YELLOW ARROW DELAY^",null,"(SEC.)","-","-","-","-","-","-","-","-",null,null,null,null,null,null,null,null,null,null,139,null,null,null,139]
["WALK",null,"(SEC.)","-","-","-","-","-","-","-","-",null,null,null,null,null,null,null,null,null,null,140,null,null,null,140]
["PEDESTRIAN CLEARANCE",null,"(SEC.)","-","-","-","-","-","-","-","-",null,null,null,null,null,null,null,null,null,null,141,null,null,null,141]
["RECALL","MAXIMUM","(ON/OFF)","-","-","-","-","-","-","-","-",null,null,null,null,null,null,null,null,null,null,142,null,null,null,142]
[null,"MINIMUM","(ON/OFF)","-","-","-","-","-","-","-","-",null,null,null,null,null,null,null,null,null,null,143,null,null,null,143]
[null,"PEDESTRIAN","(ON/OFF)","-","-","-","-","-","-","-","-",null,null,null,null,null,null,null,null,null,null,144,null,null,null,144]
["MEMORY    ",null,"(ON/OFF)","-","-","-","-","-","-","-","-",null,null,null,null,null,null,null,null,null,null,145,null,null,null,145]
["*VOLUME DENSITY CONTROLS",null,null,null,null,null,null,null,null,null,null,null,null,null,null,null,null,null,null,null,null,146,null,null,null,146]
["# FOR CROSSINGS WITH PEDESTRIAN PUSHBUTTONS, LPI'S (LEADING PEDESTRIAN INTERVALS) MAY BE IMPLEMENTED (3-6 SEC.) IN ACCORDANCE WITH LPI DURATION TIME PER THE ODOT SIGNAL CALCULATIONS - CLEARANCE INTERVALS SPREADSHEET",null,null,null,null,null,null,null,null,null,null,null,null,null,null,null,null,null,null,null,null,147,null,null,null,147]
[null,null,null,null,null,null,null,null,null,null,null,null,null,null,null,null,null,null,null,null,null,148,null,null,null,148]
[null,null,null,null,null,null,null,null,null,null,null,null,null,null,null,null,null,null,null,null,null,149,null,null,null,149]
["^ WHEN IMPLEMENTING FYA, A MINIMUM 3 SEC. DELAY SHALL BE PROGRAMMED PER FYA PHASE. ",null,null,null,null,null,null,null,null,null,null,null,null,null,null,null,null,null,null,null,null,150,null,null,null,150]
[null,null,null,null,null,null,null,null,null,null,null,null,null,null,null,null,null,null,null,null,null,151,null,null,null,151]
["ECONOLITE COORD SETTINGS",null,null,"SIEMENS COORD SETTINGS",null,null,null,null,null,null,null,null,null,null,null,null,null,null,null,null,null,152,null,null,null,152]
["MANUAL PATTERN","-",null,"OPERATION",null,null,null,"-",null,null,null,null,null,null,null,null,null,null,null,null,null,153,null,null,null,153]
["SYSTEM SOURCE","-",null,"MODE (NORMAL)",null,null,null,"-",null,null,null,null,null,null,null,null,null,null,null,null,null,154,null,null,null,154]
["SPLITS IN","-",null,"MAXIMUM",null,null,null,"-",null,null,null,null,null,null,null,null,null,null,null,null,null,155,null,null,null,155]
["TRANSITION","-",null,"CORRECTION",null,null,null,"-",null,null,null,null,null,null,null,null,null,null,null,null,null,156,null,null,null,156]
["DWELL/ADD TIME","-",null,"OFFSET MODE",null,null,null,"-",null,null,null,null,null,null,null,null,null,null,null,null,null,157,null,null,null,157]
["OFFSET REFERENCE","-",null,"FORCE MODE",null,null,null,"-",null,null,null,null,null,null,null,null,null,null,null,null,null,158,null,null,null,158]
["PED RECALL","-",null,"MAX DWELL TIME",null,null,null,"-",null,null,null,null,null,null,null,null,null,null,null,null,null,159,null,null,null,159]
["LOCAL ZERO OVERRIDE","-",null,"YIELD PERIOD",null,null,null,"-",null,null,null,null,null,null,null,null,null,null,null,null,null,160,null,null,null,160]
["RE-SYNC COUNT","-",null,"MANUAL CONTROL: DIAL",null,null,null,"-",null,null,null,null,null,null,null,null,null,null,null,null,null,161,null,null,null,161]
["ECPI COORD","-",null,"MANUAL CONTROL: SPLIT",null,null,null,"-",null,null,null,null,null,null,null,null,null,null,null,null,null,162,null,null,null,162]
["SYSTEM FORMAT ","-",null,"MANUAL CONTROL: OFFSET",null,null,null,"-",null,null,null,null,null,null,null,null,null,null,null,null,null,163,null,null,null,163]
["OFFSET IN","-",null,null,null,null,null,null,null,null,null,null,null,null,null,null,null,null,null,null,null,164,null,null,null,164]
["MAX SELECT","-",null,null,null,null,null,null,null,null,null,null,null,null,null,null,null,null,null,null,null,165,null,null,null,165]
["FORCE OFF","-",null,null,null,null,null,null,null,null,null,null,null,null,null,null,null,null,null,null,null,166,null,null,null,166]
["USE PED TIME","-",null,null,null,null,null,null,null,null,null,null,null,null,null,null,null,null,null,null,null,167,null,null,null,167]
["PED RESERVICE","-",null,null,null,null,null,null,null,null,null,null,null,null,null,null,null,null,null,null,null,168,null,null,null,168]
["FO ADD INI GRN","-",null,null,null,null,null,null,null,null,null,null,null,null,null,null,null,null,null,null,null,169,null,null,null,169]
["MULTISYNC","-",null,null,null,null,null,null,null,null,null,null,null,null,null,null,null,null,null,null,null,170,null,null,null,170]
[null,null,null,null,null,null,null,null,null,null,null,null,null,null,null,null,null,null,null,null,null,171,null,null,null,171]
[{"$f":"'Project Name'!$C$2","v":0},null,null,null,null,null,null,null,null,null,null,null,null,null,null,null,null,null,null,null,null,172,null,null,null,172]
["Existing Local Controller Data",null,null,null,null,null,null,null,null,null,null,null,null,null,null,null,null,null,null,null,null,173,null,null,null,173]
[null,null,null,null,null,null,null,null,null,null,null,null,null,null,null,null,null,null,null,null,null,174,null,null,null,174]
["INTERSECTION:",null,null,null,null,null,null,null,null,null,null,null,null,null,null,null,null,null,null,null,null,175,null,null,null,175]
["MAINTAINING AGENCY:",null,null,null,null,null,null,null,null,null,null,null,null,null,null,null,null,null,null,null,null,176,null,null,null,176]
["START UP",null,null,"DUAL ENTRY: ",null,"-","PHASES:",null,"-",null,null,null,null,null,null,null,null,null,null,null,null,177,null,null,null,177]
[null,null,null,"REST IN RED: ",null,null,"RING 1","-",null,"RING 2","-",null,null,null,null,null,null,null,null,null,null,178,null,null,null,178]
["START IN: ","-",null,"OVERLAP",null,null,null,"A","B","C","D",null,null,null,null,null,null,null,null,null,null,179,null,null,null,179]
["TIME FOR FLASH / ALL RED (SEC.):   ",null,"9, 6",null,null,null,null,null,null,null,null,null,null,null,null,null,null,null,null,null,null,180,null,null,null,180]
["FIRST PHASE(S):","-",null,"PHASES",null,null,null,"-","-","-","-",null,null,null,null,null,null,null,null,null,null,181,null,null,null,181]
["COLOR DISPLAYED:","-",null,null,null,null,null,null,null,null,null,null,null,null,null,null,null,null,null,null,null,182,null,null,null,182]
[null,null,null,null,null,null,null,null,null,null,null,null,null,null,null,null,null,null,null,null,null,183,null,null,null,183]
["INTERVAL OR FEATURE",null,null,"CONTROLLER MOVEMENT NO.",null,null,null,null,null,null,null,null,null,null,null,null,null,null,null,null,null,184,null,null,null,184]
["INTERSECTION MOVEMENT (PHASE)",null,null,1,2,3,4,5,6,7,8,null,null,null,null,null,null,null,null,null,null,185,null,null,null,185]
["DIRECTION",null,null,"-","-","-","-","-","-","-","-",null,null,null,null,null,null,null,null,null,null,186,null,null,null,186]
["MINIMUM GREEN (INITIAL) ",null,"(SEC.)","-","-","-","-","-","-","-","-",null,null,null,null,null,null,null,null,null,null,187,null,null,null,187]
["ADDED INITIAL","*(SEC./ACTUATION)",null,"-","-","-","-","-","-","-","-",null,null,null,null,null,null,null,null,null,null,188,null,null,null,188]
["MAXIMUM INITIAL",null,"*(SEC.)","-","-","-","-","-","-","-","-",null,null,null,null,null,null,null,null,null,null,189,null,null,null,189]
["PASSAGE TIME (PRESET GAP)",null,"(SEC.)","-","-","-","-","-","-","-","-",null,null,null,null,null,null,null,null,null,null,190,null,null,null,190]
["TIME BEFORE REDUCTION",null,"*(SEC.)","-","-","-","-","-","-","-","-",null,null,null,null,null,null,null,null,null,null,191,null,null,null,191]
["MINIMUM GAP",null,"*(SEC.)","-","-","-","-","-","-","-","-",null,null,null,null,null,null,null,null,null,null,192,null,null,null,192]
["TIME TO REDUCE",null,"*(SEC.)","-","-","-","-","-","-","-","-",null,null,null,null,null,null,null,null,null,null,193,null,null,null,193]
["MAXIMUM GREEN I",null,"(SEC.)","-","-","-","-","-","-","-","-",null,null,null,null,null,null,null,null,null,null,194,null,null,null,194]
["MAXIMUM GREEN II",null,"(SEC.)","-","-","-","-","-","-","-","-",null,null,null,null,null,null,null,null,null,null,195,null,null,null,195]
["YELLOW CHANGE",null,"(SEC.)","-","-","-","-","-","-","-","-",null,null,null,null,null,null,null,null,null,null,196,null,null,null,196]
["ALL RED CLEARANCE",null,"(SEC.)","-","-","-","-","-","-","-","-",null,null,null,null,null,null,null,null,null,null,197,null,null,null,197]
["DELAYED GREEN (LPI) #",null,"(SEC.)","-","-","-","-","-","-","-","-",null,null,null,null,null,null,null,null,null,null,198,null,null,null,198]
["FLASHING YELLOW ARROW DELAY^",null,"(SEC.)","-","-","-","-","-","-","-","-",null,null,null,null,null,null,null,null,null,null,199,null,null,null,199]
["WALK",null,"(SEC.)","-","-","-","-","-","-","-","-",null,null,null,null,null,null,null,null,null,null,200,null,null,null,200]
["PEDESTRIAN CLEARANCE",null,"(SEC.)","-","-","-","-","-","-","-","-",null,null,null,null,null,null,null,null,null,null,201,null,null,null,201]
["RECALL","MAXIMUM","(ON/OFF)","-","-","-","-","-","-","-","-",null,null,null,null,null,null,null,null,null,null,202,null,null,null,202]
[null,"MINIMUM","(ON/OFF)","-","-","-","-","-","-","-","-",null,null,null,null,null,null,null,null,null,null,203,null,null,null,203]
[null,"PEDESTRIAN","(ON/OFF)","-","-","-","-","-","-","-","-",null,null,null,null,null,null,null,null,null,null,204,null,null,null,204]
["MEMORY    ",null,"(ON/OFF)","-","-","-","-","-","-","-","-",null,null,null,null,null,null,null,null,null,null,205,null,null,null,205]
["*VOLUME DENSITY CONTROLS",null,null,null,null,null,null,null,null,null,null,null,null,null,null,null,null,null,null,null,null,206,null,null,null,206]
["# FOR CROSSINGS WITH PEDESTRIAN PUSHBUTTONS, LPI'S (LEADING PEDESTRIAN INTERVALS) MAY BE IMPLEMENTED (3-6 SEC.) IN ACCORDANCE WITH LPI DURATION TIME PER THE ODOT SIGNAL CALCULATIONS - CLEARANCE INTERVALS SPREADSHEET",null,null,null,null,null,null,null,null,null,null,null,null,null,null,null,null,null,null,null,null,207,null,null,null,207]
[null,null,null,null,null,null,null,null,null,null,null,null,null,null,null,null,null,null,null,null,null,208,null,null,null,208]
[null,null,null,null,null,null,null,null,null,null,null,null,null,null,null,null,null,null,null,null,null,209,null,null,null,209]
["^ WHEN IMPLEMENTING FYA, A MINIMUM 3 SEC. DELAY SHALL BE PROGRAMMED PER FYA PHASE. ",null,null,null,null,null,null,null,null,null,null,null,null,null,null,null,null,null,null,null,null,210,null,null,null,210]
[null,null,null,null,null,null,null,null,null,null,null,null,null,null,null,null,null,null,null,null,null,211,null,null,null,211]
["ECONOLITE COORD SETTINGS",null,null,"SIEMENS COORD SETTINGS",null,null,null,null,null,null,null,null,null,null,null,null,null,null,null,null,null,212,null,null,null,212]
["MANUAL PATTERN","-",null,"OPERATION",null,null,null,"-",null,null,null,null,null,null,null,null,null,null,null,null,null,213,null,null,null,213]
["SYSTEM SOURCE","-",null,"MODE (NORMAL)",null,null,null,"-",null,null,null,null,null,null,null,null,null,null,null,null,null,214,null,null,null,214]
["SPLITS IN","-",null,"MAXIMUM",null,null,null,"-",null,null,null,null,null,null,null,null,null,null,null,null,null,215,null,null,null,215]
["TRANSITION","-",null,"CORRECTION",null,null,null,"-",null,null,null,null,null,null,null,null,null,null,null,null,null,216,null,null,null,216]
["DWELL/ADD TIME","-",null,"OFFSET MODE",null,null,null,"-",null,null,null,null,null,null,null,null,null,null,null,null,null,217,null,null,null,217]
["OFFSET REFERENCE","-",null,"FORCE MODE",null,null,null,"-",null,null,null,null,null,null,null,null,null,null,null,null,null,218,null,null,null,218]
["PED RECALL","-",null,"MAX DWELL TIME",null,null,null,"-",null,null,null,null,null,null,null,null,null,null,null,null,null,219,null,null,null,219]
["LOCAL ZERO OVERRIDE","-",null,"YIELD PERIOD",null,null,null,"-",null,null,null,null,null,null,null,null,null,null,null,null,null,220,null,null,null,220]
["RE-SYNC COUNT","-",null,"MANUAL CONTROL: DIAL",null,null,null,"-",null,null,null,null,null,null,null,null,null,null,null,null,null,221,null,null,null,221]
["ECPI COORD","-",null,"MANUAL CONTROL: SPLIT",null,null,null,"-",null,null,null,null,null,null,null,null,null,null,null,null,null,222,null,null,null,222]
["SYSTEM FORMAT ","-",null,"MANUAL CONTROL: OFFSET",null,null,null,"-",null,null,null,null,null,null,null,null,null,null,null,null,null,223,null,null,null,223]
["OFFSET IN","-",null,null,null,null,null,null,null,null,null,null,null,null,null,null,null,null,null,null,null,224,null,null,null,224]
["MAX SELECT","-",null,null,null,null,null,null,null,null,null,null,null,null,null,null,null,null,null,null,null,225,null,null,null,225]
["FORCE OFF","-",null,null,null,null,null,null,null,null,null,null,null,null,null,null,null,null,null,null,null,226,null,null,null,226]
["USE PED TIME","-",null,null,null,null,null,null,null,null,null,null,null,null,null,null,null,null,null,null,null,227,null,null,null,227]
["PED RESERVICE","-",null,null,null,null,null,null,null,null,null,null,null,null,null,null,null,null,null,null,null,228,null,null,null,228]
["FO ADD INI GRN","-",null,null,null,null,null,null,null,null,null,null,null,null,null,null,null,null,null,null,null,229,null,null,null,229]
["MULTISYNC","-",null,null,null,null,null,null,null,null,null,null,null,null,null,null,null,null,null,null,null,230,null,null,null,230]
[null,null,null,null,null,null,null,null,null,null,null,null,null,null,null,null,null,null,null,null,null,231,null,null,null,231]
[{"$f":"'Project Name'!$C$2","v":0},null,null,null,null,null,null,null,null,null,null,null,null,null,null,null,null,null,null,null,null,232,null,null,null,232]
["Existing Local Controller Data",null,null,null,null,null,null,null,null,null,null,null,null,null,null,null,null,null,null,null,null,233,null,null,null,233]
[null,null,null,null,null,null,null,null,null,null,null,null,null,null,null,null,null,null,null,null,null,234,null,null,null,234]
["INTERSECTION:",null,null,null,null,null,null,null,null,null,null,null,null,null,null,null,null,null,null,null,null,235,null,null,null,235]
["MAINTAINING AGENCY:",null,null,null,null,null,null,null,null,null,null,null,null,null,null,null,null,null,null,null,null,236,null,null,null,236]
["START UP",null,null,"DUAL ENTRY: ",null,"-","PHASES:",null,"-",null,null,null,null,null,null,null,null,null,null,null,null,237,null,null,null,237]
[null,null,null,"REST IN RED: ",null,null,"RING 1","-",null,"RING 2","-",null,null,null,null,null,null,null,null,null,null,238,null,null,null,238]
["START IN: ","-",null,"OVERLAP",null,null,null,"A","B","C","D",null,null,null,null,null,null,null,null,null,null,239,null,null,null,239]
["TIME FOR FLASH / ALL RED (SEC.):   ",null,"9, 6",null,null,null,null,null,null,null,null,null,null,null,null,null,null,null,null,null,null,240,null,null,null,240]
["FIRST PHASE(S):","-",null,"PHASES",null,null,null,"-","-","-","-",null,null,null,null,null,null,null,null,null,null,241,null,null,null,241]
["COLOR DISPLAYED:","-",null,null,null,null,null,null,null,null,null,null,null,null,null,null,null,null,null,null,null,242,null,null,null,242]
[null,null,null,null,null,null,null,null,null,null,null,null,null,null,null,null,null,null,null,null,null,243,null,null,null,243]
["INTERVAL OR FEATURE",null,null,"CONTROLLER MOVEMENT NO.",null,null,null,null,null,null,null,null,null,null,null,null,null,null,null,null,null,244,null,null,null,244]
["INTERSECTION MOVEMENT (PHASE)",null,null,1,2,3,4,5,6,7,8,null,null,null,null,null,null,null,null,null,null,245,null,null,null,245]
["DIRECTION",null,null,"-","-","-","-","-","-","-","-",null,null,null,null,null,null,null,null,null,null,246,null,null,null,246]
["MINIMUM GREEN (INITIAL) ",null,"(SEC.)","-","-","-","-","-","-","-","-",null,null,null,null,null,null,null,null,null,null,247,null,null,null,247]
["ADDED INITIAL","*(SEC./ACTUATION)",null,"-","-","-","-","-","-","-","-",null,null,null,null,null,null,null,null,null,null,248,null,null,null,248]
["MAXIMUM INITIAL",null,"*(SEC.)","-","-","-","-","-","-","-","-",null,null,null,null,null,null,null,null,null,null,249,null,null,null,249]
["PASSAGE TIME (PRESET GAP)",null,"(SEC.)","-","-","-","-","-","-","-","-",null,null,null,null,null,null,null,null,null,null,250,null,null,null,250]
["TIME BEFORE REDUCTION",null,"*(SEC.)","-","-","-","-","-","-","-","-",null,null,null,null,null,null,null,null,null,null,251,null,null,null,251]
["MINIMUM GAP",null,"*(SEC.)","-","-","-","-","-","-","-","-",null,null,null,null,null,null,null,null,null,null,252,null,null,null,252]
["TIME TO REDUCE",null,"*(SEC.)","-","-","-","-","-","-","-","-",null,null,null,null,null,null,null,null,null,null,253,null,null,null,253]
["MAXIMUM GREEN I",null,"(SEC.)","-","-","-","-","-","-","-","-",null,null,null,null,null,null,null,null,null,null,254,null,null,null,254]
["MAXIMUM GREEN II",null,"(SEC.)","-","-","-","-","-","-","-","-",null,null,null,null,null,null,null,null,null,null,255,null,null,null,255]
["YELLOW CHANGE",null,"(SEC.)","-","-","-","-","-","-","-","-"]
["ALL RED CLEARANCE",null,"(SEC.)","-","-","-","-","-","-","-","-"]
["DELAYED GREEN (LPI) #",null,"(SEC.)","-","-","-","-","-","-","-","-"]
["FLASHING YELLOW ARROW DELAY^",null,"(SEC.)","-","-","-","-","-","-","-","-"]
["WALK",null,"(SEC.)","-","-","-","-","-","-","-","-"]
["PEDESTRIAN CLEARANCE",null,"(SEC.)","-","-","-","-","-","-","-","-"]
["RECALL","MAXIMUM","(ON/OFF)","-","-","-","-","-","-","-","-"]
[null,"MINIMUM","(ON/OFF)","-","-","-","-","-","-","-","-"]
[null,"PEDESTRIAN","(ON/OFF)","-","-","-","-","-","-","-","-"]
["MEMORY    ",null,"(ON/OFF)","-","-","-","-","-","-","-","-"]
["*VOLUME DENSITY CONTROLS"]
["# FOR CROSSINGS WITH PEDESTRIAN PUSHBUTTONS, LPI'S (LEADING PEDESTRIAN INTERVALS) MAY BE IMPLEMENTED (3-6 SEC.) IN ACCORDANCE WITH LPI DURATION TIME PER THE ODOT SIGNAL CALCULATIONS - CLEARANCE INTERVALS SPREADSHEET"]
[]
[]
["^ WHEN IMPLEMENTING FYA, A MINIMUM 3 SEC. DELAY SHALL BE PROGRAMMED PER FYA PHASE. "]
[]
["ECONOLITE COORD SETTINGS",null,null,"SIEMENS COORD SETTINGS"]
["MANUAL PATTERN","-",null,"OPERATION",null,null,null,"-"]
["SYSTEM SOURCE","-",null,"MODE (NORMAL)",null,null,null,"-"]
["SPLITS IN","-",null,"MAXIMUM",null,null,null,"-"]
["TRANSITION","-",null,"CORRECTION",null,null,null,"-"]
["DWELL/ADD TIME","-",null,"OFFSET MODE",null,null,null,"-"]
["OFFSET REFERENCE","-",null,"FORCE MODE",null,null,null,"-"]
["PED RECALL","-",null,"MAX DWELL TIME",null,null,null,"-"]
["LOCAL ZERO OVERRIDE","-",null,"YIELD PERIOD",null,null,null,"-"]
["RE-SYNC COUNT","-",null,"MANUAL CONTROL: DIAL",null,null,null,"-"]
["ECPI COORD","-",null,"MANUAL CONTROL: SPLIT",null,null,null,"-"]
["SYSTEM FORMAT ","-",null,"MANUAL CONTROL: OFFSET",null,null,null,"-"]
["OFFSET IN","-"]
["MAX SELECT","-"]
["FORCE OFF","-"]
["USE PED TIME","-"]
["PED RESERVICE","-"]
["FO ADD INI GRN","-"]
["MULTISYNC","-"]
[]
[{"$f":"'Project Name'!$C$2","v":0}]
["Existing Local Controller Data"]
[]
["INTERSECTION:"]
["MAINTAINING AGENCY:"]
["START UP",null,null,"DUAL ENTRY: ",null,"-","PHASES:",null,"-"]
[null,null,null,"REST IN RED: ",null,null,"RING 1","-",null,"RING 2","-"]
["START IN: ","-",null,"OVERLAP",null,null,null,"A","B","C","D"]
["TIME FOR FLASH / ALL RED (SEC.):   ",null,"9, 6"]
["FIRST PHASE(S):","-",null,"PHASES",null,null,null,"-","-","-","-"]
["COLOR DISPLAYED:","-"]
[]
["INTERVAL OR FEATURE",null,null,"CONTROLLER MOVEMENT NO."]
["INTERSECTION MOVEMENT (PHASE)",null,null,1,2,3,4,5,6,7,8]
["DIRECTION",null,null,"-","-","-","-","-","-","-","-"]
["MINIMUM GREEN (INITIAL) ",null,"(SEC.)","-","-","-","-","-","-","-","-"]
["ADDED INITIAL","*(SEC./ACTUATION)",null,"-","-","-","-","-","-","-","-"]
["MAXIMUM INITIAL",null,"*(SEC.)","-","-","-","-","-","-","-","-"]
["PASSAGE TIME (PRESET GAP)",null,"(SEC.)","-","-","-","-","-","-","-","-"]
["TIME BEFORE REDUCTION",null,"*(SEC.)","-","-","-","-","-","-","-","-"]
["MINIMUM GAP",null,"*(SEC.)","-","-","-","-","-","-","-","-"]
["TIME TO REDUCE",null,"*(SEC.)","-","-","-","-","-","-","-","-"]
["MAXIMUM GREEN I",null,"(SEC.)","-","-","-","-","-","-","-","-"]
["MAXIMUM GREEN II",null,"(SEC.)","-","-","-","-","-","-","-","-"]
["YELLOW CHANGE",null,"(SEC.)","-","-","-","-","-","-","-","-"]
["ALL RED CLEARANCE",null,"(SEC.)","-","-","-","-","-","-","-","-"]
["DELAYED GREEN (LPI) #",null,"(SEC.)","-","-","-","-","-","-","-","-"]
["FLASHING YELLOW ARROW DELAY^",null,"(SEC.)","-","-","-","-","-","-","-","-"]
["WALK",null,"(SEC.)","-","-","-","-","-","-","-","-"]
["PEDESTRIAN CLEARANCE",null,"(SEC.)","-","-","-","-","-","-","-","-"]
["RECALL","MAXIMUM","(ON/OFF)","-","-","-","-","-","-","-","-"]
[null,"MINIMUM","(ON/OFF)","-","-","-","-","-","-","-","-"]
[null,"PEDESTRIAN","(ON/OFF)","-","-","-","-","-","-","-","-"]
["MEMORY    ",null,"(ON/OFF)","-","-","-","-","-","-","-","-"]
["*VOLUME DENSITY CONTROLS"]
["# FOR CROSSINGS WITH PEDESTRIAN PUSHBUTTONS, LPI'S (LEADING PEDESTRIAN INTERVALS) MAY BE IMPLEMENTED (3-6 SEC.) IN ACCORDANCE WITH LPI DURATION TIME PER THE ODOT SIGNAL CALCULATIONS - CLEARANCE INTERVALS SPREADSHEET"]
[]
[]
["^ WHEN IMPLEMENTING FYA, A MINIMUM 3 SEC. DELAY SHALL BE PROGRAMMED PER FYA PHASE. "]
[]
["ECONOLITE COORD SETTINGS",null,null,"SIEMENS COORD SETTINGS"]
["MANUAL PATTERN","-",null,"OPERATION",null,null,null,"-"]
["SYSTEM SOURCE","-",null,"MODE (NORMAL)",null,null,null,"-"]
["SPLITS IN","-",null,"MAXIMUM",null,null,null,"-"]
["TRANSITION","-",null,"CORRECTION",null,null,null,"-"]
["DWELL/ADD TIME","-",null,"OFFSET MODE",null,null,null,"-"]
["OFFSET REFERENCE","-",null,"FORCE MODE",null,null,null,"-"]
["PED RECALL","-",null,"MAX DWELL TIME",null,null,null,"-"]
["LOCAL ZERO OVERRIDE","-",null,"YIELD PERIOD",null,null,null,"-"]
["RE-SYNC COUNT","-",null,"MANUAL CONTROL: DIAL",null,null,null,"-"]
["ECPI COORD","-",null,"MANUAL CONTROL: SPLIT",null,null,null,"-"]
["SYSTEM FORMAT ","-",null,"MANUAL CONTROL: OFFSET",null,null,null,"-"]
["OFFSET IN","-"]
["MAX SELECT","-"]
["FORCE OFF","-"]
["USE PED TIME","-"]
["PED RESERVICE","-"]
["FO ADD INI GRN","-"]
["MULTISYNC","-"]
[]
[{"$f":"'Project Name'!$C$2","v":0}]
["Existing Local Controller Data"]
[]
["INTERSECTION:"]
["MAINTAINING AGENCY:"]
["START UP",null,null,"DUAL ENTRY: ",null,"-","PHASES:",null,"-"]
[null,null,null,"REST IN RED: ",null,null,"RING 1","-",null,"RING 2","-"]
["START IN: ","-",null,"OVERLAP",null,null,null,"A","B","C","D"]
["TIME FOR FLASH / ALL RED (SEC.):   ",null,"9, 6"]
["FIRST PHASE(S):","-",null,"PHASES",null,null,null,"-","-","-","-"]
["COLOR DISPLAYED:","-"]
[]
["INTERVAL OR FEATURE",null,null,"CONTROLLER MOVEMENT NO."]
["INTERSECTION MOVEMENT (PHASE)",null,null,1,2,3,4,5,6,7,8]
["DIRECTION",null,null,"-","-","-","-","-","-","-","-"]
["MINIMUM GREEN (INITIAL) ",null,"(SEC.)","-","-","-","-","-","-","-","-"]
["ADDED INITIAL","*(SEC./ACTUATION)",null,"-","-","-","-","-","-","-","-"]
["MAXIMUM INITIAL",null,"*(SEC.)","-","-","-","-","-","-","-","-"]
["PASSAGE TIME (PRESET GAP)",null,"(SEC.)","-","-","-","-","-","-","-","-"]
["TIME BEFORE REDUCTION",null,"*(SEC.)","-","-","-","-","-","-","-","-"]
["MINIMUM GAP",null,"*(SEC.)","-","-","-","-","-","-","-","-"]
["TIME TO REDUCE",null,"*(SEC.)","-","-","-","-","-","-","-","-"]
["MAXIMUM GREEN I",null,"(SEC.)","-","-","-","-","-","-","-","-"]
["MAXIMUM GREEN II",null,"(SEC.)","-","-","-","-","-","-","-","-"]
["YELLOW CHANGE",null,"(SEC.)","-","-","-","-","-","-","-","-"]
["ALL RED CLEARANCE",null,"(SEC.)","-","-","-","-","-","-","-","-"]
["DELAYED GREEN (LPI) #",null,"(SEC.)","-","-","-","-","-","-","-","-"]
["FLASHING YELLOW ARROW DELAY^",null,"(SEC.)","-","-","-","-","-","-","-","-"]
["WALK",null,"(SEC.)","-","-","-","-","-","-","-","-"]
["PEDESTRIAN CLEARANCE",null,"(SEC.)","-","-","-","-","-","-","-","-"]
["RECALL","MAXIMUM","(ON/OFF)","-","-","-","-","-","-","-","-"]
[null,"MINIMUM","(ON/OFF)","-","-","-","-","-","-","-","-"]
[null,"PEDESTRIAN","(ON/OFF)","-","-","-","-","-","-","-","-"]
["MEMORY    ",null,"(ON/OFF)","-","-","-","-","-","-","-","-"]
["*VOLUME DENSITY CONTROLS"]
["# FOR CROSSINGS WITH PEDESTRIAN PUSHBUTTONS, LPI'S (LEADING PEDESTRIAN INTERVALS) MAY BE IMPLEMENTED (3-6 SEC.) IN ACCORDANCE WITH LPI DURATION TIME PER THE ODOT SIGNAL CALCULATIONS - CLEARANCE INTERVALS SPREADSHEET"]
[]
[]
["^ WHEN IMPLEMENTING FYA, A MINIMUM 3 SEC. DELAY SHALL BE PROGRAMMED PER FYA PHASE. "]
[]
["ECONOLITE COORD SETTINGS",null,null,"SIEMENS COORD SETTINGS"]
["MANUAL PATTERN","-",null,"OPERATION",null,null,null,"-"]
["SYSTEM SOURCE","-",null,"MODE (NORMAL)",null,null,null,"-"]
["SPLITS IN","-",null,"MAXIMUM",null,null,null,"-"]
["TRANSITION","-",null,"CORRECTION",null,null,null,"-"]
["DWELL/ADD TIME","-",null,"OFFSET MODE",null,null,null,"-"]
["OFFSET REFERENCE","-",null,"FORCE MODE",null,null,null,"-"]
["PED RECALL","-",null,"MAX DWELL TIME",null,null,null,"-"]
["LOCAL ZERO OVERRIDE","-",null,"YIELD PERIOD",null,null,null,"-"]
["RE-SYNC COUNT","-",null,"MANUAL CONTROL: DIAL",null,null,null,"-"]
["ECPI COORD","-",null,"MANUAL CONTROL: SPLIT",null,null,null,"-"]
["SYSTEM FORMAT ","-",null,"MANUAL CONTROL: OFFSET",null,null,null,"-"]
["OFFSET IN","-"]
["MAX SELECT","-"]
["FORCE OFF","-"]
["USE PED TIME","-"]
["PED RESERVICE","-"]
["FO ADD INI GRN","-"]
["MULTISYNC","-"]
[]
[{"$f":"'Project Name'!$C$2","v":0}]
["Existing Local Controller Data"]
[]
["INTERSECTION:"]
["MAINTAINING AGENCY:"]
["START UP",null,null,"DUAL ENTRY: ",null,"-","PHASES:",null,"-"]
[null,null,null,"REST IN RED: ",null,null,"RING 1","-",null,"RING 2","-"]
["START IN: ","-",null,"OVERLAP",null,null,null,"A","B","C","D"]
["TIME FOR FLASH / ALL RED (SEC.):   ",null,"9, 6"]
["FIRST PHASE(S):","-",null,"PHASES",null,null,null,"-","-","-","-"]
["COLOR DISPLAYED:","-"]
[]
["INTERVAL OR FEATURE",null,null,"CONTROLLER MOVEMENT NO."]
["INTERSECTION MOVEMENT (PHASE)",null,null,1,2,3,4,5,6,7,8]
["DIRECTION",null,null,"-","-","-","-","-","-","-","-"]
["MINIMUM GREEN (INITIAL) ",null,"(SEC.)","-","-","-","-","-","-","-","-"]
["ADDED INITIAL","*(SEC./ACTUATION)",null,"-","-","-","-","-","-","-","-"]
["MAXIMUM INITIAL",null,"*(SEC.)","-","-","-","-","-","-","-","-"]
["PASSAGE TIME (PRESET GAP)",null,"(SEC.)","-","-","-","-","-","-","-","-"]
["TIME BEFORE REDUCTION",null,"*(SEC.)","-","-","-","-","-","-","-","-"]
["MINIMUM GAP",null,"*(SEC.)","-","-","-","-","-","-","-","-"]
["TIME TO REDUCE",null,"*(SEC.)","-","-","-","-","-","-","-","-"]
["MAXIMUM GREEN I",null,"(SEC.)","-","-","-","-","-","-","-","-"]
["MAXIMUM GREEN II",null,"(SEC.)","-","-","-","-","-","-","-","-"]
["YELLOW CHANGE",null,"(SEC.)","-","-","-","-","-","-","-","-"]
["ALL RED CLEARANCE",null,"(SEC.)","-","-","-","-","-","-","-","-"]
["DELAYED GREEN (LPI) #",null,"(SEC.)","-","-","-","-","-","-","-","-"]
["FLASHING YELLOW ARROW DELAY^",null,"(SEC.)","-","-","-","-","-","-","-","-"]
["WALK",null,"(SEC.)","-","-","-","-","-","-","-","-"]
["PEDESTRIAN CLEARANCE",null,"(SEC.)","-","-","-","-","-","-","-","-"]
["RECALL","MAXIMUM","(ON/OFF)","-","-","-","-","-","-","-","-"]
[null,"MINIMUM","(ON/OFF)","-","-","-","-","-","-","-","-"]
[null,"PEDESTRIAN","(ON/OFF)","-","-","-","-","-","-","-","-"]
["MEMORY    ",null,"(ON/OFF)","-","-","-","-","-","-","-","-"]
["*VOLUME DENSITY CONTROLS"]
["# FOR CROSSINGS WITH PEDESTRIAN PUSHBUTTONS, LPI'S (LEADING PEDESTRIAN INTERVALS) MAY BE IMPLEMENTED (3-6 SEC.) IN ACCORDANCE WITH LPI DURATION TIME PER THE ODOT SIGNAL CALCULATIONS - CLEARANCE INTERVALS SPREADSHEET"]
[]
[]
["^ WHEN IMPLEMENTING FYA, A MINIMUM 3 SEC. DELAY SHALL BE PROGRAMMED PER FYA PHASE. "]
[]
["ECONOLITE COORD SETTINGS",null,null,"SIEMENS COORD SETTINGS"]
["MANUAL PATTERN","-",null,"OPERATION",null,null,null,"-"]
["SYSTEM SOURCE","-",null,"MODE (NORMAL)",null,null,null,"-"]
["SPLITS IN","-",null,"MAXIMUM",null,null,null,"-"]
["TRANSITION","-",null,"CORRECTION",null,null,null,"-"]
["DWELL/ADD TIME","-",null,"OFFSET MODE",null,null,null,"-"]
["OFFSET REFERENCE","-",null,"FORCE MODE",null,null,null,"-"]
["PED RECALL","-",null,"MAX DWELL TIME",null,null,null,"-"]
["LOCAL ZERO OVERRIDE","-",null,"YIELD PERIOD",null,null,null,"-"]
["RE-SYNC COUNT","-",null,"MANUAL CONTROL: DIAL",null,null,null,"-"]
["ECPI COORD","-",null,"MANUAL CONTROL: SPLIT",null,null,null,"-"]
["SYSTEM FORMAT ","-",null,"MANUAL CONTROL: OFFSET",null,null,null,"-"]
["OFFSET IN","-"]
["MAX SELECT","-"]
["FORCE OFF","-"]
["USE PED TIME","-"]
["PED RESERVICE","-"]
["FO ADD INI GRN","-"]
["MULTISYNC","-"]
[]
[{"$f":"'Project Name'!$C$2","v":0}]
["Existing Local Controller Data"]
[]
["INTERSECTION:"]
["MAINTAINING AGENCY:"]
["START UP",null,null,"DUAL ENTRY: ",null,"-","PHASES:",null,"-"]
[null,null,null,"REST IN RED: ",null,null,"RING 1","-",null,"RING 2","-"]
["START IN: ","-",null,"OVERLAP",null,null,null,"A","B","C","D"]
["TIME FOR FLASH / ALL RED (SEC.):   ",null,"9, 6"]
["FIRST PHASE(S):","-",null,"PHASES",null,null,null,"-","-","-","-"]
["COLOR DISPLAYED:","-"]
[]
["INTERVAL OR FEATURE",null,null,"CONTROLLER MOVEMENT NO."]
["INTERSECTION MOVEMENT (PHASE)",null,null,1,2,3,4,5,6,7,8]
["DIRECTION",null,null,"-","-","-","-","-","-","-","-"]
["MINIMUM GREEN (INITIAL) ",null,"(SEC.)","-","-","-","-","-","-","-","-"]
["ADDED INITIAL","*(SEC./ACTUATION)",null,"-","-","-","-","-","-","-","-"]
["MAXIMUM INITIAL",null,"*(SEC.)","-","-","-","-","-","-","-","-"]
["PASSAGE TIME (PRESET GAP)",null,"(SEC.)","-","-","-","-","-","-","-","-"]
["TIME BEFORE REDUCTION",null,"*(SEC.)","-","-","-","-","-","-","-","-"]
["MINIMUM GAP",null,"*(SEC.)","-","-","-","-","-","-","-","-"]
["TIME TO REDUCE",null,"*(SEC.)","-","-","-","-","-","-","-","-"]
["MAXIMUM GREEN I",null,"(SEC.)","-","-","-","-","-","-","-","-"]
["MAXIMUM GREEN II",null,"(SEC.)","-","-","-","-","-","-","-","-"]
["YELLOW CHANGE",null,"(SEC.)","-","-","-","-","-","-","-","-"]
["ALL RED CLEARANCE",null,"(SEC.)","-","-","-","-","-","-","-","-"]
["DELAYED GREEN (LPI) #",null,"(SEC.)","-","-","-","-","-","-","-","-"]
["FLASHING YELLOW ARROW DELAY^",null,"(SEC.)","-","-","-","-","-","-","-","-"]
["WALK",null,"(SEC.)","-","-","-","-","-","-","-","-"]
["PEDESTRIAN CLEARANCE",null,"(SEC.)","-","-","-","-","-","-","-","-"]
["RECALL","MAXIMUM","(ON/OFF)","-","-","-","-","-","-","-","-"]
[null,"MINIMUM","(ON/OFF)","-","-","-","-","-","-","-","-"]
[null,"PEDESTRIAN","(ON/OFF)","-","-","-","-","-","-","-","-"]
["MEMORY    ",null,"(ON/OFF)","-","-","-","-","-","-","-","-"]
["*VOLUME DENSITY CONTROLS"]
["# FOR CROSSINGS WITH PEDESTRIAN PUSHBUTTONS, LPI'S (LEADING PEDESTRIAN INTERVALS) MAY BE IMPLEMENTED (3-6 SEC.) IN ACCORDANCE WITH LPI DURATION TIME PER THE ODOT SIGNAL CALCULATIONS - CLEARANCE INTERVALS SPREADSHEET"]
[]
[]
["^ WHEN IMPLEMENTING FYA, A MINIMUM 3 SEC. DELAY SHALL BE PROGRAMMED PER FYA PHASE. "]
[]
["ECONOLITE COORD SETTINGS",null,null,"SIEMENS COORD SETTINGS"]
["MANUAL PATTERN","-",null,"OPERATION",null,null,null,"-"]
["SYSTEM SOURCE","-",null,"MODE (NORMAL)",null,null,null,"-"]
["SPLITS IN","-",null,"MAXIMUM",null,null,null,"-"]
["TRANSITION","-",null,"CORRECTION",null,null,null,"-"]
["DWELL/ADD TIME","-",null,"OFFSET MODE",null,null,null,"-"]
["OFFSET REFERENCE","-",null,"FORCE MODE",null,null,null,"-"]
["PED RECALL","-",null,"MAX DWELL TIME",null,null,null,"-"]
["LOCAL ZERO OVERRIDE","-",null,"YIELD PERIOD",null,null,null,"-"]
["RE-SYNC COUNT","-",null,"MANUAL CONTROL: DIAL",null,null,null,"-"]
["ECPI COORD","-",null,"MANUAL CONTROL: SPLIT",null,null,null,"-"]
["SYSTEM FORMAT ","-",null,"MANUAL CONTROL: OFFSET",null,null,null,"-"]
["OFFSET IN","-"]
["MAX SELECT","-"]
["FORCE OFF","-"]
["USE PED TIME","-"]
["PED RESERVICE","-"]
["FO ADD INI GRN","-"]
["MULTISYNC","-"]
[]
[{"$f":"'Project Name'!$C$2","v":0}]
["Existing Local Controller Data"]
[]
["INTERSECTION:"]
["MAINTAINING AGENCY:"]
["START UP",null,null,"DUAL ENTRY: ",null,"-","PHASES:",null,"-"]
[null,null,null,"REST IN RED: ",null,null,"RING 1","-",null,"RING 2","-"]
["START IN: ","-",null,"OVERLAP",null,null,null,"A","B","C","D"]
["TIME FOR FLASH / ALL RED (SEC.):   ",null,"9, 6"]
["FIRST PHASE(S):","-",null,"PHASES",null,null,null,"-","-","-","-"]
["COLOR DISPLAYED:","-"]
[]
["INTERVAL OR FEATURE",null,null,"CONTROLLER MOVEMENT NO."]
["INTERSECTION MOVEMENT (PHASE)",null,null,1,2,3,4,5,6,7,8]
["DIRECTION",null,null,"-","-","-","-","-","-","-","-"]
["MINIMUM GREEN (INITIAL) ",null,"(SEC.)","-","-","-","-","-","-","-","-"]
["ADDED INITIAL","*(SEC./ACTUATION)",null,"-","-","-","-","-","-","-","-"]
["MAXIMUM INITIAL",null,"*(SEC.)","-","-","-","-","-","-","-","-"]
["PASSAGE TIME (PRESET GAP)",null,"(SEC.)","-","-","-","-","-","-","-","-"]
["TIME BEFORE REDUCTION",null,"*(SEC.)","-","-","-","-","-","-","-","-"]
["MINIMUM GAP",null,"*(SEC.)","-","-","-","-","-","-","-","-"]
["TIME TO REDUCE",null,"*(SEC.)","-","-","-","-","-","-","-","-"]
["MAXIMUM GREEN I",null,"(SEC.)","-","-","-","-","-","-","-","-"]
["MAXIMUM GREEN II",null,"(SEC.)","-","-","-","-","-","-","-","-"]
["YELLOW CHANGE",null,"(SEC.)","-","-","-","-","-","-","-","-"]
["ALL RED CLEARANCE",null,"(SEC.)","-","-","-","-","-","-","-","-"]
["DELAYED GREEN (LPI) #",null,"(SEC.)","-","-","-","-","-","-","-","-"]
["FLASHING YELLOW ARROW DELAY^",null,"(SEC.)","-","-","-","-","-","-","-","-"]
["WALK",null,"(SEC.)","-","-","-","-","-","-","-","-"]
["PEDESTRIAN CLEARANCE",null,"(SEC.)","-","-","-","-","-","-","-","-"]
["RECALL","MAXIMUM","(ON/OFF)","-","-","-","-","-","-","-","-"]
[null,"MINIMUM","(ON/OFF)","-","-","-","-","-","-","-","-"]
[null,"PEDESTRIAN","(ON/OFF)","-","-","-","-","-","-","-","-"]
["MEMORY    ",null,"(ON/OFF)","-","-","-","-","-","-","-","-"]
["*VOLUME DENSITY CONTROLS"]
["# FOR CROSSINGS WITH PEDESTRIAN PUSHBUTTONS, LPI'S (LEADING PEDESTRIAN INTERVALS) MAY BE IMPLEMENTED (3-6 SEC.) IN ACCORDANCE WITH LPI DURATION TIME PER THE ODOT SIGNAL CALCULATIONS - CLEARANCE INTERVALS SPREADSHEET"]
[]
[]
["^ WHEN IMPLEMENTING FYA, A MINIMUM 3 SEC. DELAY SHALL BE PROGRAMMED PER FYA PHASE. "]
[]
["ECONOLITE COORD SETTINGS",null,null,"SIEMENS COORD SETTINGS"]
["MANUAL PATTERN","-",null,"OPERATION",null,null,null,"-"]
["SYSTEM SOURCE","-",null,"MODE (NORMAL)",null,null,null,"-"]
["SPLITS IN","-",null,"MAXIMUM",null,null,null,"-"]
["TRANSITION","-",null,"CORRECTION",null,null,null,"-"]
["DWELL/ADD TIME","-",null,"OFFSET MODE",null,null,null,"-"]
["OFFSET REFERENCE","-",null,"FORCE MODE",null,null,null,"-"]
["PED RECALL","-",null,"MAX DWELL TIME",null,null,null,"-"]
["LOCAL ZERO OVERRIDE","-",null,"YIELD PERIOD",null,null,null,"-"]
["RE-SYNC COUNT","-",null,"MANUAL CONTROL: DIAL",null,null,null,"-"]
["ECPI COORD","-",null,"MANUAL CONTROL: SPLIT",null,null,null,"-"]
["SYSTEM FORMAT ","-",null,"MANUAL CONTROL: OFFSET",null,null,null,"-"]
["OFFSET IN","-"]
["MAX SELECT","-"]
["FORCE OFF","-"]
["USE PED TIME","-"]
["PED RESERVICE","-"]
["FO ADD INI GRN","-"]
["MULTISYNC","-"]

{"sheet":"Local Controller Data - PROP","index":2,"n_rows":600,"n_cols":47,"rows_kept":600,"cut":false,"hidden":false,"merged":[[588,3,588,6],[588,7,588,9],[589,3,589,6],[589,7,589,9],[590,3,590,6],[590,7,590,9],[591,3,591,6],[591,7,591,9],[592,3,592,6],[592,7,592,9],[583,3,583,6],[583,7,583,9],[584,3,584,6],[584,7,584,9],[585,3,585,6],[585,7,585,9],[586,3,586,6],[586,7,586,9],[587,3,587,6],[587,7,587,9],[570,0,570,1],[571,0,573,0],[575,0,575,10],[576,0,578,10],[579,0,579,10],[581,0,581,1],[581,3,581,9],[582,3,582,6],[582,7,582,9],[561,0,561,1],[562,0,562,1],[563,0,563,1],[564,0,564,1],[565,0,565,1],[566,0,566,1],[567,0,567,1],[568,0,568,1],[569,0,569,1],[553,0,553,2],[553,3,553,10],[554,0,554,2],[555,0,555,2],[556,0,556,1],[557,1,557,2],[558,0,558,1],[559,0,559,1],[560,0,560,1],[548,1,548,2],[548,3,549,6],[548,7,549,7],[548,8,549,8],[548,9,549,9],[548,10,549,10],[549,0,549,1],[550,1,550,2],[550,3,552,6],[550,7,552,7],[550,8,552,8],[550,9,552,9],[550,10,552,10],[551,1,551,2],[552,0,552,2],[541,0,541,10],[542,0,542,10],[544,0,544,2],[544,3,544,10],[545,0,545,2],[545,3,545,10],[546,0,547,2],[546,3,546,4],[546,6,546,7],[546,8,546,10],[547,3,547,4],[528,3,528,6],[528,7,528,9],[529,3,529,6],[529,7,529,9],[530,3,530,6],[530,7,530,9],[531,3,531,6],[531,7,531,9],[532,3,532,6],[532,7,532,9],[523,3,523,6],[523,7,523,9],[524,3,524,6],[524,7,524,9],[525,3,525,6],[525,7,525,9],[526,3,526,6],[526,7,526,9],[527,3,527,6],[527,7,527,9],[510,0,510,1],[511,0,513,0],[515,0,515,10],[516,0,518,10],[519,0,519,10],[521,0,521,1],[521,3,521,9],[522,3,522,6],[522,7,522,9],[501,0,501,1],[502,0,502,1],[503,0,503,1],[504,0,504,1],[505,0,505,1],[506,0,506,1],[507,0,507,1],[508,0,508,1],[509,0,509,1],[493,0,493,2],[493,3,493,10],[494,0,494,2],[495,0,495,2],[496,0,496,1],[497,1,497,2],[498,0,498,1],[499,0,499,1],[500,0,500,1],[488,1,488,2],[488,3,489,6],[488,7,489,7],[488,8,489,8],[488,9,489,9],[488,10,489,10],[489,0,489,1],[490,1,490,2],[490,3,492,6],[490,7,492,7],[490,8,492,8],[490,9,492,9],[490,10,492,10],[491,1,491,2],[492,0,492,2],[481,0,481,10],[482,0,482,10],[484,0,484,2],[484,3,484,10],[485,0,485,2],[485,3,485,10],[486,0,487,2],[486,3,486,4],[486,6,486,7],[486,8,486,10],[487,3,487,4],[468,3,468,6],[468,7,468,9],[469,3,469,6],[469,7,469,9],[470,3,470,6],[470,7,470,9],[471,3,471,6],[471,7,471,9],[472,3,472,6],[472,7,472,9],[463,3,463,6],[463,7,463,9],[464,3,464,6],[464,7,464,9],[465,3,465,6],[465,7,465,9],[466,3,466,6],[466,7,466,9],[467,3,467,6],[467,7,467,9],[450,0,450,1],[451,0,453,0],[455,0,455,10],[456,0,458,10],[459,0,459,10],[461,0,461,1],[461,3,461,9],[462,3,462,6],[462,7,462,9],[441,0,441,1],[442,0,442,1],[443,0,443,1],[444,0,444,1],[445,0,445,1],[446,0,446,1],[447,0,447,1],[448,0,448,1],[449,0,449,1],[433,0,433,2],[433,3,433,10],[434,0,434,2],[435,0,435,2],[436,0,436,1],[437,1,437,2],[438,0,438,1],[439,0,439,1],[440,0,440,1],[428,1,428,2],[428,3,429,6],[428,7,429,7],[428,8,429,8],[428,9,429,9],[428,10,429,10],[429,0,429,1],[430,1,430,2],[430,3,432,6],[430,7,432,7],[430,8,432,8],[430,9,432,9],[430,10,432,10],[431,1,431,2],[432,0,432,2],[421,0,421,10],[422,0,422,10],[424,0,424,2],[424,3,424,10],[425,0,425,2],[425,3,425,10],[426,0,427,2],[426,3,426,4],[426,6,426,7],[426,8,426,10],[427,3,427,4],[408,3,408,6],[408,7,408,9],[409,3,409,6],[409,7,409,9],[410,3,410,6],[410,7,410,9],[411,3,411,6],[411,7,411,9],[412,3,412,6],[412,7,412,9],[403,3,403,6],[403,7,403,9],[404,3,404,6],[404,7,404,9],[405,3,405,6],[405,7,405,9],[406,3,406,6],[406,7,406,9],[407,3,407,6],[407,7,407,9],[390,0,390,1],[391,0,393,0],[395,0,395,10],[396,0,398,10],[399,0,399,10],[401,0,401,1],[401,3,401,9],[402,3,402,6],[402,7,402,9],[381,0,381,1],[382,0,382,1],[383,0,383,1],[384,0,384,1],[385,0,385,1],[386,0,386,1],[387,0,387,1],[388,0,388,1],[389,0,389,1],[373,0,373,2],[373,3,373,10],[374,0,374,2],[375,0,375,2],[376,0,376,1],[377,1,377,2],[378,0,378,1],[379,0,379,1],[380,0,380,1],[368,1,368,2],[368,3,369,6],[368,7,369,7],[368,8,369,8],[368,9,369,9],[368,10,369,10],[369,0,369,1],[370,1,370,2],[370,3,372,6],[370,7,372,7],[370,8,372,8],[370,9,372,9],[370,10,372,10],[371,1,371,2],[372,0,372,2],[361,0,361,10],[362,0,362,10],[364,0,364,2],[364,3,364,10],[365,0,365,2],[365,3,365,10],[366,0,367,2],[366,3,366,4],[366,6,366,7],[366,8,366,10],[367,3,367,4],[348,3,348,6],[348,7,348,9],[349,3,349,6],[349,7,349,9],[350,3,350,6],[350,7,350,9],[351,3,351,6],[351,7,351,9],[352,3,352,6],[352,7,352,9],[343,3,343,6],[343,7,343,9],[344,3,344,6],[344,7,344,9],[345,3,345,6],[345,7,345,9],[346,3,346,6],[346,7,346,9],[347,3,347,6],[347,7,347,9],[330,0,330,1],[331,0,333,0],[335,0,335,10],[336,0,338,10],[339,0,339,10],[341,0,341,1],[341,3,341,9],[342,3,342,6],[342,7,342,9],[321,0,321,1],[322,0,322,1],[323,0,323,1],[324,0,324,1],[325,0,325,1],[326,0,326,1],[327,0,327,1],[328,0,328,1],[329,0,329,1],[313,0,313,2],[313,3,313,10],[314,0,314,2],[315,0,315,2],[316,0,316,1],[317,1,317,2],[318,0,318,1],[319,0,319,1],[320,0,320,1],[308,1,308,2],[308,3,309,6],[308,7,309,7],[308,8,309,8],[308,9,309,9],[308,10,309,10],[309,0,309,1],[310,1,310,2],[310,3,312,6],[310,7,312,7],[310,8,312,8],[310,9,312,9],[310,10,312,10],[311,1,311,2],[312,0,312,2],[301,0,301,10],[302,0,302,10],[304,0,304,2],[304,3,304,10],[305,0,305,2],[305,3,305,10],[306,0,307,2],[306,3,306,4],[306,6,306,7],[306,8,306,10],[307,3,307,4],[288,3,288,6],[288,7,288,9],[289,3,289,6],[289,7,289,9],[290,3,290,6],[290,7,290,9],[291,3,291,6],[291,7,291,9],[292,3,292,6],[292,7,292,9],[283,3,283,6],[283,7,283,9],[284,3,284,6],[284,7,284,9],[285,3,285,6],[285,7,285,9],[286,3,286,6],[286,7,286,9],[287,3,287,6],[287,7,287,9],[270,0,270,1],[271,0,273,0],[275,0,275,10],[276,0,278,10],[279,0,279,10],[281,0,281,1],[281,3,281,9],[282,3,282,6],[282,7,282,9],[261,0,261,1],[262,0,262,1],[263,0,263,1],[264,0,264,1],[265,0,265,1],[266,0,266,1],[267,0,267,1],[268,0,268,1],[269,0,269,1],[253,0,253,2],[253,3,253,10],[254,0,254,2],[255,0,255,2],[256,0,256,1],[257,1,257,2],[258,0,258,1],[259,0,259,1],[260,0,260,1],[248,1,248,2],[248,3,249,6],[248,7,249,7],[248,8,249,8],[248,9,249,9],[248,10,249,10],[249,0,249,1],[250,1,250,2],[250,3,252,6],[250,7,252,7],[250,8,252,8],[250,9,252,9],[250,10,252,10],[251,1,251,2],[252,0,252,2],[241,0,241,10],[242,0,242,10],[244,0,244,2],[244,3,244,10],[245,0,245,2],[245,3,245,10],[246,0,247,2],[246,3,246,4],[246,6,246,7],[246,8,246,10],[247,3,247,4],[228,3,228,6],[228,7,228,9],[229,3,229,6],[229,7,229,9],[230,3,230,6],[230,7,230,9],[231,3,231,6],[231,7,231,9],[232,3,232,6],[232,7,232,9],[223,3,223,6],[223,7,223,9],[224,3,224,6],[224,7,224,9],[225,3,225,6],[225,7,225,9],[226,3,226,6],[226,7,226,9],[227,3,227,6],[227,7,227,9],[210,0,210,1],[211,0,213,0],[215,0,215,10],[216,0,218,10],[219,0,219,10],[221,0,221,1],[221,3,221,9],[222,3,222,6],[222,7,222,9],[201,0,201,1],[202,0,202,1],[203,0,203,1],[204,0,204,1],[205,0,205,1],[206,0,206,1],[207,0,207,1],[208,0,208,1],[209,0,209,1],[193,0,193,2],[193,3,193,10],[194,0,194,2],[195,0,195,2],[196,0,196,1],[197,1,197,2],[198,0,198,1],[199,0,199,1],[200,0,200,1],[188,1,188,2],[188,3,189,6],[188,7,189,7],[188,8,189,8],[188,9,189,9],[188,10,189,10],[189,0,189,1],[190,1,190,2],[190,3,192,6],[190,7,192,7],[190,8,192,8],[190,9,192,9],[190,10,192,10],[191,1,191,2],[192,0,192,2],[181,0,181,10],[182,0,182,10],[184,0,184,2],[184,3,184,10],[185,0,185,2],[185,3,185,10],[186,0,187,2],[186,3,186,4],[186,6,186,7],[186,8,186,10],[187,3,187,4],[168,3,168,6],[168,7,168,9],[169,3,169,6],[169,7,169,9],[170,3,170,6],[170,7,170,9],[171,3,171,6],[171,7,171,9],[172,3,172,6],[172,7,172,9],[163,3,163,6],[163,7,163,9],[164,3,164,6],[164,7,164,9],[165,3,165,6],[165,7,165,9],[166,3,166,6],[166,7,166,9],[167,3,167,6],[167,7,167,9],[150,0,150,1],[151,0,153,0],[155,0,155,10],[156,0,158,10],[159,0,159,10],[161,0,161,1],[161,3,161,9],[162,3,162,6],[162,7,162,9],[141,0,141,1],[142,0,142,1],[143,0,143,1],[144,0,144,1],[145,0,145,1],[146,0,146,1],[147,0,147,1],[148,0,148,1],[149,0,149,1],[133,0,133,2],[133,3,133,10],[134,0,134,2],[135,0,135,2],[136,0,136,1],[137,1,137,2],[138,0,138,1],[139,0,139,1],[140,0,140,1],[128,1,128,2],[128,3,129,6],[128,7,129,7],[128,8,129,8],[128,9,129,9],[128,10,129,10],[129,0,129,1],[130,1,130,2],[130,3,132,6],[130,7,132,7],[130,8,132,8],[130,9,132,9],[130,10,132,10],[131,1,131,2],[132,0,132,2],[121,0,121,10],[122,0,122,10],[124,0,124,2],[124,3,124,10],[125,0,125,2],[125,3,125,10],[126,0,127,2],[126,3,126,4],[126,6,126,7],[126,8,126,10],[127,3,127,4],[111,3,111,6],[111,7,111,9],[112,3,112,6],[112,7,112,9],[108,3,108,6],[108,7,108,9],[109,3,109,6],[109,7,109,9],[110,3,110,6],[110,7,110,9],[105,3,105,6],[105,7,105,9],[106,3,106,6],[106,7,106,9],[107,3,107,6],[107,7,107,9],[102,3,102,6],[102,7,102,9],[103,3,103,6],[103,7,103,9],[104,3,104,6],[104,7,104,9],[90,0,90,1],[91,0,93,0],[95,0,95,10],[96,0,98,10],[99,0,99,10],[101,0,101,1],[101,3,101,9],[84,0,84,1],[85,0,85,1],[86,0,86,1],[87,0,87,1],[88,0,88,1],[89,0,89,1],[78,0,78,1],[79,0,79,1],[80,0,80,1],[81,0,81,1],[82,0,82,1],[83,0,83,1],[73,0,73,2],[73,3,73,10],[74,0,74,2],[75,0,75,2],[76,0,76,1],[77,1,77,2],[70,1,70,2],[70,3,72,6],[70,7,72,7],[70,8,72,8],[70,9,72,9],[70,10,72,10],[71,1,71,2],[72,0,72,2],[68,1,68,2],[68,3,69,6],[68,7,69,7],[68,8,69,8],[68,9,69,9],[68,10,69,10],[69,0,69,1],[64,0,64,2],[64,3,64,10],[65,0,65,2],[65,3,65,10],[66,0,67,2],[66,3,66,4],[66,6,66,7],[66,8,66,10],[67,3,67,4],[50,3,50,6],[50,7,50,9],[51,3,51,6],[51,7,51,9],[61,0,61,10],[62,0,62,10],[47,3,47,6],[47,7,47,9],[48,3,48,6],[48,7,48,9],[49,3,49,6],[49,7,49,9],[44,3,44,6],[44,7,44,9],[45,3,45,6],[45,7,45,9],[46,3,46,6],[46,7,46,9],[41,3,41,6],[41,7,41,9],[42,3,42,6],[42,7,42,9],[43,3,43,6],[43,7,43,9],[29,0,29,1],[30,0,32,0],[34,0,34,10],[35,0,37,10],[38,0,38,10],[40,0,40,1],[40,3,40,9],[23,0,23,1],[24,0,24,1],[25,0,25,1],[26,0,26,1],[27,0,27,1],[28,0,28,1],[17,0,17,1],[18,0,18,1],[19,0,19,1],[20,0,20,1],[21,0,21,1],[22,0,22,1],[12,0,12,2],[12,3,12,10],[13,0,13,2],[14,0,14,2],[15,0,15,1],[16,1,16,2],[7,1,7,2],[7,3,8,6],[7,7,8,7],[7,8,8,8],[7,9,8,9],[7,10,8,10],[8,0,8,1],[9,1,9,2],[9,3,11,6],[9,7,11,7],[9,8,11,8],[9,9,11,9],[9,10,11,10],[10,1,10,2],[11,0,11,2],[0,0,0,10],[1,0,1,10],[3,0,3,2],[3,3,3,10],[4,0,4,2],[4,3,4,10],[5,0,6,2],[5,3,5,4],[5,6,5,7],[5,8,5,10],[6,3,6,4]]}
[{"$f":"'Project Name'!$C$2","v":0}]
["Proposed Local Controller Data"]
[]
["INTERSECTION:",null,null,null,null,null,null,null,null,null,null,null,null,"-",null,null,null,"MANUAL PATTERN","SYSTEM SOURCE","SPLITS IN","TRANSITION","DWELL/ADD TIME","OFFSET REFERNECE","PED RECALL","LOCAL ZERO OVERRIDE","RE-SYNC COUNT","ECPI COORD","SYSTEM FORMAT ","OFFSET IN","MAX SELECT","FORCE OFF","USE PED TIME","PED RESERVICE","FO ADD INI GRN","MULTISYNC",null,"OPERATION","MODE (NORMAL)","MAXIMUM","CORRECTION","OFFSET MODE","FORCE MODE","MAX DWELL TIME","YIELD PERIOD","MANUAL CONTROL: DIAL","MANUAL CONTROL: SPLIT","MANUAL CONTROL: OFFSET"]
["MAINTAINING AGENCY:",null,null,null,null,null,null,null,null,null,null,null,null,"ON",null,null,null,"-","-","-","-","-","-","-","-","-","-","-","-","-","-","-","-","-","-",null,"-","-","-","-","-","-"]
["START UP",null,null,"DUAL ENTRY: ",null,"-","PHASES:",null,"-",null,null,null,null,"OFF",null,null,null,"AUTO","HDW","SECONDS","DWELL",0,"LEAD","NO","NO",0,"NO","STD","SECONDS","MAXINH","FIXED ","NO","NO","NO","NO",null,"0 - FREE","0 - PERMISSIVE","0 - INHIBIT","0 - DWELL","0 - BEG GREEN","0 - PLAN"]
[null,null,null,"REST IN RED: ",null,null,"RING 1","-",null,"RING 2","-",null,null,null,null,"-",null,"FREE","TBC",null,"SMOOTH",1,"LAG","YES","YES",1,"YES","TS2",null,"MAX 1","FLOAT","YES","YES","YES","YES",null,"1 - AUTO","1 - YIELD","1 - MAX I","1 - MAX DWELL","1 - END GREEN","1 - CYCLE"]
["START IN: ","-",null,"OVERLAP",null,null,null,"A","B","C","D",null,null,null,null,"NB",null,"FLASH","SYS",null,"ADD ONLY",2,"YIELD",null,null,2,null,"PTN",null,"MAX 2",null,null,null,null,null,null,"2 - MANUAL","2 - PERMISSIVE YIELD","2 - MAX II","2 - SHORT WAY",null,"2 - FLOATING"]
["TIME FOR: FLASH , ALL RED (SEC.):   ",null,"9, 6",null,null,null,null,null,null,null,null,null,null,"-",null,"SB",null,1,null,null,null,3,"YELLOW",null,null,3,null,null,null,"MAX 3 ",null,null,null,null,null,null,null,"3 - PERMISSIVE OMIT",null,"3 - ADD ONLY",null,"3 - FIXED"]
["FIRST PHASE(S):","-",null,"PHASES",null,null,null,"-","-","-","-",null,null,"YELLOW/RED FLASH",null,"EB",null,2,null,null,null,4,"RING 1",null,null,4,null,null,null,null,null,null,null,null,null,null,null,"4 - SEQUENTIAL OMIT",null,"4 - SHORT WAY 2"]
["COLOR DISPLAYED:","-",null,null,null,null,null,null,null,null,null,null,null,"ALL-RED FLASH",null,"WB",null,3,null,null,null,5,null,null,null,5,null,null,null,null,null,null,null,null,null,null,null,"5 - FULLY ACTUATED"]
[null,null,null,null,null,null,null,null,null,null,null,null,null,null,null,"NB LT",null,4,null,null,null,6,null,null,null,6,null,null,null,null,null,null,null,null,null,null,null,"6 - MUTUAL COORD"]
["INTERVAL OR FEATURE",null,null,"CONTROLLER MOVEMENT NO.",null,null,null,null,null,null,null,null,null,"-",null,"SB LT",null,5,null,null,null,7,null,null,null,7]
["INTERSECTION MOVEMENT (PHASE)",null,null,1,2,3,4,5,6,7,8,null,null,"GREEN",null,"EB LT",null,6,null,null,null,8,null,null,null,8]
["DIRECTION",null,null,"-","-","-","-","-","-","-","-",null,null,"YELLOW",null,"WB LT",null,7,null,null,null,9,null,null,null,9]
["MINIMUM GREEN (INITIAL) ",null,"(SEC.)","-","-","-","-","-","-","-","-",null,null,null,null,null,null,8,null,null,null,10,null,null,null,10]
["ADDED INITIAL","*(SEC./ACTUATION)",null,"-","-","-","-","-","-","-","-",null,null,null,null,null,null,9,null,null,null,11,null,null,null,11]
["MAXIMUM INITIAL",null,"*(SEC.)","-","-","-","-","-","-","-","-",null,null,null,null,null,null,10,null,null,null,12,null,null,null,12]
["PASSAGE TIME (PRESET GAP)",null,"(SEC.)","-","-","-","-","-","-","-","-",null,null,null,null,null,null,11,null,null,null,13,null,null,null,13]
["TIME BEFORE REDUCTION",null,"*(SEC.)","-","-","-","-","-","-","-","-",null,null,null,null,null,null,12,null,null,null,14,null,null,null,14]
["MINIMUM GAP",null,"*(SEC.)","-","-","-","-","-","-","-","-",null,null,null,null,null,null,13,null,null,null,15,null,null,null,15]
["TIME TO REDUCE",null,"*(SEC.)","-","-","-","-","-","-","-","-",null,null,null,null,null,null,14,null,null,null,16,null,null,null,16]
["MAXIMUM GREEN I",null,"(SEC.)","-","-","-","-","-","-","-","-",null,null,null,null,null,null,15,null,null,null,17,null,null,null,17]
["MAXIMUM GREEN II",null,"(SEC.)","-","-","-","-","-","-","-","-",null,null,null,null,null,null,16,null,null,null,18,null,null,null,18]
["YELLOW CHANGE",null,"(SEC.)","-","-","-","-","-","-","-","-",null,null,null,null,null,null,17,null,null,null,19,null,null,null,19]
["ALL RED CLEARANCE",null,"(SEC.)","-","-","-","-","-","-","-","-",null,null,null,null,null,null,18,null,null,null,20,null,null,null,20]
["DELAYED GREEN (LPI) #",null,"(SEC.)","-","-","-","-","-","-","-","-"]
["FLASHING YELLOW ARROW DELAY^",null,"(SEC.)","-","-","-","-","-","-","-","-"]
["WALK",null,"(SEC.)","-","-","-","-","-","-","-","-",null,null,null,null,null,null,19,null,null,null,21,null,null,null,21]
["PEDESTRIAN CLEARANCE",null,"(SEC.)","-","-","-","-","-","-","-","-",null,null,null,null,null,null,20,null,null,null,22,null,null,null,22]
["RECALL","MAXIMUM","(ON/OFF)","-","-","-","-","-","-","-","-",null,null,null,null,null,null,21,null,null,null,23,null,null,null,23]
[null,"MINIMUM","(ON/OFF)","-","-","-","-","-","-","-","-",null,null,null,null,null,null,22,null,null,null,24,null,null,null,24]
[null,"PEDESTRIAN","(ON/OFF)","-","-","-","-","-","-","-","-",null,null,null,null,null,null,23,null,null,null,25,null,null,null,25]
["MEMORY    ",null,"(ON/OFF)","-","-","-","-","-","-","-","-",null,null,null,null,null,null,24,null,null,null,26,null,null,null,26]
["*VOLUME DENSITY CONTROLS",null,null,null,null,null,null,null,null,null,null,null,null,null,null,null,null,25,null,null,null,27,null,null,null,27]
["# FOR CROSSINGS WITH PEDESTRIAN PUSHBUTTONS, LPI'S (LEADING PEDESTRIAN INTERVALS) MAY BE IMPLEMENTED (3-6 SEC.) IN ACCORDANCE WITH LPI DURATION TIME PER THE ODOT SIGNAL CALCULATIONS - CLEARANCE INTERVALS SPREADSHEET",null,null,null,null,null,null,null,null,null,null,null,null,null,null,null,null,26,null,null,null,28,null,null,null,28]
[null,null,null,null,null,null,null,null,null,null,null,null,null,null,null,null,null,27,null,null,null,29,null,null,null,29]
[]
["^ WHEN IMPLEMENTING FYA, A MINIMUM 3 SEC. DELAY SHALL BE PROGRAMMED PER FYA PHASE. "]
[]
["ECONOLITE COORD SETTINGS",null,null,"SIEMENS COORD SETTINGS",null,null,null,null,null,null,null,null,null,null,null,null,null,28,null,null,null,30,null,null,null,30]
["MANUAL PATTERN","-",null,"OPERATION",null,null,null,"-",null,null,null,null,null,null,null,null,null,29,null,null,null,31,null,null,null,31]
["SYSTEM SOURCE","-",null,"MODE (NORMAL)",null,null,null,"-",null,null,null,null,null,null,null,null,null,30,null,null,null,32,null,null,null,32]
["SPLITS IN","-",null,"MAXIMUM",null,null,null,"-",null,null,null,null,null,null,null,null,null,31,null,null,null,33,null,null,null,33]
["TRANSITION","-",null,"CORRECTION",null,null,null,"-",null,null,null,null,null,null,null,null,null,32,null,null,null,34,null,null,null,34]
["DWELL/ADD TIME","-",null,"OFFSET MODE",null,null,null,"-",null,null,null,null,null,null,null,null,null,33,null,null,null,35,null,null,null,35]
["OFFSET REFERENCE","-",null,"FORCE MODE",null,null,null,"-",null,null,null,null,null,null,null,null,null,34,null,null,null,36,null,null,null,36]
["PED RECALL","-",null,"MAX DWELL TIME",null,null,null,"-",null,null,null,null,null,null,null,null,null,35,null,null,null,37,null,null,null,37]
["LOCAL ZERO OVERRIDE","-",null,"YIELD PERIOD",null,null,null,"-",null,null,null,null,null,null,null,null,null,36,null,null,null,38,null,null,null,38]
["RE-SYNC COUNT","-",null,"MANUAL CONTROL: DIAL",null,null,null,"-",null,null,null,null,null,null,null,null,null,37,null,null,null,39,null,null,null,39]
["ECPI COORD","-",null,"MANUAL CONTROL: SPLIT",null,null,null,"-",null,null,null,null,null,null,null,null,null,38,null,null,null,40,null,null,null,40]
["SYSTEM FORMAT ","-",null,"MANUAL CONTROL: OFFSET",null,null,null,"-",null,null,null,null,null,null,null,null,null,39,null,null,null,41,null,null,null,41]
["OFFSET IN","-",null,null,null,null,null,null,null,null,null,null,null,null,null,null,null,40,null,null,null,42,null,null,null,42]
["MAX SELECT","-",null,null,null,null,null,null,null,null,null,null,null,null,null,null,null,41,null,null,null,43,null,null,null,43]
["FORCE OFF","-",null,null,null,null,null,null,null,null,null,null,null,null,null,null,null,42,null,null,null,44,null,null,null,44]
["USE PED TIME","-",null,null,null,null,null,null,null,null,null,null,null,null,null,null,null,43,null,null,null,45,null,null,null,45]
["PED RESERVICE","-",null,null,null,null,null,null,null,null,null,null,null,null,null,null,null,44,null,null,null,46,null,null,null,46]
["FO ADD INI GRN","-",null,null,null,null,null,null,null,null,null,null,null,null,null,null,null,45,null,null,null,47,null,null,null,47]
["MULTISYNC","-",null,null,null,null,null,null,null,null,null,null,null,null,null,null,null,46,null,null,null,48,null,null,null,48]
[null,null,null,null,null,null,null,null,null,null,null,null,null,null,null,null,null,47,null,null,null,49,null,null,null,49]
[null,null,null,null,null,null,null,null,null,null,null,null,null,null,null,null,null,48,null,null,null,50,null,null,null,50]
[{"$f":"'Project Name'!$C$2","v":0},null,null,null,null,null,null,null,null,null,null,null,null,null,null,null,null,52,null,null,null,54,null,null,null,54]
["Proposed Local Controller Data",null,null,null,null,null,null,null,null,null,null,null,null,null,null,null,null,53,null,null,null,55,null,null,null,55]
[null,null,null,null,null,null,null,null,null,null,null,null,null,null,null,null,null,54,null,null,null,56,null,null,null,56]
["INTERSECTION:",null,null,null,null,null,null,null,null,null,null,null,null,null,null,null,null,55,null,null,null,57,null,null,null,57]
["MAINTAINING AGENCY:",null,null,null,null,null,null,null,null,null,null,null,null,null,null,null,null,56,null,null,null,58,null,null,null,58]
["START UP",null,null,"DUAL ENTRY: ",null,"-","PHASES:",null,"-",null,null,null,null,null,null,null,null,57,null,null,null,59,null,null,null,59]
[null,null,null,"REST IN RED: ",null,null,"RING 1","-",null,"RING 2","-",null,null,null,null,null,null,58,null,null,null,60,null,null,null,60]
["START IN: ","-",null,"OVERLAP",null,null,null,"A","B","C","D",null,null,null,null,null,null,59,null,null,null,61,null,null,null,61]
["TIME FOR FLASH / ALL RED (SEC.):   ",null,"9, 6",null,null,null,null,null,null,null,null,null,null,null,null,null,null,60,null,null,null,62,null,null,null,62]
["FIRST PHASE(S):","-",null,"PHASES",null,null,null,"-","-","-","-",null,null,null,null,null,null,61,null,null,null,63,null,null,null,63]
["COLOR DISPLAYED:","-",null,null,null,null,null,null,null,null,null,null,null,null,null,null,null,62,null,null,null,64,null,null,null,64]
[null,null,null,null,null,null,null,null,null,null,null,null,null,null,null,null,null,63,null,null,null,65,null,null,null,65]
["INTERVAL OR FEATURE",null,null,"CONTROLLER MOVEMENT NO.",null,null,null,null,null,null,null,null,null,null,null,null,null,64,null,null,null,66,null,null,null,66]
["INTERSECTION MOVEMENT (PHASE)",null,null,1,2,3,4,5,6,7,8,null,null,null,null,null,null,65,null,null,null,67,null,null,null,67]
["DIRECTION",null,null,"-","-","-","-","-","-","-","-",null,null,null,null,null,null,66,null,null,null,68,null,null,null,68]
["MINIMUM GREEN (INITIAL) ",null,"(SEC.)","-","-","-","-","-","-","-","-",null,null,null,null,null,null,67,null,null,null,69,null,null,null,69]
["ADDED INITIAL","*(SEC./ACTUATION)",null,"-","-","-","-","-","-","-","-",null,null,null,null,null,null,68,null,null,null,70,null,null,null,70]
["MAXIMUM INITIAL",null,"*(SEC.)","-","-","-","-","-","-","-","-",null,null,null,null,null,null,69,null,null,null,71,null,null,null,71]
["PASSAGE TIME (PRESET GAP)",null,"(SEC.)","-","-","-","-","-","-","-","-",null,null,null,null,null,null,70,null,null,null,72,null,null,null,72]
["TIME BEFORE REDUCTION",null,"*(SEC.)","-","-","-","-","-","-","-","-",null,null,null,null,null,null,71,null,null,null,73,null,null,null,73]
["MINIMUM GAP",null,"*(SEC.)","-","-","-","-","-","-","-","-",null,null,null,null,null,null,72,null,null,null,74,null,null,null,74]
["TIME TO REDUCE",null,"*(SEC.)","-","-","-","-","-","-","-","-",null,null,null,null,null,null,73,null,null,null,75,null,null,null,75]
["MAXIMUM GREEN I",null,"(SEC.)","-","-","-","-","-","-","-","-",null,null,null,null,null,null,74,null,null,null,76,null,null,null,76]
["MAXIMUM GREEN II",null,"(SEC.)","-","-","-","-","-","-","-","-",null,null,null,null,null,null,75,null,null,null,77,null,null,null,77]
["YELLOW CHANGE",null,"(SEC.)","-","-","-","-","-","-","-","-",null,null,null,null,null,null,76,null,null,null,78,null,null,null,78]
["ALL RED CLEARANCE",null,"(SEC.)","-","-","-","-","-","-","-","-",null,null,null,null,null,null,77,null,null,null,79,null,null,null,79]
["DELAYED GREEN (LPI) #",null,"(SEC.)","-","-","-","-","-","-","-","-",null,null,null,null,null,null,78,null,null,null,80,null,null,null,80]
["FLASHING YELLOW ARROW DELAY^",null,"(SEC.)","-","-","-","-","-","-","-","-",null,null,null,null,null,null,79,null,null,null,81,null,null,null,81]
["WALK",null,"(SEC.)","-","-","-","-","-","-","-","-",null,null,null,null,null,null,80,null,null,null,82,null,null,null,82]
["PEDESTRIAN CLEARANCE",null,"(SEC.)","-","-","-","-","-","-","-","-",null,null,null,null,null,null,81,null,null,null,83,null,null,null,83]
["RECALL","MAXIMUM","(ON/OFF)","-","-","-","-","-","-","-","-",null,null,null,null,null,null,82,null,null,null,84,null,null,null,84]
[null,"MINIMUM","(ON/OFF)","-","-","-","-","-","-","-","-",null,null,null,null,null,null,83,null,null,null,85,null,null,null,85]
[null,"PEDESTRIAN","(ON/OFF)","-","-","-","-","-","-","-","-",null,null,null,null,null,null,84,null,null,null,86,null,null,null,86]
["MEMORY    ",null,"(ON/OFF)","-","-","-","-","-","-","-","-",null,null,null,null,null,null,85,null,null,null,87,null,null,null,87]
["*VOLUME DENSITY CONTROLS",null,null,null,null,null,null,null,null,null,null,null,null,null,null,null,null,86,null,null,null,88,null,null,null,88]
["# FOR CROSSINGS WITH PEDESTRIAN PUSHBUTTONS, LPI'S (LEADING PEDESTRIAN INTERVALS) MAY BE IMPLEMENTED (3-6 SEC.) IN ACCORDANCE WITH LPI DURATION TIME PER THE ODOT SIGNAL CALCULATIONS - CLEARANCE INTERVALS SPREADSHEET",null,null,null,null,null,null,null,null,null,null,null,null,null,null,null,null,87,null,null,null,89,null,null,null,89]
[null,null,null,null,null,null,null,null,null,null,null,null,null,null,null,null,null,88,null,null,null,90,null,null,null,90]
[]
["^ WHEN IMPLEMENTING FYA, A MINIMUM 3 SEC. DELAY SHALL BE PROGRAMMED PER FYA PHASE. ",null,null,null,null,null,null,null,null,null,null,null,null,null,null,null,null,89,null,null,null,91,null,null,null,91]
[]
["ECONOLITE COORD SETTINGS",null,null,"SIEMENS COORD SETTINGS",null,null,null,null,null,null,null,null,null,null,null,null,null,90,null,null,null,92,null,null,null,92]
["MANUAL PATTERN","-",null,"OPERATION",null,null,null,"-",null,null,null,null,null,null,null,null,null,91,null,null,null,93,null,null,null,93]
["SYSTEM SOURCE","-",null,"MODE (NORMAL)",null,null,null,"-",null,null,null,null,null,null,null,null,null,92,null,null,null,94,null,null,null,94]
["SPLITS IN","-",null,"MAXIMUM",null,null,null,"-",null,null,null,null,null,null,null,null,null,93,null,null,null,95,null,null,null,95]
["TRANSITION","-",null,"CORRECTION",null,null,null,"-",null,null,null,null,null,null,null,null,null,94,null,null,null,96,null,null,null,96]
["DWELL/ADD TIME","-",null,"OFFSET MODE",null,null,null,"-",null,null,null,null,null,null,null,null,null,95,null,null,null,97,null,null,null,97]
["OFFSET REFERENCE","-",null,"FORCE MODE",null,null,null,"-",null,null,null,null,null,null,null,null,null,96,null,null,null,98,null,null,null,98]
["PED RECALL","-",null,"MAX DWELL TIME",null,null,null,"-",null,null,null,null,null,null,null,null,null,97,null,null,null,99,null,null,null,99]
["LOCAL ZERO OVERRIDE","-",null,"YIELD PERIOD",null,null,null,"-",null,null,null,null,null,null,null,null,null,98,null,null,null,100,null,null,null,100]
["RE-SYNC COUNT","-",null,"MANUAL CONTROL: DIAL",null,null,null,"-",null,null,null,null,null,null,null,null,null,99,null,null,null,101,null,null,null,101]
["ECPI COORD","-",null,"MANUAL CONTROL: SPLIT",null,null,null,"-",null,null,null,null,null,null,null,null,null,100,null,null,null,102,null,null,null,102]
["SYSTEM FORMAT ","-",null,"MANUAL CONTROL: OFFSET",null,null,null,"-",null,null,null,null,null,null,null,null,null,101,null,null,null,103,null,null,null,103]
["OFFSET IN","-",null,null,null,null,null,null,null,null,null,null,null,null,null,null,null,102,null,null,null,104,null,null,null,104]
["MAX SELECT","-",null,null,null,null,null,null,null,null,null,null,null,null,null,null,null,103,null,null,null,105,null,null,null,105]
["FORCE OFF","-",null,null,null,null,null,null,null,null,null,null,null,null,null,null,null,104,null,null,null,106,null,null,null,106]
["USE PED TIME","-",null,null,null,null,null,null,null,null,null,null,null,null,null,null,null,105,null,null,null,107,null,null,null,107]
["PED RESERVICE","-",null,null,null,null,null,null,null,null,null,null,null,null,null,null,null,106,null,null,null,108,null,null,null,108]
["FO ADD INI GRN","-",null,null,null,null,null,null,null,null,null,null,null,null,null,null,null,107,null,null,null,109,null,null,null,109]
["MULTISYNC","-",null,null,null,null,null,null,null,null,null,null,null,null,null,null,null,108,null,null,null,110,null,null,null,110]
[null,null,null,null,null,null,null,null,null,null,null,null,null,null,null,null,null,109,null,null,null,111,null,null,null,111]
[{"$f":"'Project Name'!$C$2","v":0},null,null,null,null,null,null,null,null,null,null,null,null,null,null,null,null,110,null,null,null,112,null,null,null,112]
["Proposed Local Controller Data",null,null,null,null,null,null,null,null,null,null,null,null,null,null,null,null,111,null,null,null,113,null,null,null,113]
[null,null,null,null,null,null,null,null,null,null,null,null,null,null,null,null,null,112,null,null,null,114,null,null,null,114]
["INTERSECTION:",null,null,null,null,null,null,null,null,null,null,null,null,null,null,null,null,113,null,null,null,115,null,null,null,115]
["MAINTAINING AGENCY:",null,null,null,null,null,null,null,null,null,null,null,null,null,null,null,null,114,null,null,null,116,null,null,null,116]
["START UP",null,null,"DUAL ENTRY: ",null,"-","PHASES:",null,"-",null,null,null,null,null,null,null,null,115,null,null,null,117,null,null,null,117]
[null,null,null,"REST IN RED: ",null,null,"RING 1","-",null,"RING 2","-",null,null,null,null,null,null,116,null,null,null,118,null,null,null,118]
["START IN: ","-",null,"OVERLAP",null,null,null,"A","B","C","D",null,null,null,null,null,null,117,null,null,null,119,null,null,null,119]
["TIME FOR FLASH / ALL RED (SEC.):   ",null,"9, 6",null,null,null,null,null,null,null,null,null,null,null,null,null,null,118,null,null,null,120,null,null,null,120]
["FIRST PHASE(S):","-",null,"PHASES",null,null,null,"-","-","-","-",null,null,null,null,null,null,119,null,null,null,121,null,null,null,121]
["COLOR DISPLAYED:","-",null,null,null,null,null,null,null,null,null,null,null,null,null,null,null,120,null,null,null,122,null,null,null,122]
[null,null,null,null,null,null,null,null,null,null,null,null,null,null,null,null,null,null,null,null,null,123,null,null,null,123]
["INTERVAL OR FEATURE",null,null,"CONTROLLER MOVEMENT NO.",null,null,null,null,null,null,null,null,null,null,null,null,null,null,null,null,null,124,null,null,null,124]
["INTERSECTION MOVEMENT (PHASE)",null,null,1,2,3,4,5,6,7,8,null,null,null,null,null,null,null,null,null,null,125,null,null,null,125]
["DIRECTION",null,null,"-","-","-","-","-","-","-","-",null,null,null,null,null,null,null,null,null,null,126,null,null,null,126]
["MINIMUM GREEN (INITIAL) ",null,"(SEC.)","-","-","-","-","-","-","-","-",null,null,null,null,null,null,null,null,null,null,127,null,null,null,127]
["ADDED INITIAL","*(SEC./ACTUATION)",null,"-","-","-","-","-","-","-","-",null,null,null,null,null,null,null,null,null,null,128,null,null,null,128]
["MAXIMUM INITIAL",null,"*(SEC.)","-","-","-","-","-","-","-","-",null,null,null,null,null,null,null,null,null,null,129,null,null,null,129]
["PASSAGE TIME (PRESET GAP)",null,"(SEC.)","-","-","-","-","-","-","-","-",null,null,null,null,null,null,null,null,null,null,130,null,null,null,130]
["TIME BEFORE REDUCTION",null,"*(SEC.)","-","-","-","-","-","-","-","-",null,null,null,null,null,null,null,null,null,null,131,null,null,null,131]
["MINIMUM GAP",null,"*(SEC.)","-","-","-","-","-","-","-","-",null,null,null,null,null,null,null,null,null,null,132,null,null,null,132]
["TIME TO REDUCE",null,"*(SEC.)","-","-","-","-","-","-","-","-",null,null,null,null,null,null,null,null,null,null,133,null,null,null,133]
["MAXIMUM GREEN I",null,"(SEC.)","-","-","-","-","-","-","-","-",null,null,null,null,null,null,null,null,null,null,134,null,null,null,134]
["MAXIMUM GREEN II",null,"(SEC.)","-","-","-","-","-","-","-","-",null,null,null,null,null,null,null,null,null,null,135,null,null,null,135]
["YELLOW CHANGE",null,"(SEC.)","-","-","-","-","-","-","-","-",null,null,null,null,null,null,null,null,null,null,136,null,null,null,136]
["ALL RED CLEARANCE",null,"(SEC.)","-","-","-","-","-","-","-","-",null,null,null,null,null,null,null,null,null,null,137,null,null,null,137]
["DELAYED GREEN (LPI) #",null,"(SEC.)","-","-","-","-","-","-","-","-",null,null,null,null,null,null,null,null,null,null,138,null,null,null,138]
["FLASHING YELLOW ARROW DELAY^",null,"(SEC.)","-","-","-","-","-","-","-","-",null,null,null,null,null,null,null,null,null,null,139,null,null,null,139]
["WALK",null,"(SEC.)","-","-","-","-","-","-","-","-",null,null,null,null,null,null,null,null,null,null,140,null,null,null,140]
["PEDESTRIAN CLEARANCE",null,"(SEC.)","-","-","-","-","-","-","-","-",null,null,null,null,null,null,null,null,null,null,141,null,null,null,141]
["RECALL","MAXIMUM","(ON/OFF)","-","-","-","-","-","-","-","-",null,null,null,null,null,null,null,null,null,null,142,null,null,null,142]
[null,"MINIMUM","(ON/OFF)","-","-","-","-","-","-","-","-",null,null,null,null,null,null,null,null,null,null,143,null,null,null,143]
[null,"PEDESTRIAN","(ON/OFF)","-","-","-","-","-","-","-","-",null,null,null,null,null,null,null,null,null,null,144,null,null,null,144]
["MEMORY    ",null,"(ON/OFF)","-","-","-","-","-","-","-","-",null,null,null,null,null,null,null,null,null,null,145,null,null,null,145]
["*VOLUME DENSITY CONTROLS",null,null,null,null,null,null,null,null,null,null,null,null,null,null,null,null,null,null,null,null,146,null,null,null,146]
["# FOR CROSSINGS WITH PEDESTRIAN PUSHBUTTONS, LPI'S (LEADING PEDESTRIAN INTERVALS) MAY BE IMPLEMENTED (3-6 SEC.) IN ACCORDANCE WITH LPI DURATION TIME PER THE ODOT SIGNAL CALCULATIONS - CLEARANCE INTERVALS SPREADSHEET",null,null,null,null,null,null,null,null,null,null,null,null,null,null,null,null,null,null,null,null,147,null,null,null,147]
[null,null,null,null,null,null,null,null,null,null,null,null,null,null,null,null,null,null,null,null,null,148,null,null,null,148]
[null,null,null,null,null,null,null,null,null,null,null,null,null,null,null,null,null,null,null,null,null,149,null,null,null,149]
["^ WHEN IMPLEMENTING FYA, A MINIMUM 3 SEC. DELAY SHALL BE PROGRAMMED PER FYA PHASE. ",null,null,null,null,null,null,null,null,null,null,null,null,null,null,null,null,null,null,null,null,150,null,null,null,150]
[null,null,null,null,null,null,null,null,null,null,null,null,null,null,null,null,null,null,null,null,null,151,null,null,null,151]
["ECONOLITE COORD SETTINGS",null,null,"SIEMENS COORD SETTINGS",null,null,null,null,null,null,null,null,null,null,null,null,null,null,null,null,null,152,null,null,null,152]
["MANUAL PATTERN","-",null,"OPERATION",null,null,null,"-",null,null,null,null,null,null,null,null,null,null,null,null,null,153,null,null,null,153]
["SYSTEM SOURCE","-",null,"MODE (NORMAL)",null,null,null,"-",null,null,null,null,null,null,null,null,null,null,null,null,null,154,null,null,null,154]
["SPLITS IN","-",null,"MAXIMUM",null,null,null,"-",null,null,null,null,null,null,null,null,null,null,null,null,null,155,null,null,null,155]
["TRANSITION","-",null,"CORRECTION",null,null,null,"-",null,null,null,null,null,null,null,null,null,null,null,null,null,156,null,null,null,156]
["DWELL/ADD TIME","-",null,"OFFSET MODE",null,null,null,"-",null,null,null,null,null,null,null,null,null,null,null,null,null,157,null,null,null,157]
["OFFSET REFERENCE","-",null,"FORCE MODE",null,null,null,"-",null,null,null,null,null,null,null,null,null,null,null,null,null,158,null,null,null,158]
["PED RECALL","-",null,"MAX DWELL TIME",null,null,null,"-",null,null,null,null,null,null,null,null,null,null,null,null,null,159,null,null,null,159]
["LOCAL ZERO OVERRIDE","-",null,"YIELD PERIOD",null,null,null,"-",null,null,null,null,null,null,null,null,null,null,null,null,null,160,null,null,null,160]
["RE-SYNC COUNT","-",null,"MANUAL CONTROL: DIAL",null,null,null,"-",null,null,null,null,null,null,null,null,null,null,null,null,null,161,null,null,null,161]
["ECPI COORD","-",null,"MANUAL CONTROL: SPLIT",null,null,null,"-",null,null,null,null,null,null,null,null,null,null,null,null,null,162,null,null,null,162]
["SYSTEM FORMAT ","-",null,"MANUAL CONTROL: OFFSET",null,null,null,"-",null,null,null,null,null,null,null,null,null,null,null,null,null,163,null,null,null,163]
["OFFSET IN","-",null,null,null,null,null,null,null,null,null,null,null,null,null,null,null,null,null,null,null,164,null,null,null,164]
["MAX SELECT","-",null,null,null,null,null,null,null,null,null,null,null,null,null,null,null,null,null,null,null,165,null,null,null,165]
["FORCE OFF","-",null,null,null,null,null,null,null,null,null,null,null,null,null,null,null,null,null,null,null,166,null,null,null,166]
["USE PED TIME","-",null,null,null,null,null,null,null,null,null,null,null,null,null,null,null,null,null,null,null,167,null,null,null,167]
["PED RESERVICE","-",null,null,null,null,null,null,null,null,null,null,null,null,null,null,null,null,null,null,null,168,null,null,null,168]
["FO ADD INI GRN","-",null,null,null,null,null,null,null,null,null,null,null,null,null,null,null,null,null,null,null,169,null,null,null,169]
["MULTISYNC","-",null,null,null,null,null,null,null,null,null,null,null,null,null,null,null,null,null,null,null,170,null,null,null,170]
[null,null,null,null,null,null,null,null,null,null,null,null,null,null,null,null,null,null,null,null,null,171,null,null,null,171]
[{"$f":"'Project Name'!$C$2","v":0},null,null,null,null,null,null,null,null,null,null,null,null,null,null,null,null,null,null,null,null,172,null,null,null,172]
["Proposed Local Controller Data",null,null,null,null,null,null,null,null,null,null,null,null,null,null,null,null,null,null,null,null,173,null,null,null,173]
[null,null,null,null,null,null,null,null,null,null,null,null,null,null,null,null,null,null,null,null,null,174,null,null,null,174]
["INTERSECTION:",null,null,null,null,null,null,null,null,null,null,null,null,null,null,null,null,null,null,null,null,175,null,null,null,175]
["MAINTAINING AGENCY:",null,null,null,null,null,null,null,null,null,null,null,null,null,null,null,null,null,null,null,null,176,null,null,null,176]
["START UP",null,null,"DUAL ENTRY: ",null,"-","PHASES:",null,"-",null,null,null,null,null,null,null,null,null,null,null,null,177,null,null,null,177]
[null,null,null,"REST IN RED: ",null,null,"RING 1","-",null,"RING 2","-",null,null,null,null,null,null,null,null,null,null,178,null,null,null,178]
["START IN: ","-",null,"OVERLAP",null,null,null,"A","B","C","D",null,null,null,null,null,null,null,null,null,null,179,null,null,null,179]
["TIME FOR FLASH / ALL RED (SEC.):   ",null,"9, 6",null,null,null,null,null,null,null,null,null,null,null,null,null,null,null,null,null,null,180,null,null,null,180]
["FIRST PHASE(S):","-",null,"PHASES",null,null,null,"-","-","-","-",null,null,null,null,null,null,null,null,null,null,181,null,null,null,181]
["COLOR DISPLAYED:","-",null,null,null,null,null,null,null,null,null,null,null,null,null,null,null,null,null,null,null,182,null,null,null,182]
[null,null,null,null,null,null,null,null,null,null,null,null,null,null,null,null,null,null,null,null,null,183,null,null,null,183]
["INTERVAL OR FEATURE",null,null,"CONTROLLER MOVEMENT NO.",null,null,null,null,null,null,null,null,null,null,null,null,null,null,null,null,null,184,null,null,null,184]
["INTERSECTION MOVEMENT (PHASE)",null,null,1,2,3,4,5,6,7,8,null,null,null,null,null,null,null,null,null,null,185,null,null,null,185]
["DIRECTION",null,null,"-","-","-","-","-","-","-","-",null,null,null,null,null,null,null,null,null,null,186,null,null,null,186]
["MINIMUM GREEN (INITIAL) ",null,"(SEC.)","-","-","-","-","-","-","-","-",null,null,null,null,null,null,null,null,null,null,187,null,null,null,187]
["ADDED INITIAL","*(SEC./ACTUATION)",null,"-","-","-","-","-","-","-","-",null,null,null,null,null,null,null,null,null,null,188,null,null,null,188]
["MAXIMUM INITIAL",null,"*(SEC.)","-","-","-","-","-","-","-","-",null,null,null,null,null,null,null,null,null,null,189,null,null,null,189]
["PASSAGE TIME (PRESET GAP)",null,"(SEC.)","-","-","-","-","-","-","-","-",null,null,null,null,null,null,null,null,null,null,190,null,null,null,190]
["TIME BEFORE REDUCTION",null,"*(SEC.)","-","-","-","-","-","-","-","-",null,null,null,null,null,null,null,null,null,null,191,null,null,null,191]
["MINIMUM GAP",null,"*(SEC.)","-","-","-","-","-","-","-","-",null,null,null,null,null,null,null,null,null,null,192,null,null,null,192]
["TIME TO REDUCE",null,"*(SEC.)","-","-","-","-","-","-","-","-",null,null,null,null,null,null,null,null,null,null,193,null,null,null,193]
["MAXIMUM GREEN I",null,"(SEC.)","-","-","-","-","-","-","-","-",null,null,null,null,null,null,null,null,null,null,194,null,null,null,194]
["MAXIMUM GREEN II",null,"(SEC.)","-","-","-","-","-","-","-","-",null,null,null,null,null,null,null,null,null,null,195,null,null,null,195]
["YELLOW CHANGE",null,"(SEC.)","-","-","-","-","-","-","-","-",null,null,null,null,null,null,null,null,null,null,196,null,null,null,196]
["ALL RED CLEARANCE",null,"(SEC.)","-","-","-","-","-","-","-","-",null,null,null,null,null,null,null,null,null,null,197,null,null,null,197]
["DELAYED GREEN (LPI) #",null,"(SEC.)","-","-","-","-","-","-","-","-",null,null,null,null,null,null,null,null,null,null,198,null,null,null,198]
["FLASHING YELLOW ARROW DELAY^",null,"(SEC.)","-","-","-","-","-","-","-","-",null,null,null,null,null,null,null,null,null,null,199,null,null,null,199]
["WALK",null,"(SEC.)","-","-","-","-","-","-","-","-",null,null,null,null,null,null,null,null,null,null,200,null,null,null,200]
["PEDESTRIAN CLEARANCE",null,"(SEC.)","-","-","-","-","-","-","-","-",null,null,null,null,null,null,null,null,null,null,201,null,null,null,201]
["RECALL","MAXIMUM","(ON/OFF)","-","-","-","-","-","-","-","-",null,null,null,null,null,null,null,null,null,null,202,null,null,null,202]
[null,"MINIMUM","(ON/OFF)","-","-","-","-","-","-","-","-",null,null,null,null,null,null,null,null,null,null,203,null,null,null,203]
[null,"PEDESTRIAN","(ON/OFF)","-","-","-","-","-","-","-","-",null,null,null,null,null,null,null,null,null,null,204,null,null,null,204]
["MEMORY    ",null,"(ON/OFF)","-","-","-","-","-","-","-","-",null,null,null,null,null,null,null,null,null,null,205,null,null,null,205]
["*VOLUME DENSITY CONTROLS",null,null,null,null,null,null,null,null,null,null,null,null,null,null,null,null,null,null,null,null,206,null,null,null,206]
["# FOR CROSSINGS WITH PEDESTRIAN PUSHBUTTONS, LPI'S (LEADING PEDESTRIAN INTERVALS) MAY BE IMPLEMENTED (3-6 SEC.) IN ACCORDANCE WITH LPI DURATION TIME PER THE ODOT SIGNAL CALCULATIONS - CLEARANCE INTERVALS SPREADSHEET",null,null,null,null,null,null,null,null,null,null,null,null,null,null,null,null,null,null,null,null,207,null,null,null,207]
[null,null,null,null,null,null,null,null,null,null,null,null,null,null,null,null,null,null,null,null,null,208,null,null,null,208]
[null,null,null,null,null,null,null,null,null,null,null,null,null,null,null,null,null,null,null,null,null,209,null,null,null,209]
["^ WHEN IMPLEMENTING FYA, A MINIMUM 3 SEC. DELAY SHALL BE PROGRAMMED PER FYA PHASE. ",null,null,null,null,null,null,null,null,null,null,null,null,null,null,null,null,null,null,null,null,210,null,null,null,210]
[null,null,null,null,null,null,null,null,null,null,null,null,null,null,null,null,null,null,null,null,null,211,null,null,null,211]
["ECONOLITE COORD SETTINGS",null,null,"SIEMENS COORD SETTINGS",null,null,null,null,null,null,null,null,null,null,null,null,null,null,null,null,null,212,null,null,null,212]
["MANUAL PATTERN","-",null,"OPERATION",null,null,null,"-",null,null,null,null,null,null,null,null,null,null,null,null,null,213,null,null,null,213]
["SYSTEM SOURCE","-",null,"MODE (NORMAL)",null,null,null,"-",null,null,null,null,null,null,null,null,null,null,null,null,null,214,null,null,null,214]
["SPLITS IN","-",null,"MAXIMUM",null,null,null,"-",null,null,null,null,null,null,null,null,null,null,null,null,null,215,null,null,null,215]
["TRANSITION","-",null,"CORRECTION",null,null,null,"-",null,null,null,null,null,null,null,null,null,null,null,null,null,216,null,null,null,216]
["DWELL/ADD TIME","-",null,"OFFSET MODE",null,null,null,"-",null,null,null,null,null,null,null,null,null,null,null,null,null,217,null,null,null,217]
["OFFSET REFERENCE","-",null,"FORCE MODE",null,null,null,"-",null,null,null,null,null,null,null,null,null,null,null,null,null,218,null,null,null,218]
["PED RECALL","-",null,"MAX DWELL TIME",null,null,null,"-",null,null,null,null,null,null,null,null,null,null,null,null,null,219,null,null,null,219]
["LOCAL ZERO OVERRIDE","-",null,"YIELD PERIOD",null,null,null,"-",null,null,null,null,null,null,null,null,null,null,null,null,null,220,null,null,null,220]
["RE-SYNC COUNT","-",null,"MANUAL CONTROL: DIAL",null,null,null,"-",null,null,null,null,null,null,null,null,null,null,null,null,null,221,null,null,null,221]
["ECPI COORD","-",null,"MANUAL CONTROL: SPLIT",null,null,null,"-",null,null,null,null,null,null,null,null,null,null,null,null,null,222,null,null,null,222]
["SYSTEM FORMAT ","-",null,"MANUAL CONTROL: OFFSET",null,null,null,"-",null,null,null,null,null,null,null,null,null,null,null,null,null,223,null,null,null,223]
["OFFSET IN","-",null,null,null,null,null,null,null,null,null,null,null,null,null,null,null,null,null,null,null,224,null,null,null,224]
["MAX SELECT","-",null,null,null,null,null,null,null,null,null,null,null,null,null,null,null,null,null,null,null,225,null,null,null,225]
["FORCE OFF","-",null,null,null,null,null,null,null,null,null,null,null,null,null,null,null,null,null,null,null,226,null,null,null,226]
["USE PED TIME","-",null,null,null,null,null,null,null,null,null,null,null,null,null,null,null,null,null,null,null,227,null,null,null,227]
["PED RESERVICE","-",null,null,null,null,null,null,null,null,null,null,null,null,null,null,null,null,null,null,null,228,null,null,null,228]
["FO ADD INI GRN","-",null,null,null,null,null,null,null,null,null,null,null,null,null,null,null,null,null,null,null,229,null,null,null,229]
["MULTISYNC","-",null,null,null,null,null,null,null,null,null,null,null,null,null,null,null,null,null,null,null,230,null,null,null,230]
[null,null,null,null,null,null,null,null,null,null,null,null,null,null,null,null,null,null,null,null,null,231,null,null,null,231]
[{"$f":"'Project Name'!$C$2","v":0},null,null,null,null,null,null,null,null,null,null,null,null,null,null,null,null,null,null,null,null,232,null,null,null,232]
["Proposed Local Controller Data",null,null,null,null,null,null,null,null,null,null,null,null,null,null,null,null,null,null,null,null,233,null,null,null,233]
[null,null,null,null,null,null,null,null,null,null,null,null,null,null,null,null,null,null,null,null,null,234,null,null,null,234]
["INTERSECTION:",null,null,null,null,null,null,null,null,null,null,null,null,null,null,null,null,null,null,null,null,235,null,null,null,235]
["MAINTAINING AGENCY:",null,null,null,null,null,null,null,null,null,null,null,null,null,null,null,null,null,null,null,null,236,null,null,null,236]
["START UP",null,null,"DUAL ENTRY: ",null,"-","PHASES:",null,"-",null,null,null,null,null,null,null,null,null,null,null,null,237,null,null,null,237]
[null,null,null,"REST IN RED: ",null,null,"RING 1","-",null,"RING 2","-",null,null,null,null,null,null,null,null,null,null,238,null,null,null,238]
["START IN: ","-",null,"OVERLAP",null,null,null,"A","B","C","D",null,null,null,null,null,null,null,null,null,null,239,null,null,null,239]
["TIME FOR FLASH / ALL RED (SEC.):   ",null,"9, 6",null,null,null,null,null,null,null,null,null,null,null,null,null,null,null,null,null,null,240,null,null,null,240]
["FIRST PHASE(S):","-",null,"PHASES",null,null,null,"-","-","-","-",null,null,null,null,null,null,null,null,null,null,241,null,null,null,241]
["COLOR DISPLAYED:","-",null,null,null,null,null,null,null,null,null,null,null,null,null,null,null,null,null,null,null,242,null,null,null,242]
[null,null,null,null,null,null,null,null,null,null,null,null,null,null,null,null,null,null,null,null,null,243,null,null,null,243]
["INTERVAL OR FEATURE",null,null,"CONTROLLER MOVEMENT NO.",null,null,null,null,null,null,null,null,null,null,null,null,null,null,null,null,null,244,null,null,null,244]
["INTERSECTION MOVEMENT (PHASE)",null,null,1,2,3,4,5,6,7,8,null,null,null,null,null,null,null,null,null,null,245,null,null,null,245]
["DIRECTION",null,null,"-","-","-","-","-","-","-","-",null,null,null,null,null,null,null,null,null,null,246,null,null,null,246]
["MINIMUM GREEN (INITIAL) ",null,"(SEC.)","-","-","-","-","-","-","-","-",null,null,null,null,null,null,null,null,null,null,247,null,null,null,247]
["ADDED INITIAL","*(SEC./ACTUATION)",null,"-","-","-","-","-","-","-","-",null,null,null,null,null,null,null,null,null,null,248,null,null,null,248]
["MAXIMUM INITIAL",null,"*(SEC.)","-","-","-","-","-","-","-","-",null,null,null,null,null,null,null,null,null,null,249,null,null,null,249]
["PASSAGE TIME (PRESET GAP)",null,"(SEC.)","-","-","-","-","-","-","-","-",null,null,null,null,null,null,null,null,null,null,250,null,null,null,250]
["TIME BEFORE REDUCTION",null,"*(SEC.)","-","-","-","-","-","-","-","-",null,null,null,null,null,null,null,null,null,null,251,null,null,null,251]
["MINIMUM GAP",null,"*(SEC.)","-","-","-","-","-","-","-","-",null,null,null,null,null,null,null,null,null,null,252,null,null,null,252]
["TIME TO REDUCE",null,"*(SEC.)","-","-","-","-","-","-","-","-",null,null,null,null,null,null,null,null,null,null,253,null,null,null,253]
["MAXIMUM GREEN I",null,"(SEC.)","-","-","-","-","-","-","-","-",null,null,null,null,null,null,null,null,null,null,254,null,null,null,254]
["MAXIMUM GREEN II",null,"(SEC.)","-","-","-","-","-","-","-","-",null,null,null,null,null,null,null,null,null,null,255,null,null,null,255]
["YELLOW CHANGE",null,"(SEC.)","-","-","-","-","-","-","-","-"]
["ALL RED CLEARANCE",null,"(SEC.)","-","-","-","-","-","-","-","-"]
["DELAYED GREEN (LPI) #",null,"(SEC.)","-","-","-","-","-","-","-","-"]
["FLASHING YELLOW ARROW DELAY^",null,"(SEC.)","-","-","-","-","-","-","-","-"]
["WALK",null,"(SEC.)","-","-","-","-","-","-","-","-"]
["PEDESTRIAN CLEARANCE",null,"(SEC.)","-","-","-","-","-","-","-","-"]
["RECALL","MAXIMUM","(ON/OFF)","-","-","-","-","-","-","-","-"]
[null,"MINIMUM","(ON/OFF)","-","-","-","-","-","-","-","-"]
[null,"PEDESTRIAN","(ON/OFF)","-","-","-","-","-","-","-","-"]
["MEMORY    ",null,"(ON/OFF)","-","-","-","-","-","-","-","-"]
["*VOLUME DENSITY CONTROLS"]
["# FOR CROSSINGS WITH PEDESTRIAN PUSHBUTTONS, LPI'S (LEADING PEDESTRIAN INTERVALS) MAY BE IMPLEMENTED (3-6 SEC.) IN ACCORDANCE WITH LPI DURATION TIME PER THE ODOT SIGNAL CALCULATIONS - CLEARANCE INTERVALS SPREADSHEET"]
[]
[]
["^ WHEN IMPLEMENTING FYA, A MINIMUM 3 SEC. DELAY SHALL BE PROGRAMMED PER FYA PHASE. "]
[]
["ECONOLITE COORD SETTINGS",null,null,"SIEMENS COORD SETTINGS"]
["MANUAL PATTERN","-",null,"OPERATION",null,null,null,"-"]
["SYSTEM SOURCE","-",null,"MODE (NORMAL)",null,null,null,"-"]
["SPLITS IN","-",null,"MAXIMUM",null,null,null,"-"]
["TRANSITION","-",null,"CORRECTION",null,null,null,"-"]
["DWELL/ADD TIME","-",null,"OFFSET MODE",null,null,null,"-"]
["OFFSET REFERENCE","-",null,"FORCE MODE",null,null,null,"-"]
["PED RECALL","-",null,"MAX DWELL TIME",null,null,null,"-"]
["LOCAL ZERO OVERRIDE","-",null,"YIELD PERIOD",null,null,null,"-"]
["RE-SYNC COUNT","-",null,"MANUAL CONTROL: DIAL",null,null,null,"-"]
["ECPI COORD","-",null,"MANUAL CONTROL: SPLIT",null,null,null,"-"]
["SYSTEM FORMAT ","-",null,"MANUAL CONTROL: OFFSET",null,null,null,"-"]
["OFFSET IN","-"]
["MAX SELECT","-"]
["FORCE OFF","-"]
["USE PED TIME","-"]
["PED RESERVICE","-"]
["FO ADD INI GRN","-"]
["MULTISYNC","-"]
[]
[{"$f":"'Project Name'!$C$2","v":0}]
["Proposed Local Controller Data"]
[]
["INTERSECTION:"]
["MAINTAINING AGENCY:"]
["START UP",null,null,"DUAL ENTRY: ",null,"-","PHASES:",null,"-"]
[null,null,null,"REST IN RED: ",null,null,"RING 1","-",null,"RING 2","-"]
["START IN: ","-",null,"OVERLAP",null,null,null,"A","B","C","D"]
["TIME FOR FLASH / ALL RED (SEC.):   ",null,"9, 6"]
["FIRST PHASE(S):","-",null,"PHASES",null,null,null,"-","-","-","-"]
["COLOR DISPLAYED:","-"]
[]
["INTERVAL OR FEATURE",null,null,"CONTROLLER MOVEMENT NO."]
["INTERSECTION MOVEMENT (PHASE)",null,null,1,2,3,4,5,6,7,8]
["DIRECTION",null,null,"-","-","-","-","-","-","-","-"]
["MINIMUM GREEN (INITIAL) ",null,"(SEC.)","-","-","-","-","-","-","-","-"]
["ADDED INITIAL","*(SEC./ACTUATION)",null,"-","-","-","-","-","-","-","-"]
["MAXIMUM INITIAL",null,"*(SEC.)","-","-","-","-","-","-","-","-"]
["PASSAGE TIME (PRESET GAP)",null,"(SEC.)","-","-","-","-","-","-","-","-"]
["TIME BEFORE REDUCTION",null,"*(SEC.)","-","-","-","-","-","-","-","-"]
["MINIMUM GAP",null,"*(SEC.)","-","-","-","-","-","-","-","-"]
["TIME TO REDUCE",null,"*(SEC.)","-","-","-","-","-","-","-","-"]
["MAXIMUM GREEN I",null,"(SEC.)","-","-","-","-","-","-","-","-"]
["MAXIMUM GREEN II",null,"(SEC.)","-","-","-","-","-","-","-","-"]
["YELLOW CHANGE",null,"(SEC.)","-","-","-","-","-","-","-","-"]
["ALL RED CLEARANCE",null,"(SEC.)","-","-","-","-","-","-","-","-"]
["DELAYED GREEN (LPI) #",null,"(SEC.)","-","-","-","-","-","-","-","-"]
["FLASHING YELLOW ARROW DELAY^",null,"(SEC.)","-","-","-","-","-","-","-","-"]
["WALK",null,"(SEC.)","-","-","-","-","-","-","-","-"]
["PEDESTRIAN CLEARANCE",null,"(SEC.)","-","-","-","-","-","-","-","-"]
["RECALL","MAXIMUM","(ON/OFF)","-","-","-","-","-","-","-","-"]
[null,"MINIMUM","(ON/OFF)","-","-","-","-","-","-","-","-"]
[null,"PEDESTRIAN","(ON/OFF)","-","-","-","-","-","-","-","-"]
["MEMORY    ",null,"(ON/OFF)","-","-","-","-","-","-","-","-"]
["*VOLUME DENSITY CONTROLS"]
["# FOR CROSSINGS WITH PEDESTRIAN PUSHBUTTONS, LPI'S (LEADING PEDESTRIAN INTERVALS) MAY BE IMPLEMENTED (3-6 SEC.) IN ACCORDANCE WITH LPI DURATION TIME PER THE ODOT SIGNAL CALCULATIONS - CLEARANCE INTERVALS SPREADSHEET"]
[]
[]
["^ WHEN IMPLEMENTING FYA, A MINIMUM 3 SEC. DELAY SHALL BE PROGRAMMED PER FYA PHASE. "]
[]
["ECONOLITE COORD SETTINGS",null,null,"SIEMENS COORD SETTINGS"]
["MANUAL PATTERN","-",null,"OPERATION",null,null,null,"-"]
["SYSTEM SOURCE","-",null,"MODE (NORMAL)",null,null,null,"-"]
["SPLITS IN","-",null,"MAXIMUM",null,null,null,"-"]
["TRANSITION","-",null,"CORRECTION",null,null,null,"-"]
["DWELL/ADD TIME","-",null,"OFFSET MODE",null,null,null,"-"]
["OFFSET REFERENCE","-",null,"FORCE MODE",null,null,null,"-"]
["PED RECALL","-",null,"MAX DWELL TIME",null,null,null,"-"]
["LOCAL ZERO OVERRIDE","-",null,"YIELD PERIOD",null,null,null,"-"]
["RE-SYNC COUNT","-",null,"MANUAL CONTROL: DIAL",null,null,null,"-"]
["ECPI COORD","-",null,"MANUAL CONTROL: SPLIT",null,null,null,"-"]
["SYSTEM FORMAT ","-",null,"MANUAL CONTROL: OFFSET",null,null,null,"-"]
["OFFSET IN","-"]
["MAX SELECT","-"]
["FORCE OFF","-"]
["USE PED TIME","-"]
["PED RESERVICE","-"]
["FO ADD INI GRN","-"]
["MULTISYNC","-"]
[]
[{"$f":"'Project Name'!$C$2","v":0}]
["Proposed Local Controller Data"]
[]
["INTERSECTION:"]
["MAINTAINING AGENCY:"]
["START UP",null,null,"DUAL ENTRY: ",null,"-","PHASES:",null,"-"]
[null,null,null,"REST IN RED: ",null,null,"RING 1","-",null,"RING 2","-"]
["START IN: ","-",null,"OVERLAP",null,null,null,"A","B","C","D"]
["TIME FOR FLASH / ALL RED (SEC.):   ",null,"9, 6"]
["FIRST PHASE(S):","-",null,"PHASES",null,null,null,"-","-","-","-"]
["COLOR DISPLAYED:","-"]
[]
["INTERVAL OR FEATURE",null,null,"CONTROLLER MOVEMENT NO."]
["INTERSECTION MOVEMENT (PHASE)",null,null,1,2,3,4,5,6,7,8]
["DIRECTION",null,null,"-","-","-","-","-","-","-","-"]
["MINIMUM GREEN (INITIAL) ",null,"(SEC.)","-","-","-","-","-","-","-","-"]
["ADDED INITIAL","*(SEC./ACTUATION)",null,"-","-","-","-","-","-","-","-"]
["MAXIMUM INITIAL",null,"*(SEC.)","-","-","-","-","-","-","-","-"]
["PASSAGE TIME (PRESET GAP)",null,"(SEC.)","-","-","-","-","-","-","-","-"]
["TIME BEFORE REDUCTION",null,"*(SEC.)","-","-","-","-","-","-","-","-"]
["MINIMUM GAP",null,"*(SEC.)","-","-","-","-","-","-","-","-"]
["TIME TO REDUCE",null,"*(SEC.)","-","-","-","-","-","-","-","-"]
["MAXIMUM GREEN I",null,"(SEC.)","-","-","-","-","-","-","-","-"]
["MAXIMUM GREEN II",null,"(SEC.)","-","-","-","-","-","-","-","-"]
["YELLOW CHANGE",null,"(SEC.)","-","-","-","-","-","-","-","-"]
["ALL RED CLEARANCE",null,"(SEC.)","-","-","-","-","-","-","-","-"]
["DELAYED GREEN (LPI) #",null,"(SEC.)","-","-","-","-","-","-","-","-"]
["FLASHING YELLOW ARROW DELAY^",null,"(SEC.)","-","-","-","-","-","-","-","-"]
["WALK",null,"(SEC.)","-","-","-","-","-","-","-","-"]
["PEDESTRIAN CLEARANCE",null,"(SEC.)","-","-","-","-","-","-","-","-"]
["RECALL","MAXIMUM","(ON/OFF)","-","-","-","-","-","-","-","-"]
[null,"MINIMUM","(ON/OFF)","-","-","-","-","-","-","-","-"]
[null,"PEDESTRIAN","(ON/OFF)","-","-","-","-","-","-","-","-"]
["MEMORY    ",null,"(ON/OFF)","-","-","-","-","-","-","-","-"]
["*VOLUME DENSITY CONTROLS"]
["# FOR CROSSINGS WITH PEDESTRIAN PUSHBUTTONS, LPI'S (LEADING PEDESTRIAN INTERVALS) MAY BE IMPLEMENTED (3-6 SEC.) IN ACCORDANCE WITH LPI DURATION TIME PER THE ODOT SIGNAL CALCULATIONS - CLEARANCE INTERVALS SPREADSHEET"]
[]
[]
["^ WHEN IMPLEMENTING FYA, A MINIMUM 3 SEC. DELAY SHALL BE PROGRAMMED PER FYA PHASE. "]
[]
["ECONOLITE COORD SETTINGS",null,null,"SIEMENS COORD SETTINGS"]
["MANUAL PATTERN","-",null,"OPERATION",null,null,null,"-"]
["SYSTEM SOURCE","-",null,"MODE (NORMAL)",null,null,null,"-"]
["SPLITS IN","-",null,"MAXIMUM",null,null,null,"-"]
["TRANSITION","-",null,"CORRECTION",null,null,null,"-"]
["DWELL/ADD TIME","-",null,"OFFSET MODE",null,null,null,"-"]
["OFFSET REFERENCE","-",null,"FORCE MODE",null,null,null,"-"]
["PED RECALL","-",null,"MAX DWELL TIME",null,null,null,"-"]
["LOCAL ZERO OVERRIDE","-",null,"YIELD PERIOD",null,null,null,"-"]
["RE-SYNC COUNT","-",null,"MANUAL CONTROL: DIAL",null,null,null,"-"]
["ECPI COORD","-",null,"MANUAL CONTROL: SPLIT",null,null,null,"-"]
["SYSTEM FORMAT ","-",null,"MANUAL CONTROL: OFFSET",null,null,null,"-"]
["OFFSET IN","-"]
["MAX SELECT","-"]
["FORCE OFF","-"]
["USE PED TIME","-"]
["PED RESERVICE","-"]
["FO ADD INI GRN","-"]
["MULTISYNC","-"]
[]
[{"$f":"'Project Name'!$C$2","v":0}]
["Proposed Local Controller Data"]
[]
["INTERSECTION:"]
["MAINTAINING AGENCY:"]
["START UP",null,null,"DUAL ENTRY: ",null,"-","PHASES:",null,"-"]
[null,null,null,"REST IN RED: ",null,null,"RING 1","-",null,"RING 2","-"]
["START IN: ","-",null,"OVERLAP",null,null,null,"A","B","C","D"]
["TIME FOR FLASH / ALL RED (SEC.):   ",null,"9, 6"]
["FIRST PHASE(S):","-",null,"PHASES",null,null,null,"-","-","-","-"]
["COLOR DISPLAYED:","-"]
[]
["INTERVAL OR FEATURE",null,null,"CONTROLLER MOVEMENT NO."]
["INTERSECTION MOVEMENT (PHASE)",null,null,1,2,3,4,5,6,7,8]
["DIRECTION",null,null,"-","-","-","-","-","-","-","-"]
["MINIMUM GREEN (INITIAL) ",null,"(SEC.)","-","-","-","-","-","-","-","-"]
["ADDED INITIAL","*(SEC./ACTUATION)",null,"-","-","-","-","-","-","-","-"]
["MAXIMUM INITIAL",null,"*(SEC.)","-","-","-","-","-","-","-","-"]
["PASSAGE TIME (PRESET GAP)",null,"(SEC.)","-","-","-","-","-","-","-","-"]
["TIME BEFORE REDUCTION",null,"*(SEC.)","-","-","-","-","-","-","-","-"]
["MINIMUM GAP",null,"*(SEC.)","-","-","-","-","-","-","-","-"]
["TIME TO REDUCE",null,"*(SEC.)","-","-","-","-","-","-","-","-"]
["MAXIMUM GREEN I",null,"(SEC.)","-","-","-","-","-","-","-","-"]
["MAXIMUM GREEN II",null,"(SEC.)","-","-","-","-","-","-","-","-"]
["YELLOW CHANGE",null,"(SEC.)","-","-","-","-","-","-","-","-"]
["ALL RED CLEARANCE",null,"(SEC.)","-","-","-","-","-","-","-","-"]
["DELAYED GREEN (LPI) #",null,"(SEC.)","-","-","-","-","-","-","-","-"]
["FLASHING YELLOW ARROW DELAY^",null,"(SEC.)","-","-","-","-","-","-","-","-"]
["WALK",null,"(SEC.)","-","-","-","-","-","-","-","-"]
["PEDESTRIAN CLEARANCE",null,"(SEC.)","-","-","-","-","-","-","-","-"]
["RECALL","MAXIMUM","(ON/OFF)","-","-","-","-","-","-","-","-"]
[null,"MINIMUM","(ON/OFF)","-","-","-","-","-","-","-","-"]
[null,"PEDESTRIAN","(ON/OFF)","-","-","-","-","-","-","-","-"]
["MEMORY    ",null,"(ON/OFF)","-","-","-","-","-","-","-","-"]
["*VOLUME DENSITY CONTROLS"]
["# FOR CROSSINGS WITH PEDESTRIAN PUSHBUTTONS, LPI'S (LEADING PEDESTRIAN INTERVALS) MAY BE IMPLEMENTED (3-6 SEC.) IN ACCORDANCE WITH LPI DURATION TIME PER THE ODOT SIGNAL CALCULATIONS - CLEARANCE INTERVALS SPREADSHEET"]
[]
[]
["^ WHEN IMPLEMENTING FYA, A MINIMUM 3 SEC. DELAY SHALL BE PROGRAMMED PER FYA PHASE. "]
[]
["ECONOLITE COORD SETTINGS",null,null,"SIEMENS COORD SETTINGS"]
["MANUAL PATTERN","-",null,"OPERATION",null,null,null,"-"]
["SYSTEM SOURCE","-",null,"MODE (NORMAL)",null,null,null,"-"]
["SPLITS IN","-",null,"MAXIMUM",null,null,null,"-"]
["TRANSITION","-",null,"CORRECTION",null,null,null,"-"]
["DWELL/ADD TIME","-",null,"OFFSET MODE",null,null,null,"-"]
["OFFSET REFERENCE","-",null,"FORCE MODE",null,null,null,"-"]
["PED RECALL","-",null,"MAX DWELL TIME",null,null,null,"-"]
["LOCAL ZERO OVERRIDE","-",null,"YIELD PERIOD",null,null,null,"-"]
["RE-SYNC COUNT","-",null,"MANUAL CONTROL: DIAL",null,null,null,"-"]
["ECPI COORD","-",null,"MANUAL CONTROL: SPLIT",null,null,null,"-"]
["SYSTEM FORMAT ","-",null,"MANUAL CONTROL: OFFSET",null,null,null,"-"]
["OFFSET IN","-"]
["MAX SELECT","-"]
["FORCE OFF","-"]
["USE PED TIME","-"]
["PED RESERVICE","-"]
["FO ADD INI GRN","-"]
["MULTISYNC","-"]
[]
[{"$f":"'Project Name'!$C$2","v":0}]
["Proposed Local Controller Data"]
[]
["INTERSECTION:"]
["MAINTAINING AGENCY:"]
["START UP",null,null,"DUAL ENTRY: ",null,"-","PHASES:",null,"-"]
[null,null,null,"REST IN RED: ",null,null,"RING 1","-",null,"RING 2","-"]
["START IN: ","-",null,"OVERLAP",null,null,null,"A","B","C","D"]
["TIME FOR FLASH / ALL RED (SEC.):   ",null,"9, 6"]
["FIRST PHASE(S):","-",null,"PHASES",null,null,null,"-","-","-","-"]
["COLOR DISPLAYED:","-"]
[]
["INTERVAL OR FEATURE",null,null,"CONTROLLER MOVEMENT NO."]
["INTERSECTION MOVEMENT (PHASE)",null,null,1,2,3,4,5,6,7,8]
["DIRECTION",null,null,"-","-","-","-","-","-","-","-"]
["MINIMUM GREEN (INITIAL) ",null,"(SEC.)","-","-","-","-","-","-","-","-"]
["ADDED INITIAL","*(SEC./ACTUATION)",null,"-","-","-","-","-","-","-","-"]
["MAXIMUM INITIAL",null,"*(SEC.)","-","-","-","-","-","-","-","-"]
["PASSAGE TIME (PRESET GAP)",null,"(SEC.)","-","-","-","-","-","-","-","-"]
["TIME BEFORE REDUCTION",null,"*(SEC.)","-","-","-","-","-","-","-","-"]
["MINIMUM GAP",null,"*(SEC.)","-","-","-","-","-","-","-","-"]
["TIME TO REDUCE",null,"*(SEC.)","-","-","-","-","-","-","-","-"]
["MAXIMUM GREEN I",null,"(SEC.)","-","-","-","-","-","-","-","-"]
["MAXIMUM GREEN II",null,"(SEC.)","-","-","-","-","-","-","-","-"]
["YELLOW CHANGE",null,"(SEC.)","-","-","-","-","-","-","-","-"]
["ALL RED CLEARANCE",null,"(SEC.)","-","-","-","-","-","-","-","-"]
["DELAYED GREEN (LPI) #",null,"(SEC.)","-","-","-","-","-","-","-","-"]
["FLASHING YELLOW ARROW DELAY^",null,"(SEC.)","-","-","-","-","-","-","-","-"]
["WALK",null,"(SEC.)","-","-","-","-","-","-","-","-"]
["PEDESTRIAN CLEARANCE",null,"(SEC.)","-","-","-","-","-","-","-","-"]
["RECALL","MAXIMUM","(ON/OFF)","-","-","-","-","-","-","-","-"]
[null,"MINIMUM","(ON/OFF)","-","-","-","-","-","-","-","-"]
[null,"PEDESTRIAN","(ON/OFF)","-","-","-","-","-","-","-","-"]
["MEMORY    ",null,"(ON/OFF)","-","-","-","-","-","-","-","-"]
["*VOLUME DENSITY CONTROLS"]
["# FOR CROSSINGS WITH PEDESTRIAN PUSHBUTTONS, LPI'S (LEADING PEDESTRIAN INTERVALS) MAY BE IMPLEMENTED (3-6 SEC.) IN ACCORDANCE WITH LPI DURATION TIME PER THE ODOT SIGNAL CALCULATIONS - CLEARANCE INTERVALS SPREADSHEET"]
[]
[]
["^ WHEN IMPLEMENTING FYA, A MINIMUM 3 SEC. DELAY SHALL BE PROGRAMMED PER FYA PHASE. "]
[]
["ECONOLITE COORD SETTINGS",null,null,"SIEMENS COORD SETTINGS"]
["MANUAL PATTERN","-",null,"OPERATION",null,null,null,"-"]
["SYSTEM SOURCE","-",null,"MODE (NORMAL)",null,null,null,"-"]
["SPLITS IN","-",null,"MAXIMUM",null,null,null,"-"]
["TRANSITION","-",null,"CORRECTION",null,null,null,"-"]
["DWELL/ADD TIME","-",null,"OFFSET MODE",null,null,null,"-"]
["OFFSET REFERENCE","-",null,"FORCE MODE",null,null,null,"-"]
["PED RECALL","-",null,"MAX DWELL TIME",null,null,null,"-"]
["LOCAL ZERO OVERRIDE","-",null,"YIELD PERIOD",null,null,null,"-"]
["RE-SYNC COUNT","-",null,"MANUAL CONTROL: DIAL",null,null,null,"-"]
["ECPI COORD","-",null,"MANUAL CONTROL: SPLIT",null,null,null,"-"]
["SYSTEM FORMAT ","-",null,"MANUAL CONTROL: OFFSET",null,null,null,"-"]
["OFFSET IN","-"]
["MAX SELECT","-"]
["FORCE OFF","-"]
["USE PED TIME","-"]
["PED RESERVICE","-"]
["FO ADD INI GRN","-"]
["MULTISYNC","-"]
[]
[{"$f":"'Project Name'!$C$2","v":0}]
["Proposed Local Controller Data"]
[]
["INTERSECTION:"]
["MAINTAINING AGENCY:"]
["START UP",null,null,"DUAL ENTRY: ",null,"-","PHASES:",null,"-"]
[null,null,null,"REST IN RED: ",null,null,"RING 1","-",null,"RING 2","-"]
["START IN: ","-",null,"OVERLAP",null,null,null,"A","B","C","D"]
["TIME FOR FLASH / ALL RED (SEC.):   ",null,"9, 6"]
["FIRST PHASE(S):","-",null,"PHASES",null,null,null,"-","-","-","-"]
["COLOR DISPLAYED:","-"]
[]
["INTERVAL OR FEATURE",null,null,"CONTROLLER MOVEMENT NO."]
["INTERSECTION MOVEMENT (PHASE)",null,null,1,2,3,4,5,6,7,8]
["DIRECTION",null,null,"-","-","-","-","-","-","-","-"]
["MINIMUM GREEN (INITIAL) ",null,"(SEC.)","-","-","-","-","-","-","-","-"]
["ADDED INITIAL","*(SEC./ACTUATION)",null,"-","-","-","-","-","-","-","-"]
["MAXIMUM INITIAL",null,"*(SEC.)","-","-","-","-","-","-","-","-"]
["PASSAGE TIME (PRESET GAP)",null,"(SEC.)","-","-","-","-","-","-","-","-"]
["TIME BEFORE REDUCTION",null,"*(SEC.)","-","-","-","-","-","-","-","-"]
["MINIMUM GAP",null,"*(SEC.)","-","-","-","-","-","-","-","-"]
["TIME TO REDUCE",null,"*(SEC.)","-","-","-","-","-","-","-","-"]
["MAXIMUM GREEN I",null,"(SEC.)","-","-","-","-","-","-","-","-"]
["MAXIMUM GREEN II",null,"(SEC.)","-","-","-","-","-","-","-","-"]
["YELLOW CHANGE",null,"(SEC.)","-","-","-","-","-","-","-","-"]
["ALL RED CLEARANCE",null,"(SEC.)","-","-","-","-","-","-","-","-"]
["DELAYED GREEN (LPI) #",null,"(SEC.)","-","-","-","-","-","-","-","-"]
["FLASHING YELLOW ARROW DELAY^",null,"(SEC.)","-","-","-","-","-","-","-","-"]
["WALK",null,"(SEC.)","-","-","-","-","-","-","-","-"]
["PEDESTRIAN CLEARANCE",null,"(SEC.)","-","-","-","-","-","-","-","-"]
["RECALL","MAXIMUM","(ON/OFF)","-","-","-","-","-","-","-","-"]
[null,"MINIMUM","(ON/OFF)","-","-","-","-","-","-","-","-"]
[null,"PEDESTRIAN","(ON/OFF)","-","-","-","-","-","-","-","-"]
["MEMORY    ",null,"(ON/OFF)","-","-","-","-","-","-","-","-"]
["*VOLUME DENSITY CONTROLS"]
["# FOR CROSSINGS WITH PEDESTRIAN PUSHBUTTONS, LPI'S (LEADING PEDESTRIAN INTERVALS) MAY BE IMPLEMENTED (3-6 SEC.) IN ACCORDANCE WITH LPI DURATION TIME PER THE ODOT SIGNAL CALCULATIONS - CLEARANCE INTERVALS SPREADSHEET"]
[]
[]
["^ WHEN IMPLEMENTING FYA, A MINIMUM 3 SEC. DELAY SHALL BE PROGRAMMED PER FYA PHASE. "]
[]
["ECONOLITE COORD SETTINGS",null,null,"SIEMENS COORD SETTINGS"]
["MANUAL PATTERN","-",null,"OPERATION",null,null,null,"-"]
["SYSTEM SOURCE","-",null,"MODE (NORMAL)",null,null,null,"-"]
["SPLITS IN","-",null,"MAXIMUM",null,null,null,"-"]
["TRANSITION","-",null,"CORRECTION",null,null,null,"-"]
["DWELL/ADD TIME","-",null,"OFFSET MODE",null,null,null,"-"]
["OFFSET REFERENCE","-",null,"FORCE MODE",null,null,null,"-"]
["PED RECALL","-",null,"MAX DWELL TIME",null,null,null,"-"]
["LOCAL ZERO OVERRIDE","-",null,"YIELD PERIOD",null,null,null,"-"]
["RE-SYNC COUNT","-",null,"MANUAL CONTROL: DIAL",null,null,null,"-"]
["ECPI COORD","-",null,"MANUAL CONTROL: SPLIT",null,null,null,"-"]
["SYSTEM FORMAT ","-",null,"MANUAL CONTROL: OFFSET",null,null,null,"-"]
["OFFSET IN","-"]
["MAX SELECT","-"]
["FORCE OFF","-"]
["USE PED TIME","-"]
["PED RESERVICE","-"]
["FO ADD INI GRN","-"]
["MULTISYNC","-"]

{"sheet":"Local Data - COMB - Read Only","index":3,"n_rows":565,"n_cols":23,"rows_kept":565,"cut":false,"hidden":false,"merged":[[553,15,553,18],[553,19,553,21],[554,15,554,18],[554,19,554,21],[555,15,555,18],[555,19,555,21],[556,15,556,18],[556,19,556,21],[557,15,557,18],[557,19,557,21],[548,15,548,18],[548,19,548,21],[549,15,549,18],[549,19,549,21],[550,15,550,18],[550,19,550,21],[551,15,551,18],[551,19,551,21],[552,15,552,18],[552,19,552,21],[537,12,537,13],[538,12,540,12],[541,12,541,13],[542,12,542,22],[543,12,543,22],[544,12,544,22],[546,12,546,13],[546,15,546,21],[547,15,547,18],[547,19,547,21],[528,12,528,13],[529,12,529,13],[530,12,530,13],[531,12,531,13],[532,12,532,13],[533,12,533,13],[534,12,534,13],[535,12,535,13],[536,12,536,13],[520,12,520,14],[520,15,520,22],[521,12,521,14],[522,12,522,14],[523,12,523,13],[524,13,524,14],[525,12,525,13],[526,12,526,13],[527,12,527,13],[516,13,516,14],[516,15,517,18],[516,19,517,19],[516,20,517,20],[516,21,517,21],[516,22,517,22],[517,12,517,13],[518,13,518,14],[518,15,519,18],[518,19,519,19],[518,20,519,20],[518,21,519,21],[518,22,519,22],[519,13,519,14],[510,12,510,22],[511,12,511,22],[512,12,512,14],[512,15,512,22],[513,12,513,14],[513,15,513,22],[514,12,515,14],[514,15,514,16],[514,18,514,19],[514,20,514,22],[515,15,515,16],[497,15,497,18],[497,19,497,21],[498,15,498,18],[498,19,498,21],[499,15,499,18],[499,19,499,21],[500,15,500,18],[500,19,500,21],[501,15,501,18],[501,19,501,21],[492,15,492,18],[492,19,492,21],[493,15,493,18],[493,19,493,21],[494,15,494,18],[494,19,494,21],[495,15,495,18],[495,19,495,21],[496,15,496,18],[496,19,496,21],[481,12,481,13],[482,12,484,12],[485,12,485,13],[486,12,486,22],[487,12,487,22],[488,12,488,22],[490,12,490,13],[490,15,490,21],[491,15,491,18],[491,19,491,21],[472,12,472,13],[473,12,473,13],[474,12,474,13],[475,12,475,13],[476,12,476,13],[477,12,477,13],[478,12,478,13],[479,12,479,13],[480,12,480,13],[464,12,464,14],[464,15,464,22],[465,12,465,14],[466,12,466,14],[467,12,467,13],[468,13,468,14],[469,12,469,13],[470,12,470,13],[471,12,471,13],[460,13,460,14],[460,15,461,18],[460,19,461,19],[460,20,461,20],[460,21,461,21],[460,22,461,22],[461,12,461,13],[462,13,462,14],[462,15,463,18],[462,19,463,19],[462,20,463,20],[462,21,463,21],[462,22,463,22],[463,13,463,14],[454,12,454,22],[455,12,455,22],[456,12,456,14],[456,15,456,22],[457,12,457,14],[457,15,457,22],[458,12,459,14],[458,15,458,16],[458,18,458,19],[458,20,458,22],[459,15,459,16],[441,15,441,18],[441,19,441,21],[442,15,442,18],[442,19,442,21],[443,15,443,18],[443,19,443,21],[444,15,444,18],[444,19,444,21],[445,15,445,18],[445,19,445,21],[436,15,436,18],[436,19,436,21],[437,15,437,18],[437,19,437,21],[438,15,438,18],[438,19,438,21],[439,15,439,18],[439,19,439,21],[440,15,440,18],[440,19,440,21],[425,12,425,13],[426,12,428,12],[429,12,429,13],[430,12,430,22],[431,12,431,22],[432,12,432,22],[434,12,434,13],[434,15,434,21],[435,15,435,18],[435,19,435,21],[416,12,416,13],[417,12,417,13],[418,12,418,13],[419,12,419,13],[420,12,420,13],[421,12,421,13],[422,12,422,13],[423,12,423,13],[424,12,424,13],[408,12,408,14],[408,15,408,22],[409,12,409,14],[410,12,410,14],[411,12,411,13],[412,13,412,14],[413,12,413,13],[414,12,414,13],[415,12,415,13],[404,13,404,14],[404,15,405,18],[404,19,405,19],[404,20,405,20],[404,21,405,21],[404,22,405,22],[405,12,405,13],[406,13,406,14],[406,15,407,18],[406,19,407,19],[406,20,407,20],[406,21,407,21],[406,22,407,22],[407,13,407,14],[398,12,398,22],[399,12,399,22],[400,12,400,14],[400,15,400,22],[401,12,401,14],[401,15,401,22],[402,12,403,14],[402,15,402,16],[402,18,402,19],[402,20,402,22],[403,15,403,16],[385,15,385,18],[385,19,385,21],[386,15,386,18],[386,19,386,21],[387,15,387,18],[387,19,387,21],[388,15,388,18],[388,19,388,21],[389,15,389,18],[389,19,389,21],[380,15,380,18],[380,19,380,21],[381,15,381,18],[381,19,381,21],[382,15,382,18],[382,19,382,21],[383,15,383,18],[383,19,383,21],[384,15,384,18],[384,19,384,21],[369,12,369,13],[370,12,372,12],[373,12,373,13],[374,12,374,22],[375,12,375,22],[376,12,376,22],[378,12,378,13],[378,15,378,21],[379,15,379,18],[379,19,379,21],[360,12,360,13],[361,12,361,13],[362,12,362,13],[363,12,363,13],[364,12,364,13],[365,12,365,13],[366,12,366,13],[367,12,367,13],[368,12,368,13],[352,12,352,14],[352,15,352,22],[353,12,353,14],[354,12,354,14],[355,12,355,13],[356,13,356,14],[357,12,357,13],[358,12,358,13],[359,12,359,13],[348,13,348,14],[348,15,349,18],[348,19,349,19],[348,20,349,20],[348,21,349,21],[348,22,349,22],[349,12,349,13],[350,13,350,14],[350,15,351,18],[350,19,351,19],[350,20,351,20],[350,21,351,21],[350,22,351,22],[351,13,351,14],[342,12,342,22],[343,12,343,22],[344,12,344,14],[344,15,344,22],[345,12,345,14],[345,15,345,22],[346,12,347,14],[346,15,346,16],[346,18,346,19],[346,20,346,22],[347,15,347,16],[329,15,329,18],[329,19,329,21],[330,15,330,18],[330,19,330,21],[331,15,331,18],[331,19,331,21],[332,15,332,18],[332,19,332,21],[333,15,333,18],[333,19,333,21],[324,15,324,18],[324,19,324,21],[325,15,325,18],[325,19,325,21],[326,15,326,18],[326,19,326,21],[327,15,327,18],[327,19,327,21],[328,15,328,18],[328,19,328,21],[313,12,313,13],[314,12,316,12],[317,12,317,13],[318,12,318,22],[319,12,319,22],[320,12,320,22],[322,12,322,13],[322,15,322,21],[323,15,323,18],[323,19,323,21],[304,12,304,13],[305,12,305,13],[306,12,306,13],[307,12,307,13],[308,12,308,13],[309,12,309,13],[310,12,310,13],[311,12,311,13],[312,12,312,13],[296,12,296,14],[296,15,296,22],[297,12,297,14],[298,12,298,14],[299,12,299,13],[300,13,300,14],[301,12,301,13],[302,12,302,13],[303,12,303,13],[292,13,292,14],[292,15,293,18],[292,19,293,19],[292,20,293,20],[292,21,293,21],[292,22,293,22],[293,12,293,13],[294,13,294,14],[294,15,295,18],[294,19,295,19],[294,20,295,20],[294,21,295,21],[294,22,295,22],[295,13,295,14],[286,12,286,22],[287,12,287,22],[288,12,288,14],[288,15,288,22],[289,12,289,14],[289,15,289,22],[290,12,291,14],[290,15,290,16],[290,18,290,19],[290,20,290,22],[291,15,291,16],[273,15,273,18],[273,19,273,21],[274,15,274,18],[274,19,274,21],[275,15,275,18],[275,19,275,21],[276,15,276,18],[276,19,276,21],[277,15,277,18],[277,19,277,21],[268,15,268,18],[268,19,268,21],[269,15,269,18],[269,19,269,21],[270,15,270,18],[270,19,270,21],[271,15,271,18],[271,19,271,21],[272,15,272,18],[272,19,272,21],[257,12,257,13],[258,12,260,12],[261,12,261,13],[262,12,262,22],[263,12,263,22],[264,12,264,22],[266,12,266,13],[266,15,266,21],[267,15,267,18],[267,19,267,21],[248,12,248,13],[249,12,249,13],[250,12,250,13],[251,12,251,13],[252,12,252,13],[253,12,253,13],[254,12,254,13],[255,12,255,13],[256,12,256,13],[240,12,240,14],[240,15,240,22],[241,12,241,14],[242,12,242,14],[243,12,243,13],[244,13,244,14],[245,12,245,13],[246,12,246,13],[247,12,247,13],[236,13,236,14],[236,15,237,18],[236,19,237,19],[236,20,237,20],[236,21,237,21],[236,22,237,22],[237,12,237,13],[238,13,238,14],[238,15,239,18],[238,19,239,19],[238,20,239,20],[238,21,239,21],[238,22,239,22],[239,13,239,14],[231,12,231,22],[232,12,232,14],[232,15,232,22],[233,12,233,14],[233,15,233,22],[234,12,235,14],[234,15,234,16],[234,18,234,19],[234,20,234,22],[235,15,235,16],[210,3,210,9],[210,0,210,1],[213,7,213,9],[212,7,212,9],[211,7,211,9],[213,3,213,6],[212,3,212,6],[211,3,211,6],[230,12,230,22],[217,15,217,18],[217,19,217,21],[218,15,218,18],[218,19,218,21],[219,15,219,18],[219,19,219,21],[220,15,220,18],[220,19,220,21],[221,15,221,18],[221,19,221,21],[212,15,212,18],[212,19,212,21],[213,15,213,18],[213,19,213,21],[214,15,214,18],[214,19,214,21],[215,15,215,18],[215,19,215,21],[216,15,216,18],[216,19,216,21],[230,0,230,10],[201,12,201,13],[202,12,204,12],[205,12,205,13],[206,12,206,22],[207,12,207,22],[208,12,208,22],[210,12,210,13],[210,15,210,21],[211,15,211,18],[211,19,211,21],[192,12,192,13],[193,12,193,13],[194,12,194,13],[195,12,195,13],[196,12,196,13],[197,12,197,13],[198,12,198,13],[199,12,199,13],[200,12,200,13],[184,12,184,14],[184,15,184,22],[185,12,185,14],[186,12,186,14],[187,12,187,13],[188,13,188,14],[189,12,189,13],[190,12,190,13],[191,12,191,13],[180,13,180,14],[180,15,181,18],[180,19,181,19],[180,20,181,20],[180,21,181,21],[180,22,181,22],[181,12,181,13],[182,13,182,14],[182,15,183,18],[182,19,183,19],[182,20,183,20],[182,21,183,21],[182,22,183,22],[183,13,183,14],[145,12,145,13],[129,12,129,14],[130,12,130,14],[175,12,175,22],[176,12,176,14],[176,15,176,22],[177,12,177,14],[177,15,177,22],[178,12,179,14],[178,15,178,16],[178,18,178,19],[178,20,178,22],[179,15,179,16],[158,19,158,21],[157,19,157,21],[156,19,156,21],[155,19,155,21],[158,15,158,18],[157,15,157,18],[156,15,156,18],[155,15,155,18],[174,12,174,22],[146,12,148,12],[137,12,137,13],[138,12,138,13],[139,12,139,13],[140,12,140,13],[141,12,141,13],[142,12,142,13],[143,12,143,13],[144,12,144,13],[126,19,127,19],[126,20,127,20],[126,21,127,21],[126,22,127,22],[134,12,134,13],[135,12,135,13],[136,12,136,13],[124,13,124,14],[124,15,125,18],[124,19,125,19],[124,20,125,20],[124,21,125,21],[124,22,125,22],[125,12,125,13],[126,13,126,14],[127,13,127,14],[126,15,127,18],[128,12,128,14],[128,15,128,22],[131,12,131,13],[132,13,132,14],[133,12,133,13],[510,0,510,10],[511,0,511,10],[512,0,512,2],[512,3,512,10],[499,3,499,6],[499,7,499,9],[500,3,500,6],[500,7,500,9],[501,3,501,6],[501,7,501,9],[492,3,492,6],[492,7,492,9],[493,3,493,6],[493,7,493,9],[494,3,494,6],[494,7,494,9],[495,3,495,6],[495,7,495,9],[496,3,496,6],[496,7,496,9],[513,0,513,2],[513,3,513,10],[514,0,515,2],[514,3,514,4],[514,6,514,7],[514,8,514,10],[515,3,515,4],[119,12,119,22],[164,15,164,18],[164,19,164,21],[165,15,165,18],[165,19,165,21],[159,15,159,18],[159,19,159,21],[160,15,160,18],[160,19,160,21],[161,15,161,18],[161,19,161,21],[162,15,162,18],[162,19,162,21],[163,15,163,18],[163,19,163,21],[151,12,151,22],[149,12,149,13],[150,12,150,22],[152,12,152,22],[154,12,154,13],[154,15,154,21],[497,3,497,6],[497,7,497,9],[498,3,498,6],[498,7,498,9],[553,3,553,6],[553,7,553,9],[554,3,554,6],[554,7,554,9],[555,3,555,6],[555,7,555,9],[556,3,556,6],[556,7,556,9],[557,3,557,6],[557,7,557,9],[548,3,548,6],[548,7,548,9],[549,3,549,6],[549,7,549,9],[550,3,550,6],[550,7,550,9],[551,3,551,6],[551,7,551,9],[552,3,552,6],[552,7,552,9],[537,0,537,1],[538,0,540,0],[542,0,542,10],[543,0,543,10],[544,0,544,10],[546,0,546,1],[546,3,546,9],[547,3,547,6],[547,7,547,9],[528,0,528,1],[529,0,529,1],[530,0,530,1],[531,0,531,1],[532,0,532,1],[533,0,533,1],[534,0,534,1],[535,0,535,1],[536,0,536,1],[520,0,520,2],[520,3,520,10],[521,0,521,2],[522,0,522,2],[523,0,523,1],[524,1,524,2],[525,0,525,1],[526,0,526,1],[527,0,527,1],[516,1,516,2],[516,3,517,6],[516,7,517,7],[516,8,517,8],[516,9,517,9],[516,10,517,10],[517,0,517,1],[518,1,518,2],[518,3,519,6],[518,7,519,7],[518,8,519,8],[518,9,519,9],[518,10,519,10],[519,1,519,2],[481,0,481,1],[482,0,484,0],[486,0,486,10],[487,0,487,10],[488,0,488,10],[490,0,490,1],[490,3,490,9],[491,3,491,6],[491,7,491,9],[472,0,472,1],[473,0,473,1],[474,0,474,1],[475,0,475,1],[476,0,476,1],[477,0,477,1],[478,0,478,1],[479,0,479,1],[480,0,480,1],[464,0,464,2],[464,3,464,10],[465,0,465,2],[466,0,466,2],[467,0,467,1],[468,1,468,2],[469,0,469,1],[470,0,470,1],[471,0,471,1],[460,1,460,2],[460,3,461,6],[460,7,461,7],[460,8,461,8],[460,9,461,9],[460,10,461,10],[461,0,461,1],[462,1,462,2],[462,3,463,6],[462,7,463,7],[462,8,463,8],[462,9,463,9],[462,10,463,10],[463,1,463,2],[454,0,454,10],[455,0,455,10],[456,0,456,2],[456,3,456,10],[457,0,457,2],[457,3,457,10],[458,0,459,2],[458,3,458,4],[458,6,458,7],[458,8,458,10],[459,3,459,4],[441,3,441,6],[441,7,441,9],[442,3,442,6],[442,7,442,9],[443,3,443,6],[443,7,443,9],[444,3,444,6],[444,7,444,9],[445,3,445,6],[445,7,445,9],[436,3,436,6],[436,7,436,9],[437,3,437,6],[437,7,437,9],[438,3,438,6],[438,7,438,9],[439,3,439,6],[439,7,439,9],[440,3,440,6],[440,7,440,9],[425,0,425,1],[426,0,428,0],[430,0,430,10],[431,0,431,10],[432,0,432,10],[434,0,434,1],[434,3,434,9],[435,3,435,6],[435,7,435,9],[416,0,416,1],[417,0,417,1],[418,0,418,1],[419,0,419,1],[420,0,420,1],[421,0,421,1],[422,0,422,1],[423,0,423,1],[424,0,424,1],[408,0,408,2],[408,3,408,10],[409,0,409,2],[410,0,410,2],[411,0,411,1],[412,1,412,2],[413,0,413,1],[414,0,414,1],[415,0,415,1],[404,1,404,2],[404,3,405,6],[404,7,405,7],[404,8,405,8],[404,9,405,9],[404,10,405,10],[405,0,405,1],[406,1,406,2],[406,3,407,6],[406,7,407,7],[406,8,407,8],[406,9,407,9],[406,10,407,10],[407,1,407,2],[398,0,398,10],[399,0,399,10],[400,0,400,2],[400,3,400,10],[401,0,401,2],[401,3,401,10],[402,0,403,2],[402,3,402,4],[402,6,402,7],[402,8,402,10],[403,3,403,4],[385,3,385,6],[385,7,385,9],[386,3,386,6],[386,7,386,9],[387,3,387,6],[387,7,387,9],[388,3,388,6],[388,7,388,9],[389,3,389,6],[389,7,389,9],[380,3,380,6],[380,7,380,9],[381,3,381,6],[381,7,381,9],[382,3,382,6],[382,7,382,9],[383,3,383,6],[383,7,383,9],[384,3,384,6],[384,7,384,9],[369,0,369,1],[370,0,372,0],[374,0,374,10],[375,0,375,10],[376,0,376,10],[378,0,378,1],[378,3,378,9],[379,3,379,6],[379,7,379,9],[360,0,360,1],[361,0,361,1],[362,0,362,1],[363,0,363,1],[364,0,364,1],[365,0,365,1],[366,0,366,1],[367,0,367,1],[368,0,368,1],[352,0,352,2],[352,3,352,10],[353,0,353,2],[354,0,354,2],[355,0,355,1],[356,1,356,2],[357,0,357,1],[358,0,358,1],[359,0,359,1],[348,1,348,2],[348,3,349,6],[348,7,349,7],[348,8,349,8],[348,9,349,9],[348,10,349,10],[349,0,349,1],[350,1,350,2],[350,3,351,6],[350,7,351,7],[350,8,351,8],[350,9,351,9],[350,10,351,10],[351,1,351,2],[342,0,342,10],[343,0,343,10],[344,0,344,2],[344,3,344,10],[345,0,345,2],[345,3,345,10],[346,0,347,2],[346,3,346,4],[346,6,346,7],[346,8,346,10],[347,3,347,4],[329,3,329,6],[329,7,329,9],[330,3,330,6],[330,7,330,9],[331,3,331,6],[331,7,331,9],[332,3,332,6],[332,7,332,9],[333,3,333,6],[333,7,333,9],[324,3,324,6],[324,7,324,9],[325,3,325,6],[325,7,325,9],[326,3,326,6],[326,7,326,9],[327,3,327,6],[327,7,327,9],[328,3,328,6],[328,7,328,9],[313,0,313,1],[314,0,316,0],[318,0,318,10],[319,0,319,10],[320,0,320,10],[322,0,322,1],[322,3,322,9],[323,3,323,6],[323,7,323,9],[304,0,304,1],[305,0,305,1],[306,0,306,1],[307,0,307,1],[308,0,308,1],[309,0,309,1],[310,0,310,1],[311,0,311,1],[312,0,312,1],[296,0,296,2],[296,3,296,10],[297,0,297,2],[298,0,298,2],[299,0,299,1],[300,1,300,2],[301,0,301,1],[302,0,302,1],[303,0,303,1],[292,1,292,2],[292,3,293,6],[292,7,293,7],[292,8,293,8],[292,9,293,9],[292,10,293,10],[293,0,293,1],[294,1,294,2],[294,3,295,6],[294,7,295,7],[294,8,295,8],[294,9,295,9],[294,10,295,10],[295,1,295,2],[286,0,286,10],[287,0,287,10],[288,0,288,2],[288,3,288,10],[289,0,289,2],[289,3,289,10],[290,0,291,2],[290,3,290,4],[290,6,290,7],[290,8,290,10],[291,3,291,4],[273,3,273,6],[273,7,273,9],[274,3,274,6],[274,7,274,9],[275,3,275,6],[275,7,275,9],[276,3,276,6],[276,7,276,9],[277,3,277,6],[277,7,277,9],[268,3,268,6],[268,7,268,9],[269,3,269,6],[269,7,269,9],[270,3,270,6],[270,7,270,9],[271,3,271,6],[271,7,271,9],[272,3,272,6],[272,7,272,9],[257,0,257,1],[258,0,260,0],[262,0,262,10],[263,0,263,10],[264,0,264,10],[266,0,266,1],[266,3,266,9],[267,3,267,6],[267,7,267,9],[248,0,248,1],[249,0,249,1],[250,0,250,1],[251,0,251,1],[252,0,252,1],[253,0,253,1],[254,0,254,1],[255,0,255,1],[256,0,256,1],[240,0,240,2],[240,3,240,10],[241,0,241,2],[242,0,242,2],[243,0,243,1],[244,1,244,2],[245,0,245,1],[246,0,246,1],[247,0,247,1],[236,1,236,2],[236,3,237,6],[236,7,237,7],[236,8,237,8],[236,9,237,9],[236,10,237,10],[237,0,237,1],[238,1,238,2],[238,3,239,6],[238,7,239,7]],"merged_total":1452,"flags":["merged_cut"]}
[{"$f":"'Project Name'!$C$2","v":0},null,null,null,null,null,null,null,null,null,null,null,{"$f":"'Project Name'!$C$2","v":0}]
["Existing Local Controller Data",null,null,null,null,null,null,null,null,null,null,null,"Proposed Local Controller Data"]
["INTERSECTION:",null,null,{"$f":"'Local Controller Data - EXIST'!D4","v":0},null,null,null,null,null,null,null,null,"INTERSECTION:",null,null,{"$f":"'Local Controller Data - PROP'!D4","v":0}]
["MAINTAINING AGENCY:",null,null,{"$f":"'Local Controller Data - EXIST'!D5","v":0},null,null,null,null,null,null,null,null,"MAINTAINING AGENCY:",null,null,{"$f":"'Local Controller Data - PROP'!D5","v":0}]
["START UP",null,null,"DUAL ENTRY: ",null,{"$f":"'Local Controller Data - EXIST'!F6","v":"-"},"PHASES:",null,{"$f":"'Local Controller Data - EXIST'!I6:K6","v":"-"},null,null,null,"START UP",null,null,"DUAL ENTRY: ",null,{"$f":"'Local Controller Data - PROP'!F6","v":"-"},"PHASES:",null,{"$f":"'Local Controller Data - PROP'!I6","v":"-"}]
[null,null,null,"REST IN RED: ",null,null,"RING 1",{"$f":"'Local Controller Data - EXIST'!H7","v":"-"},null,"RING 2",{"$f":"'Local Controller Data - EXIST'!K7","v":"-"},null,null,null,null,"REST IN RED: ",null,null,"RING 1",{"$f":"'Local Controller Data - PROP'!H7","v":"-"},null,"RING 2",{"$f":"'Local Controller Data - PROP'!K7","v":"-"}]
["START IN: ",{"$f":"'Local Controller Data - EXIST'!B8:C8","v":"-"},null,"OVERLAP",null,null,null,"A","B","C","D",null,"START IN: ",{"$f":"'Local Controller Data - PROP'!B8","v":"-"},null,"OVERLAP",null,null,null,"A","B","C","D"]
["TIME FOR: FLASH , ALL RED (SEC.):   ",null,{"$f":"'Local Controller Data - EXIST'!C9","v":"9, 6"},null,null,null,null,null,null,null,null,null,"TIME FOR: FLASH , ALL RED (SEC.):   ",null,{"$f":"'Local Controller Data - PROP'!C9","v":"9, 6"}]
["FIRST PHASE(S):",{"$f":"'Local Controller Data - EXIST'!B10","v":"-"},null,"PHASES",null,null,null,{"$f":"'Local Controller Data - EXIST'!H10","v":"-"},{"$f":"'Local Controller Data - EXIST'!I10","v":"-"},{"$f":"'Local Controller Data - EXIST'!J10","v":"-"},{"$f":"'Local Controller Data - EXIST'!K10","v":"-"},null,"FIRST PHASE(S):",{"$f":"'Local Controller Data - PROP'!B10","v":"-"},null,"PHASES",null,null,null,{"$f":"'Local Controller Data - PROP'!H10","v":"-"},{"$f":"'Local Controller Data - PROP'!I10","v":"-"},{"$f":"'Local Controller Data - PROP'!J10","v":"-"},{"$f":"'Local Controller Data - PROP'!K10","v":"-"}]
["COLOR DISPLAYED:",{"$f":"'Local Controller Data - EXIST'!B11","v":"-"},null,null,null,null,null,null,null,null,null,null,"COLOR DISPLAYED:",{"$f":"'Local Controller Data - PROP'!B11","v":"-"}]
[]
["INTERVAL OR FEATURE",null,null,"CONTROLLER MOVEMENT NO.",null,null,null,null,null,null,null,null,"INTERVAL OR FEATURE",null,null,"CONTROLLER MOVEMENT NO."]
["INTERSECTION MOVEMENT (PHASE)",null,null,{"$f":"'Local Controller Data - EXIST'!D14","v":1},{"$f":"'Local Controller Data - EXIST'!E14","v":2},{"$f":"'Local Controller Data - EXIST'!F14","v":3},{"$f":"'Local Controller Data - EXIST'!G14","v":4},{"$f":"'Local Controller Data - EXIST'!H14","v":5},{"$f":"'Local Controller Data - EXIST'!I14","v":6},{"$f":"'Local Controller Data - EXIST'!J14","v":7},{"$f":"'Local Controller Data - EXIST'!K14","v":8},null,"INTERSECTION MOVEMENT (PHASE)",null,null,{"$f":"'Local Controller Data - PROP'!D14","v":1},{"$f":"'Local Controller Data - PROP'!E14","v":2},{"$f":"'Local Controller Data - PROP'!F14","v":3},{"$f":"'Local Controller Data - PROP'!G14","v":4},{"$f":"'Local Controller Data - PROP'!H14","v":5},{"$f":"'Local Controller Data - PROP'!I14","v":6},{"$f":"'Local Controller Data - PROP'!J14","v":7},{"$f":"'Local Controller Data - PROP'!K14","v":8}]
["DIRECTION",null,null,{"$f":"'Local Controller Data - EXIST'!D15","v":"-"},{"$f":"'Local Controller Data - EXIST'!E15","v":"-"},{"$f":"'Local Controller Data - EXIST'!F15","v":"-"},{"$f":"'Local Controller Data - EXIST'!G15","v":"-"},{"$f":"'Local Controller Data - EXIST'!H15","v":"-"},{"$f":"'Local Controller Data - EXIST'!I15","v":"-"},{"$f":"'Local Controller Data - EXIST'!J15","v":"-"},{"$f":"'Local Controller Data - EXIST'!K15","v":"-"},null,"DIRECTION",null,null,{"$f":"'Local Controller Data - PROP'!D15","v":"-"},{"$f":"'Local Controller Data - PROP'!E15","v":"-"},{"$f":"'Local Controller Data - PROP'!F15","v":"-"},{"$f":"'Local Controller Data - PROP'!G15","v":"-"},{"$f":"'Local Controller Data - PROP'!H15","v":"-"},{"$f":"'Local Controller Data - PROP'!I15","v":"-"},{"$f":"'Local Controller Data - PROP'!J15","v":"-"},{"$f":"'Local Controller Data - PROP'!K15","v":"-"}]
["MINIMUM GREEN (INITIAL) ",null,"(SEC.)",{"$f":"'Local Controller Data - EXIST'!D16","v":"-"},{"$f":"'Local Controller Data - EXIST'!E16","v":"-"},{"$f":"'Local Controller Data - EXIST'!F16","v":"-"},{"$f":"'Local Controller Data - EXIST'!G16","v":"-"},{"$f":"'Local Controller Data - EXIST'!H16","v":"-"},{"$f":"'Local Controller Data - EXIST'!I16","v":"-"},{"$f":"'Local Controller Data - EXIST'!J16","v":"-"},{"$f":"'Local Controller Data - EXIST'!K16","v":"-"},null,"MINIMUM GREEN (INITIAL) ",null,"(SEC.)",{"$f":"'Local Controller Data - PROP'!D16","v":"-"},{"$f":"'Local Controller Data - PROP'!E16","v":"-"},{"$f":"'Local Controller Data - PROP'!F16","v":"-"},{"$f":"'Local Controller Data - PROP'!G16","v":"-"},{"$f":"'Local Controller Data - PROP'!H16","v":"-"},{"$f":"'Local Controller Data - PROP'!I16","v":"-"},{"$f":"'Local Controller Data - PROP'!J16","v":"-"},{"$f":"'Local Controller Data - PROP'!K16","v":"-"}]
["ADDED INITIAL","*(SEC./ACTUATION)",null,{"$f":"'Local Controller Data - EXIST'!D17","v":"-"},{"$f":"'Local Controller Data - EXIST'!E17","v":"-"},{"$f":"'Local Controller Data - EXIST'!F17","v":"-"},{"$f":"'Local Controller Data - EXIST'!G17","v":"-"},{"$f":"'Local Controller Data - EXIST'!H17","v":"-"},{"$f":"'Local Controller Data - EXIST'!I17","v":"-"},{"$f":"'Local Controller Data - EXIST'!J17","v":"-"},{"$f":"'Local Controller Data - EXIST'!K17","v":"-"},null,"ADDED INITIAL","*(SEC./ACTUATION)",null,{"$f":"'Local Controller Data - PROP'!D17","v":"-"},{"$f":"'Local Controller Data - PROP'!E17","v":"-"},{"$f":"'Local Controller Data - PROP'!F17","v":"-"},{"$f":"'Local Controller Data - PROP'!G17","v":"-"},{"$f":"'Local Controller Data - PROP'!H17","v":"-"},{"$f":"'Local Controller Data - PROP'!I17","v":"-"},{"$f":"'Local Controller Data - PROP'!J17","v":"-"},{"$f":"'Local Controller Data - PROP'!K17","v":"-"}]
["MAXIMUM INITIAL",null,"*(SEC.)",{"$f":"'Local Controller Data - EXIST'!D18","v":"-"},{"$f":"'Local Controller Data - EXIST'!E18","v":"-"},{"$f":"'Local Controller Data - EXIST'!F18","v":"-"},{"$f":"'Local Controller Data - EXIST'!G18","v":"-"},{"$f":"'Local Controller Data - EXIST'!H18","v":"-"},{"$f":"'Local Controller Data - EXIST'!I18","v":"-"},{"$f":"'Local Controller Data - EXIST'!J18","v":"-"},{"$f":"'Local Controller Data - EXIST'!K18","v":"-"},null,"MAXIMUM INITIAL",null,"*(SEC.)",{"$f":"'Local Controller Data - PROP'!D18","v":"-"},{"$f":"'Local Controller Data - PROP'!E18","v":"-"},{"$f":"'Local Controller Data - PROP'!F18","v":"-"},{"$f":"'Local Controller Data - PROP'!G18","v":"-"},{"$f":"'Local Controller Data - PROP'!H18","v":"-"},{"$f":"'Local Controller Data - PROP'!I18","v":"-"},{"$f":"'Local Controller Data - PROP'!J18","v":"-"},{"$f":"'Local Controller Data - PROP'!K18","v":"-"}]
["PASSAGE TIME (PRESET GAP)",null,"(SEC.)",{"$f":"'Local Controller Data - EXIST'!D19","v":"-"},{"$f":"'Local Controller Data - EXIST'!E19","v":"-"},{"$f":"'Local Controller Data - EXIST'!F19","v":"-"},{"$f":"'Local Controller Data - EXIST'!G19","v":"-"},{"$f":"'Local Controller Data - EXIST'!H19","v":"-"},{"$f":"'Local Controller Data - EXIST'!I19","v":"-"},{"$f":"'Local Controller Data - EXIST'!J19","v":"-"},{"$f":"'Local Controller Data - EXIST'!K19","v":"-"},null,"PASSAGE TIME (PRESET GAP)",null,"(SEC.)",{"$f":"'Local Controller Data - PROP'!D19","v":"-"},{"$f":"'Local Controller Data - PROP'!E19","v":"-"},{"$f":"'Local Controller Data - PROP'!F19","v":"-"},{"$f":"'Local Controller Data - PROP'!G19","v":"-"},{"$f":"'Local Controller Data - PROP'!H19","v":"-"},{"$f":"'Local Controller Data - PROP'!I19","v":"-"},{"$f":"'Local Controller Data - PROP'!J19","v":"-"},{"$f":"'Local Controller Data - PROP'!K19","v":"-"}]
["TIME BEFORE REDUCTION",null,"*(SEC.)",{"$f":"'Local Controller Data - EXIST'!D20","v":"-"},{"$f":"'Local Controller Data - EXIST'!E20","v":"-"},{"$f":"'Local Controller Data - EXIST'!F20","v":"-"},{"$f":"'Local Controller Data - EXIST'!G20","v":"-"},{"$f":"'Local Controller Data - EXIST'!H20","v":"-"},{"$f":"'Local Controller Data - EXIST'!I20","v":"-"},{"$f":"'Local Controller Data - EXIST'!J20","v":"-"},{"$f":"'Local Controller Data - EXIST'!K20","v":"-"},null,"TIME BEFORE REDUCTION",null,"*(SEC.)",{"$f":"'Local Controller Data - PROP'!D20","v":"-"},{"$f":"'Local Controller Data - PROP'!E20","v":"-"},{"$f":"'Local Controller Data - PROP'!F20","v":"-"},{"$f":"'Local Controller Data - PROP'!G20","v":"-"},{"$f":"'Local Controller Data - PROP'!H20","v":"-"},{"$f":"'Local Controller Data - PROP'!I20","v":"-"},{"$f":"'Local Controller Data - PROP'!J20","v":"-"},{"$f":"'Local Controller Data - PROP'!K20","v":"-"}]
["MINIMUM GAP",null,"*(SEC.)",{"$f":"'Local Controller Data - EXIST'!D21","v":"-"},{"$f":"'Local Controller Data - EXIST'!E21","v":"-"},{"$f":"'Local Controller Data - EXIST'!F21","v":"-"},{"$f":"'Local Controller Data - EXIST'!G21","v":"-"},{"$f":"'Local Controller Data - EXIST'!H21","v":"-"},{"$f":"'Local Controller Data - EXIST'!I21","v":"-"},{"$f":"'Local Controller Data - EXIST'!J21","v":"-"},{"$f":"'Local Controller Data - EXIST'!K21","v":"-"},null,"MINIMUM GAP",null,"*(SEC.)",{"$f":"'Local Controller Data - PROP'!D21","v":"-"},{"$f":"'Local Controller Data - PROP'!E21","v":"-"},{"$f":"'Local Controller Data - PROP'!F21","v":"-"},{"$f":"'Local Controller Data - PROP'!G21","v":"-"},{"$f":"'Local Controller Data - PROP'!H21","v":"-"},{"$f":"'Local Controller Data - PROP'!I21","v":"-"},{"$f":"'Local Controller Data - PROP'!J21","v":"-"},{"$f":"'Local Controller Data - PROP'!K21","v":"-"}]
["TIME TO REDUCE",null,"*(SEC.)",{"$f":"'Local Controller Data - EXIST'!D22","v":"-"},{"$f":"'Local Controller Data - EXIST'!E22","v":"-"},{"$f":"'Local Controller Data - EXIST'!F22","v":"-"},{"$f":"'Local Controller Data - EXIST'!G22","v":"-"},{"$f":"'Local Controller Data - EXIST'!H22","v":"-"},{"$f":"'Local Controller Data - EXIST'!I22","v":"-"},{"$f":"'Local Controller Data - EXIST'!J22","v":"-"},{"$f":"'Local Controller Data - EXIST'!K22","v":"-"},null,"TIME TO REDUCE",null,"*(SEC.)",{"$f":"'Local Controller Data - PROP'!D22","v":"-"},{"$f":"'Local Controller Data - PROP'!E22","v":"-"},{"$f":"'Local Controller Data - PROP'!F22","v":"-"},{"$f":"'Local Controller Data - PROP'!G22","v":"-"},{"$f":"'Local Controller Data - PROP'!H22","v":"-"},{"$f":"'Local Controller Data - PROP'!I22","v":"-"},{"$f":"'Local Controller Data - PROP'!J22","v":"-"},{"$f":"'Local Controller Data - PROP'!K22","v":"-"}]
["MAXIMUM GREEN I",null,"(SEC.)",{"$f":"'Local Controller Data - EXIST'!D23","v":"-"},{"$f":"'Local Controller Data - EXIST'!E23","v":"-"},{"$f":"'Local Controller Data - EXIST'!F23","v":"-"},{"$f":"'Local Controller Data - EXIST'!G23","v":"-"},{"$f":"'Local Controller Data - EXIST'!H23","v":"-"},{"$f":"'Local Controller Data - EXIST'!I23","v":"-"},{"$f":"'Local Controller Data - EXIST'!J23","v":"-"},{"$f":"'Local Controller Data - EXIST'!K23","v":"-"},null,"MAXIMUM GREEN I",null,"(SEC.)",{"$f":"'Local Controller Data - PROP'!D23","v":"-"},{"$f":"'Local Controller Data - PROP'!E23","v":"-"},{"$f":"'Local Controller Data - PROP'!F23","v":"-"},{"$f":"'Local Controller Data - PROP'!G23","v":"-"},{"$f":"'Local Controller Data - PROP'!H23","v":"-"},{"$f":"'Local Controller Data - PROP'!I23","v":"-"},{"$f":"'Local Controller Data - PROP'!J23","v":"-"},{"$f":"'Local Controller Data - PROP'!K23","v":"-"}]
["MAXIMUM GREEN II",null,"(SEC.)",{"$f":"'Local Controller Data - EXIST'!D24","v":"-"},{"$f":"'Local Controller Data - EXIST'!E24","v":"-"},{"$f":"'Local Controller Data - EXIST'!F24","v":"-"},{"$f":"'Local Controller Data - EXIST'!G24","v":"-"},{"$f":"'Local Controller Data - EXIST'!H24","v":"-"},{"$f":"'Local Controller Data - EXIST'!I24","v":"-"},{"$f":"'Local Controller Data - EXIST'!J24","v":"-"},{"$f":"'Local Controller Data - EXIST'!K24","v":"-"},null,"MAXIMUM GREEN II",null,"(SEC.)",{"$f":"'Local Controller Data - PROP'!D24","v":"-"},{"$f":"'Local Controller Data - PROP'!E24","v":"-"},{"$f":"'Local Controller Data - PROP'!F24","v":"-"},{"$f":"'Local Controller Data - PROP'!G24","v":"-"},{"$f":"'Local Controller Data - PROP'!H24","v":"-"},{"$f":"'Local Controller Data - PROP'!I24","v":"-"},{"$f":"'Local Controller Data - PROP'!J24","v":"-"},{"$f":"'Local Controller Data - PROP'!K24","v":"-"}]
["YELLOW CHANGE",null,"(SEC.)",{"$f":"'Local Controller Data - EXIST'!D25","v":"-"},{"$f":"'Local Controller Data - EXIST'!E25","v":"-"},{"$f":"'Local Controller Data - EXIST'!F25","v":"-"},{"$f":"'Local Controller Data - EXIST'!G25","v":"-"},{"$f":"'Local Controller Data - EXIST'!H25","v":"-"},{"$f":"'Local Controller Data - EXIST'!I25","v":"-"},{"$f":"'Local Controller Data - EXIST'!J25","v":"-"},{"$f":"'Local Controller Data - EXIST'!K25","v":"-"},null,"YELLOW CHANGE",null,"(SEC.)",{"$f":"'Local Controller Data - PROP'!D25","v":"-"},{"$f":"'Local Controller Data - PROP'!E25","v":"-"},{"$f":"'Local Controller Data - PROP'!F25","v":"-"},{"$f":"'Local Controller Data - PROP'!G25","v":"-"},{"$f":"'Local Controller Data - PROP'!H25","v":"-"},{"$f":"'Local Controller Data - PROP'!I25","v":"-"},{"$f":"'Local Controller Data - PROP'!J25","v":"-"},{"$f":"'Local Controller Data - PROP'!K25","v":"-"}]
["ALL RED CLEARANCE",null,"(SEC.)",{"$f":"'Local Controller Data - EXIST'!D26","v":"-"},{"$f":"'Local Controller Data - EXIST'!E26","v":"-"},{"$f":"'Local Controller Data - EXIST'!F26","v":"-"},{"$f":"'Local Controller Data - EXIST'!G26","v":"-"},{"$f":"'Local Controller Data - EXIST'!H26","v":"-"},{"$f":"'Local Controller Data - EXIST'!I26","v":"-"},{"$f":"'Local Controller Data - EXIST'!J26","v":"-"},{"$f":"'Local Controller Data - EXIST'!K26","v":"-"},null,"ALL RED CLEARANCE",null,"(SEC.)",{"$f":"'Local Controller Data - PROP'!D26","v":"-"},{"$f":"'Local Controller Data - PROP'!E26","v":"-"},{"$f":"'Local Controller Data - PROP'!F26","v":"-"},{"$f":"'Local Controller Data - PROP'!G26","v":"-"},{"$f":"'Local Controller Data - PROP'!H26","v":"-"},{"$f":"'Local Controller Data - PROP'!I26","v":"-"},{"$f":"'Local Controller Data - PROP'!J26","v":"-"},{"$f":"'Local Controller Data - PROP'!K26","v":"-"}]
["DELAYED GREEN (LPI) #",null,"(SEC.)",{"$f":"'Local Controller Data - EXIST'!D27","v":"-"},{"$f":"'Local Controller Data - EXIST'!E27","v":"-"},{"$f":"'Local Controller Data - EXIST'!F27","v":"-"},{"$f":"'Local Controller Data - EXIST'!G27","v":"-"},{"$f":"'Local Controller Data - EXIST'!H27","v":"-"},{"$f":"'Local Controller Data - EXIST'!I27","v":"-"},{"$f":"'Local Controller Data - EXIST'!J27","v":"-"},{"$f":"'Local Controller Data - EXIST'!K27","v":"-"},null,"DELAYED GREEN (LPI) #",null,"(SEC.)",{"$f":"'Local Controller Data - PROP'!D27","v":"-"},{"$f":"'Local Controller Data - PROP'!E27","v":"-"},{"$f":"'Local Controller Data - PROP'!F27","v":"-"},{"$f":"'Local Controller Data - PROP'!G27","v":"-"},{"$f":"'Local Controller Data - PROP'!H27","v":"-"},{"$f":"'Local Controller Data - PROP'!I27","v":"-"},{"$f":"'Local Controller Data - PROP'!J27","v":"-"},{"$f":"'Local Controller Data - PROP'!K27","v":"-"}]
["FLASHING YELLOW ARROW DELAY^",null,"(SEC.)",{"$f":"'Local Controller Data - EXIST'!D28","v":"-"},{"$f":"'Local Controller Data - EXIST'!E28","v":"-"},{"$f":"'Local Controller Data - EXIST'!F28","v":"-"},{"$f":"'Local Controller Data - EXIST'!G28","v":"-"},{"$f":"'Local Controller Data - EXIST'!H28","v":"-"},{"$f":"'Local Controller Data - EXIST'!I28","v":"-"},{"$f":"'Local Controller Data - EXIST'!J28","v":"-"},{"$f":"'Local Controller Data - EXIST'!K28","v":"-"},null,"FLASHING YELLOW ARROW DELAY^",null,"(SEC.)",{"$f":"'Local Controller Data - PROP'!D28","v":"-"},{"$f":"'Local Controller Data - PROP'!E28","v":"-"},{"$f":"'Local Controller Data - PROP'!F28","v":"-"},{"$f":"'Local Controller Data - PROP'!G28","v":"-"},{"$f":"'Local Controller Data - PROP'!H28","v":"-"},{"$f":"'Local Controller Data - PROP'!I28","v":"-"},{"$f":"'Local Controller Data - PROP'!J28","v":"-"},{"$f":"'Local Controller Data - PROP'!K28","v":"-"}]
["WALK",null,"(SEC.)",{"$f":"'Local Controller Data - EXIST'!D29","v":"-"},{"$f":"'Local Controller Data - EXIST'!E29","v":"-"},{"$f":"'Local Controller Data - EXIST'!F29","v":"-"},{"$f":"'Local Controller Data - EXIST'!G29","v":"-"},{"$f":"'Local Controller Data - EXIST'!H29","v":"-"},{"$f":"'Local Controller Data - EXIST'!I29","v":"-"},{"$f":"'Local Controller Data - EXIST'!J29","v":"-"},{"$f":"'Local Controller Data - EXIST'!K29","v":"-"},null,"WALK",null,"(SEC.)",{"$f":"'Local Controller Data - PROP'!D29","v":"-"},{"$f":"'Local Controller Data - PROP'!E29","v":"-"},{"$f":"'Local Controller Data - PROP'!F29","v":"-"},{"$f":"'Local Controller Data - PROP'!G29","v":"-"},{"$f":"'Local Controller Data - PROP'!H29","v":"-"},{"$f":"'Local Controller Data - PROP'!I29","v":"-"},{"$f":"'Local Controller Data - PROP'!J29","v":"-"},{"$f":"'Local Controller Data - PROP'!K29","v":"-"}]
["PEDESTRIAN CLEARANCE",null,"(SEC.)",{"$f":"'Local Controller Data - EXIST'!D30","v":"-"},{"$f":"'Local Controller Data - EXIST'!E30","v":"-"},{"$f":"'Local Controller Data - EXIST'!F30","v":"-"},{"$f":"'Local Controller Data - EXIST'!G30","v":"-"},{"$f":"'Local Controller Data - EXIST'!H30","v":"-"},{"$f":"'Local Controller Data - EXIST'!I30","v":"-"},{"$f":"'Local Controller Data - EXIST'!J30","v":"-"},{"$f":"'Local Controller Data - EXIST'!K30","v":"-"},null,"PEDESTRIAN CLEARANCE",null,"(SEC.)",{"$f":"'Local Controller Data - PROP'!D30","v":"-"},{"$f":"'Local Controller Data - PROP'!E30","v":"-"},{"$f":"'Local Controller Data - PROP'!F30","v":"-"},{"$f":"'Local Controller Data - PROP'!G30","v":"-"},{"$f":"'Local Controller Data - PROP'!H30","v":"-"},{"$f":"'Local Controller Data - PROP'!I30","v":"-"},{"$f":"'Local Controller Data - PROP'!J30","v":"-"},{"$f":"'Local Controller Data - PROP'!K30","v":"-"}]
["RECALL","MAXIMUM","(ON/OFF)",{"$f":"'Local Controller Data - EXIST'!D31","v":"-"},{"$f":"'Local Controller Data - EXIST'!E31","v":"-"},{"$f":"'Local Controller Data - EXIST'!F31","v":"-"},{"$f":"'Local Controller Data - EXIST'!G31","v":"-"},{"$f":"'Local Controller Data - EXIST'!H31","v":"-"},{"$f":"'Local Controller Data - EXIST'!I31","v":"-"},{"$f":"'Local Controller Data - EXIST'!J31","v":"-"},{"$f":"'Local Controller Data - EXIST'!K31","v":"-"},null,"RECALL","MAXIMUM","(ON/OFF)",{"$f":"'Local Controller Data - PROP'!D31","v":"-"},{"$f":"'Local Controller Data - PROP'!E31","v":"-"},{"$f":"'Local Controller Data - PROP'!F31","v":"-"},{"$f":"'Local Controller Data - PROP'!G31","v":"-"},{"$f":"'Local Controller Data - PROP'!H31","v":"-"},{"$f":"'Local Controller Data - PROP'!I31","v":"-"},{"$f":"'Local Controller Data - PROP'!J31","v":"-"},{"$f":"'Local Controller Data - PROP'!K31","v":"-"}]
[null,"MINIMUM","(ON/OFF)",{"$f":"'Local Controller Data - EXIST'!D32","v":"-"},{"$f":"'Local Controller Data - EXIST'!E32","v":"-"},{"$f":"'Local Controller Data - EXIST'!F32","v":"-"},{"$f":"'Local Controller Data - EXIST'!G32","v":"-"},{"$f":"'Local Controller Data - EXIST'!H32","v":"-"},{"$f":"'Local Controller Data - EXIST'!I32","v":"-"},{"$f":"'Local Controller Data - EXIST'!J32","v":"-"},{"$f":"'Local Controller Data - EXIST'!K32","v":"-"},null,null,"MINIMUM","(ON/OFF)",{"$f":"'Local Controller Data - PROP'!D32","v":"-"},{"$f":"'Local Controller Data - PROP'!E32","v":"-"},{"$f":"'Local Controller Data - PROP'!F32","v":"-"},{"$f":"'Local Controller Data - PROP'!G32","v":"-"},{"$f":"'Local Controller Data - PROP'!H32","v":"-"},{"$f":"'Local Controller Data - PROP'!I32","v":"-"},{"$f":"'Local Controller Data - PROP'!J32","v":"-"},{"$f":"'Local Controller Data - PROP'!K32","v":"-"}]
[null,"PEDESTRIAN","(ON/OFF)",{"$f":"'Local Controller Data - EXIST'!D33","v":"-"},{"$f":"'Local Controller Data - EXIST'!E33","v":"-"},{"$f":"'Local Controller Data - EXIST'!F33","v":"-"},{"$f":"'Local Controller Data - EXIST'!G33","v":"-"},{"$f":"'Local Controller Data - EXIST'!H33","v":"-"},{"$f":"'Local Controller Data - EXIST'!I33","v":"-"},{"$f":"'Local Controller Data - EXIST'!J33","v":"-"},{"$f":"'Local Controller Data - EXIST'!K33","v":"-"},null,null,"PEDESTRIAN","(ON/OFF)",{"$f":"'Local Controller Data - PROP'!D33","v":"-"},{"$f":"'Local Controller Data - PROP'!E33","v":"-"},{"$f":"'Local Controller Data - PROP'!F33","v":"-"},{"$f":"'Local Controller Data - PROP'!G33","v":"-"},{"$f":"'Local Controller Data - PROP'!H33","v":"-"},{"$f":"'Local Controller Data - PROP'!I33","v":"-"},{"$f":"'Local Controller Data - PROP'!J33","v":"-"},{"$f":"'Local Controller Data - PROP'!K33","v":"-"}]
["MEMORY    ",null,"(ON/OFF)",{"$f":"'Local Controller Data - EXIST'!D34","v":"-"},{"$f":"'Local Controller Data - EXIST'!E34","v":"-"},{"$f":"'Local Controller Data - EXIST'!F34","v":"-"},{"$f":"'Local Controller Data - EXIST'!G34","v":"-"},{"$f":"'Local Controller Data - EXIST'!H34","v":"-"},{"$f":"'Local Controller Data - EXIST'!I34","v":"-"},{"$f":"'Local Controller Data - EXIST'!J34","v":"-"},{"$f":"'Local Controller Data - EXIST'!K34","v":"-"},null,"MEMORY    ",null,"(ON/OFF)",{"$f":"'Local Controller Data - PROP'!D34","v":"-"},{"$f":"'Local Controller Data - PROP'!E34","v":"-"},{"$f":"'Local Controller Data - PROP'!F34","v":"-"},{"$f":"'Local Controller Data - PROP'!G34","v":"-"},{"$f":"'Local Controller Data - PROP'!H34","v":"-"},{"$f":"'Local Controller Data - PROP'!I34","v":"-"},{"$f":"'Local Controller Data - PROP'!J34","v":"-"},{"$f":"'Local Controller Data - PROP'!K34","v":"-"}]
["*VOLUME DENSITY CONTROLS",null,null,null,null,null,null,null,null,null,null,null,"*VOLUME DENSITY CONTROLS"]
["# FOR CROSSINGS WITH PEDESTRIAN PUSHBUTTONS, LPI'S (LEADING PEDESTRIAN INTERVALS) MAY BE IMPLEMENTED (3-6 SEC.) IN ACCORDANCE WITH LPI DURATION TIME PER THE ODOT SIGNAL CALCULATIONS - CLEARANCE INTERVALS SPREADSHEET",null,null,null,null,null,null,null,null,null,null,null,"# FOR CROSSINGS WITH PEDESTRIAN PUSHBUTTONS, LPI'S (LEADING PEDESTRIAN INTERVALS) MAY BE IMPLEMENTED (3-6 SEC.) IN ACCORDANCE WITH LPI DURATION TIME PER THE ODOT SIGNAL CALCULATIONS - CLEARANCE INTERVALS SPREADSHEET"]
[]
[]
["^ WHEN IMPLEMENTING FYA, A MINIMUM 3 SEC. DELAY SHALL BE PROGRAMMED PER FYA PHASE. ",null,null,null,null,null,null,null,null,null,null,null,"^ WHEN IMPLEMENTING FYA, A MINIMUM 3 SEC. DELAY SHALL BE PROGRAMMED PER FYA PHASE. "]
[]
["ECONOLITE COORD SETTINGS",null,null,"SIEMENS COORD SETTINGS",null,null,null,null,null,null,null,null,"ECONOLITE COORD SETTINGS",null,null,"SIEMENS COORD SETTINGS"]
["MANUAL PATTERN",{"$f":"'Local Controller Data - EXIST'!B42","v":"-"},null,"OPERATION",null,null,null,{"$f":"'Local Controller Data - EXIST'!H42:J42","v":"-"},null,null,null,null,"MANUAL PATTERN",{"$f":"'Local Controller Data - PROP'!B42","v":"-"},null,"OPERATION",null,null,null,{"$f":"'Local Controller Data - PROP'!H42","v":"-"}]
["SYSTEM SOURCE",{"$f":"'Local Controller Data - EXIST'!B43","v":"-"},null,"MODE (NORMAL)",null,null,null,{"$f":"'Local Controller Data - EXIST'!H43:J43","v":"-"},null,null,null,null,"SYSTEM SOURCE",{"$f":"'Local Controller Data - PROP'!B43","v":"-"},null,"MODE (NORMAL)",null,null,null,{"$f":"'Local Controller Data - PROP'!H43","v":"-"}]
["SPLITS IN",{"$f":"'Local Controller Data - EXIST'!B44","v":"-"},null,"MAXIMUM",null,null,null,{"$f":"'Local Controller Data - EXIST'!H44:J44","v":"-"},null,null,null,null,"SPLITS IN",{"$f":"'Local Controller Data - PROP'!B44","v":"-"},null,"MAXIMUM",null,null,null,{"$f":"'Local Controller Data - PROP'!H44","v":"-"}]
["TRANSITION",{"$f":"'Local Controller Data - EXIST'!B45","v":"-"},null,"CORRECTION",null,null,null,{"$f":"'Local Controller Data - EXIST'!H45:J45","v":"-"},null,null,null,null,"TRANSITION",{"$f":"'Local Controller Data - PROP'!B45","v":"-"},null,"CORRECTION",null,null,null,{"$f":"'Local Controller Data - PROP'!H45","v":"-"}]
["DWELL/ADD TIME",{"$f":"'Local Controller Data - EXIST'!B46","v":"-"},null,"OFFSET MODE",null,null,null,{"$f":"'Local Controller Data - EXIST'!H46:J46","v":"-"},null,null,null,null,"DWELL/ADD TIME",{"$f":"'Local Controller Data - PROP'!B46","v":"-"},null,"OFFSET MODE",null,null,null,{"$f":"'Local Controller Data - PROP'!H46","v":"-"}]
["OFFSET REFERENCE",{"$f":"'Local Controller Data - EXIST'!B47","v":"-"},null,"FORCE MODE",null,null,null,{"$f":"'Local Controller Data - EXIST'!H47:J47","v":"-"},null,null,null,null,"OFFSET REFERENCE",{"$f":"'Local Controller Data - PROP'!B47","v":"-"},null,"FORCE MODE",null,null,null,{"$f":"'Local Controller Data - PROP'!H47","v":"-"}]
["PED RECALL",{"$f":"'Local Controller Data - EXIST'!B48","v":"-"},null,"MAX DWELL TIME",null,null,null,{"$f":"'Local Controller Data - EXIST'!H48:J48","v":"-"},null,null,null,null,"PED RECALL",{"$f":"'Local Controller Data - PROP'!B48","v":"-"},null,"MAX DWELL TIME",null,null,null,{"$f":"'Local Controller Data - PROP'!H48","v":"-"}]
["LOCAL ZERO OVERRIDE",{"$f":"'Local Controller Data - EXIST'!B49","v":"-"},null,"YIELD PERIOD",null,null,null,{"$f":"'Local Controller Data - EXIST'!H49:J49","v":"-"},null,null,null,null,"LOCAL ZERO OVERRIDE",{"$f":"'Local Controller Data - PROP'!B49","v":"-"},null,"YIELD PERIOD",null,null,null,{"$f":"'Local Controller Data - PROP'!H49","v":"-"}]
["RE-SYNC COUNT",{"$f":"'Local Controller Data - EXIST'!B50","v":"-"},null,"MANUAL CONTROL: DIAL",null,null,null,{"$f":"'Local Controller Data - EXIST'!H50:J50","v":"-"},null,null,null,null,"RE-SYNC COUNT",{"$f":"'Local Controller Data - PROP'!B50","v":"-"},null,"MANUAL CONTROL: DIAL",null,null,null,{"$f":"'Local Controller Data - PROP'!H50","v":"-"}]
["ECPI COORD",{"$f":"'Local Controller Data - EXIST'!B51","v":"-"},null,"MANUAL CONTROL: SPLIT",null,null,null,{"$f":"'Local Controller Data - EXIST'!H51:J51","v":"-"},null,null,null,null,"ECPI COORD",{"$f":"'Local Controller Data - PROP'!B51","v":"-"},null,"MANUAL CONTROL: SPLIT",null,null,null,{"$f":"'Local Controller Data - PROP'!H51","v":"-"}]
["SYSTEM FORMAT ",{"$f":"'Local Controller Data - EXIST'!B52","v":"-"},null,"MANUAL CONTROL: OFFSET",null,null,null,{"$f":"'Local Controller Data - EXIST'!H52:J52","v":"-"},null,null,null,null,"SYSTEM FORMAT ",{"$f":"'Local Controller Data - PROP'!B52","v":"-"},null,"MANUAL CONTROL: OFFSET",null,null,null,{"$f":"'Local Controller Data - PROP'!H52","v":"-"}]
["OFFSET IN",{"$f":"'Local Controller Data - EXIST'!B53","v":"-"},null,null,null,null,null,null,null,null,null,null,"OFFSET IN",{"$f":"'Local Controller Data - PROP'!B53","v":"-"}]
["MAX SELECT",{"$f":"'Local Controller Data - EXIST'!B54","v":"-"},null,null,null,null,null,null,null,null,null,null,"MAX SELECT",{"$f":"'Local Controller Data - PROP'!B54","v":"-"}]
["FORCE OFF",{"$f":"'Local Controller Data - EXIST'!B55","v":"-"},null,null,null,null,null,null,null,null,null,null,"FORCE OFF",{"$f":"'Local Controller Data - PROP'!B55","v":"-"}]
["USE PED TIME",{"$f":"'Local Controller Data - EXIST'!B56","v":"-"},null,null,null,null,null,null,null,null,null,null,"USE PED TIME",{"$f":"'Local Controller Data - PROP'!B56","v":"-"}]
["PED RESERVICE",{"$f":"'Local Controller Data - EXIST'!B57","v":"-"},null,null,null,null,null,null,null,null,null,null,"PED RESERVICE",{"$f":"'Local Controller Data - PROP'!B57","v":"-"}]
["FO ADD INI GRN",{"$f":"'Local Controller Data - EXIST'!B58","v":"-"},null,null,null,null,null,null,null,null,null,null,"FO ADD INI GRN",{"$f":"'Local Controller Data - PROP'!B58","v":"-"}]
["MULTISYNC",{"$f":"'Local Controller Data - EXIST'!B59","v":"-"},null,null,null,null,null,null,null,"EXISTING TIMING",null,null,"MULTISYNC",{"$f":"'Local Controller Data - PROP'!B59","v":"-"},null,null,null,null,null,null,null,"PROPOSED TIMING"]
[]
[{"$f":"'Project Name'!$C$2","v":0},null,null,null,null,null,null,null,null,null,null,null,{"$f":"'Project Name'!$C$2","v":0}]
["Existing Local Controller Data",null,null,null,null,null,null,null,null,null,null,null,"Proposed Local Controller Data"]
["INTERSECTION:",null,null,null,null,null,null,null,null,null,null,null,"INTERSECTION:"]
["MAINTAINING AGENCY:",null,null,null,null,null,null,null,null,null,null,null,"MAINTAINING AGENCY:"]
["START UP",null,null,"DUAL ENTRY: ",null,"-","PHASES:",null,"-",null,null,null,"START UP",null,null,"DUAL ENTRY: ",null,"-","PHASES:",null,"-"]
[null,null,null,"REST IN RED: ",null,null,"RING 1","-",null,"RING 2","-",null,null,null,null,"REST IN RED: ",null,null,"RING 1","-",null,"RING 2","-"]
["START IN: ",{"$f":"'Local Controller Data - EXIST'!B69:C69","v":"-"},null,"OVERLAP",null,null,null,"A","B","C","D",null,"START IN: ","-",null,"OVERLAP",null,null,null,"A","B","C","D"]
["TIME FOR FLASH / ALL RED (SEC.):   ",null,"9, 6",null,null,null,null,null,null,null,null,null,"TIME FOR FLASH / ALL RED (SEC.):   ",null,"9, 6"]
["FIRST PHASE(S):",{"$f":"'Local Controller Data - EXIST'!B71:C71","v":"-"},null,"PHASES",null,null,null,{"$f":"'Local Controller Data - EXIST'!H71","v":"-"},{"$f":"'Local Controller Data - EXIST'!I71","v":"-"},{"$f":"'Local Controller Data - EXIST'!J71","v":"-"},{"$f":"'Local Controller Data - EXIST'!K71","v":"-"},null,"FIRST PHASE(S):",{"$f":"'Local Controller Data - PROP'!B71:C71","v":{"$error":"#VALUE!"}},null,"PHASES",null,null,null,{"$f":"'Local Controller Data - PROP'!H71","v":"-"},{"$f":"'Local Controller Data - PROP'!I71","v":"-"},{"$f":"'Local Controller Data - PROP'!J71","v":"-"},{"$f":"'Local Controller Data - PROP'!K71","v":"-"}]
["COLOR DISPLAYED:","-",null,null,null,null,null,null,null,null,null,null,"COLOR DISPLAYED:","-"]
[]
["INTERVAL OR FEATURE",null,null,"CONTROLLER MOVEMENT NO.",null,null,null,null,null,null,null,null,"INTERVAL OR FEATURE",null,null,"CONTROLLER MOVEMENT NO."]
["INTERSECTION MOVEMENT (PHASE)",null,null,1,2,3,4,5,6,7,8,null,"INTERSECTION MOVEMENT (PHASE)",null,null,1,2,3,4,5,6,7,8]
["DIRECTION",null,null,{"$f":"'Local Controller Data - EXIST'!D76","v":"-"},{"$f":"'Local Controller Data - EXIST'!E76","v":"-"},{"$f":"'Local Controller Data - EXIST'!F76","v":"-"},{"$f":"'Local Controller Data - EXIST'!G76","v":"-"},{"$f":"'Local Controller Data - EXIST'!H76","v":"-"},{"$f":"'Local Controller Data - EXIST'!I76","v":"-"},{"$f":"'Local Controller Data - EXIST'!J76","v":"-"},{"$f":"'Local Controller Data - EXIST'!K76","v":"-"},null,"DIRECTION",null,null,{"$f":"'Local Controller Data - PROP'!D76","v":"-"},{"$f":"'Local Controller Data - PROP'!E76","v":"-"},{"$f":"'Local Controller Data - PROP'!F76","v":"-"},{"$f":"'Local Controller Data - PROP'!G76","v":"-"},{"$f":"'Local Controller Data - PROP'!H76","v":"-"},{"$f":"'Local Controller Data - PROP'!I76","v":"-"},{"$f":"'Local Controller Data - PROP'!J76","v":"-"},{"$f":"'Local Controller Data - PROP'!K76","v":"-"}]
["MINIMUM GREEN (INITIAL) ",null,"(SEC.)",{"$f":"'Local Controller Data - EXIST'!D77","v":"-"},{"$f":"'Local Controller Data - EXIST'!E77","v":"-"},{"$f":"'Local Controller Data - EXIST'!F77","v":"-"},{"$f":"'Local Controller Data - EXIST'!G77","v":"-"},{"$f":"'Local Controller Data - EXIST'!H77","v":"-"},{"$f":"'Local Controller Data - EXIST'!I77","v":"-"},{"$f":"'Local Controller Data - EXIST'!J77","v":"-"},{"$f":"'Local Controller Data - EXIST'!K77","v":"-"},null,"MINIMUM GREEN (INITIAL) ",null,"(SEC.)",{"$f":"'Local Controller Data - PROP'!D77","v":"-"},{"$f":"'Local Controller Data - PROP'!E77","v":"-"},{"$f":"'Local Controller Data - PROP'!F77","v":"-"},{"$f":"'Local Controller Data - PROP'!G77","v":"-"},{"$f":"'Local Controller Data - PROP'!H77","v":"-"},{"$f":"'Local Controller Data - PROP'!I77","v":"-"},{"$f":"'Local Controller Data - PROP'!J77","v":"-"},{"$f":"'Local Controller Data - PROP'!K77","v":"-"}]
["ADDED INITIAL","*(SEC./ACTUATION)",null,{"$f":"'Local Controller Data - EXIST'!D78","v":"-"},{"$f":"'Local Controller Data - EXIST'!E78","v":"-"},{"$f":"'Local Controller Data - EXIST'!F78","v":"-"},{"$f":"'Local Controller Data - EXIST'!G78","v":"-"},{"$f":"'Local Controller Data - EXIST'!H78","v":"-"},{"$f":"'Local Controller Data - EXIST'!I78","v":"-"},{"$f":"'Local Controller Data - EXIST'!J78","v":"-"},{"$f":"'Local Controller Data - EXIST'!K78","v":"-"},null,"ADDED INITIAL","*(SEC./ACTUATION)",null,{"$f":"'Local Controller Data - PROP'!D78","v":"-"},{"$f":"'Local Controller Data - PROP'!E78","v":"-"},{"$f":"'Local Controller Data - PROP'!F78","v":"-"},{"$f":"'Local Controller Data - PROP'!G78","v":"-"},{"$f":"'Local Controller Data - PROP'!H78","v":"-"},{"$f":"'Local Controller Data - PROP'!I78","v":"-"},{"$f":"'Local Controller Data - PROP'!J78","v":"-"},{"$f":"'Local Controller Data - PROP'!K78","v":"-"}]
["MAXIMUM INITIAL",null,"*(SEC.)",{"$f":"'Local Controller Data - EXIST'!D79","v":"-"},{"$f":"'Local Controller Data - EXIST'!E79","v":"-"},{"$f":"'Local Controller Data - EXIST'!F79","v":"-"},{"$f":"'Local Controller Data - EXIST'!G79","v":"-"},{"$f":"'Local Controller Data - EXIST'!H79","v":"-"},{"$f":"'Local Controller Data - EXIST'!I79","v":"-"},{"$f":"'Local Controller Data - EXIST'!J79","v":"-"},{"$f":"'Local Controller Data - EXIST'!K79","v":"-"},null,"MAXIMUM INITIAL",null,"*(SEC.)",{"$f":"'Local Controller Data - PROP'!D79","v":"-"},{"$f":"'Local Controller Data - PROP'!E79","v":"-"},{"$f":"'Local Controller Data - PROP'!F79","v":"-"},{"$f":"'Local Controller Data - PROP'!G79","v":"-"},{"$f":"'Local Controller Data - PROP'!H79","v":"-"},{"$f":"'Local Controller Data - PROP'!I79","v":"-"},{"$f":"'Local Controller Data - PROP'!J79","v":"-"},{"$f":"'Local Controller Data - PROP'!K79","v":"-"}]
["PASSAGE TIME (PRESET GAP)",null,"(SEC.)",{"$f":"'Local Controller Data - EXIST'!D80","v":"-"},{"$f":"'Local Controller Data - EXIST'!E80","v":"-"},{"$f":"'Local Controller Data - EXIST'!F80","v":"-"},{"$f":"'Local Controller Data - EXIST'!G80","v":"-"},{"$f":"'Local Controller Data - EXIST'!H80","v":"-"},{"$f":"'Local Controller Data - EXIST'!I80","v":"-"},{"$f":"'Local Controller Data - EXIST'!J80","v":"-"},{"$f":"'Local Controller Data - EXIST'!K80","v":"-"},null,"PASSAGE TIME (PRESET GAP)",null,"(SEC.)",{"$f":"'Local Controller Data - PROP'!D80","v":"-"},{"$f":"'Local Controller Data - PROP'!E80","v":"-"},{"$f":"'Local Controller Data - PROP'!F80","v":"-"},{"$f":"'Local Controller Data - PROP'!G80","v":"-"},{"$f":"'Local Controller Data - PROP'!H80","v":"-"},{"$f":"'Local Controller Data - PROP'!I80","v":"-"},{"$f":"'Local Controller Data - PROP'!J80","v":"-"},{"$f":"'Local Controller Data - PROP'!K80","v":"-"}]
["TIME BEFORE REDUCTION",null,"*(SEC.)",{"$f":"'Local Controller Data - EXIST'!D81","v":"-"},{"$f":"'Local Controller Data - EXIST'!E81","v":"-"},{"$f":"'Local Controller Data - EXIST'!F81","v":"-"},{"$f":"'Local Controller Data - EXIST'!G81","v":"-"},{"$f":"'Local Controller Data - EXIST'!H81","v":"-"},{"$f":"'Local Controller Data - EXIST'!I81","v":"-"},{"$f":"'Local Controller Data - EXIST'!J81","v":"-"},{"$f":"'Local Controller Data - EXIST'!K81","v":"-"},null,"TIME BEFORE REDUCTION",null,"*(SEC.)",{"$f":"'Local Controller Data - PROP'!D81","v":"-"},{"$f":"'Local Controller Data - PROP'!E81","v":"-"},{"$f":"'Local Controller Data - PROP'!F81","v":"-"},{"$f":"'Local Controller Data - PROP'!G81","v":"-"},{"$f":"'Local Controller Data - PROP'!H81","v":"-"},{"$f":"'Local Controller Data - PROP'!I81","v":"-"},{"$f":"'Local Controller Data - PROP'!J81","v":"-"},{"$f":"'Local Controller Data - PROP'!K81","v":"-"}]
["MINIMUM GAP",null,"*(SEC.)",{"$f":"'Local Controller Data - EXIST'!D82","v":"-"},{"$f":"'Local Controller Data - EXIST'!E82","v":"-"},{"$f":"'Local Controller Data - EXIST'!F82","v":"-"},{"$f":"'Local Controller Data - EXIST'!G82","v":"-"},{"$f":"'Local Controller Data - EXIST'!H82","v":"-"},{"$f":"'Local Controller Data - EXIST'!I82","v":"-"},{"$f":"'Local Controller Data - EXIST'!J82","v":"-"},{"$f":"'Local Controller Data - EXIST'!K82","v":"-"},null,"MINIMUM GAP",null,"*(SEC.)",{"$f":"'Local Controller Data - PROP'!D82","v":"-"},{"$f":"'Local Controller Data - PROP'!E82","v":"-"},{"$f":"'Local Controller Data - PROP'!F82","v":"-"},{"$f":"'Local Controller Data - PROP'!G82","v":"-"},{"$f":"'Local Controller Data - PROP'!H82","v":"-"},{"$f":"'Local Controller Data - PROP'!I82","v":"-"},{"$f":"'Local Controller Data - PROP'!J82","v":"-"},{"$f":"'Local Controller Data - PROP'!K82","v":"-"}]
["TIME TO REDUCE",null,"*(SEC.)",{"$f":"'Local Controller Data - EXIST'!D83","v":"-"},{"$f":"'Local Controller Data - EXIST'!E83","v":"-"},{"$f":"'Local Controller Data - EXIST'!F83","v":"-"},{"$f":"'Local Controller Data - EXIST'!G83","v":"-"},{"$f":"'Local Controller Data - EXIST'!H83","v":"-"},{"$f":"'Local Controller Data - EXIST'!I83","v":"-"},{"$f":"'Local Controller Data - EXIST'!J83","v":"-"},{"$f":"'Local Controller Data - EXIST'!K83","v":"-"},null,"TIME TO REDUCE",null,"*(SEC.)",{"$f":"'Local Controller Data - PROP'!D83","v":"-"},{"$f":"'Local Controller Data - PROP'!E83","v":"-"},{"$f":"'Local Controller Data - PROP'!F83","v":"-"},{"$f":"'Local Controller Data - PROP'!G83","v":"-"},{"$f":"'Local Controller Data - PROP'!H83","v":"-"},{"$f":"'Local Controller Data - PROP'!I83","v":"-"},{"$f":"'Local Controller Data - PROP'!J83","v":"-"},{"$f":"'Local Controller Data - PROP'!K83","v":"-"}]
["MAXIMUM GREEN I",null,"(SEC.)",{"$f":"'Local Controller Data - EXIST'!D84","v":"-"},{"$f":"'Local Controller Data - EXIST'!E84","v":"-"},{"$f":"'Local Controller Data - EXIST'!F84","v":"-"},{"$f":"'Local Controller Data - EXIST'!G84","v":"-"},{"$f":"'Local Controller Data - EXIST'!H84","v":"-"},{"$f":"'Local Controller Data - EXIST'!I84","v":"-"},{"$f":"'Local Controller Data - EXIST'!J84","v":"-"},{"$f":"'Local Controller Data - EXIST'!K84","v":"-"},null,"MAXIMUM GREEN I",null,"(SEC.)",{"$f":"'Local Controller Data - PROP'!D84","v":"-"},{"$f":"'Local Controller Data - PROP'!E84","v":"-"},{"$f":"'Local Controller Data - PROP'!F84","v":"-"},{"$f":"'Local Controller Data - PROP'!G84","v":"-"},{"$f":"'Local Controller Data - PROP'!H84","v":"-"},{"$f":"'Local Controller Data - PROP'!I84","v":"-"},{"$f":"'Local Controller Data - PROP'!J84","v":"-"},{"$f":"'Local Controller Data - PROP'!K84","v":"-"}]
["MAXIMUM GREEN II",null,"(SEC.)",{"$f":"'Local Controller Data - EXIST'!D85","v":"-"},{"$f":"'Local Controller Data - EXIST'!E85","v":"-"},{"$f":"'Local Controller Data - EXIST'!F85","v":"-"},{"$f":"'Local Controller Data - EXIST'!G85","v":"-"},{"$f":"'Local Controller Data - EXIST'!H85","v":"-"},{"$f":"'Local Controller Data - EXIST'!I85","v":"-"},{"$f":"'Local Controller Data - EXIST'!J85","v":"-"},{"$f":"'Local Controller Data - EXIST'!K85","v":"-"},null,"MAXIMUM GREEN II",null,"(SEC.)",{"$f":"'Local Controller Data - PROP'!D85","v":"-"},{"$f":"'Local Controller Data - PROP'!E85","v":"-"},{"$f":"'Local Controller Data - PROP'!F85","v":"-"},{"$f":"'Local Controller Data - PROP'!G85","v":"-"},{"$f":"'Local Controller Data - PROP'!H85","v":"-"},{"$f":"'Local Controller Data - PROP'!I85","v":"-"},{"$f":"'Local Controller Data - PROP'!J85","v":"-"},{"$f":"'Local Controller Data - PROP'!K85","v":"-"}]
["YELLOW CHANGE",null,"(SEC.)",{"$f":"'Local Controller Data - EXIST'!D86","v":"-"},{"$f":"'Local Controller Data - EXIST'!E86","v":"-"},{"$f":"'Local Controller Data - EXIST'!F86","v":"-"},{"$f":"'Local Controller Data - EXIST'!G86","v":"-"},{"$f":"'Local Controller Data - EXIST'!H86","v":"-"},{"$f":"'Local Controller Data - EXIST'!I86","v":"-"},{"$f":"'Local Controller Data - EXIST'!J86","v":"-"},{"$f":"'Local Controller Data - EXIST'!K86","v":"-"},null,"YELLOW CHANGE",null,"(SEC.)",{"$f":"'Local Controller Data - PROP'!D86","v":"-"},{"$f":"'Local Controller Data - PROP'!E86","v":"-"},{"$f":"'Local Controller Data - PROP'!F86","v":"-"},{"$f":"'Local Controller Data - PROP'!G86","v":"-"},{"$f":"'Local Controller Data - PROP'!H86","v":"-"},{"$f":"'Local Controller Data - PROP'!I86","v":"-"},{"$f":"'Local Controller Data - PROP'!J86","v":"-"},{"$f":"'Local Controller Data - PROP'!K86","v":"-"}]
["ALL RED CLEARANCE",null,"(SEC.)",{"$f":"'Local Controller Data - EXIST'!D87","v":"-"},{"$f":"'Local Controller Data - EXIST'!E87","v":"-"},{"$f":"'Local Controller Data - EXIST'!F87","v":"-"},{"$f":"'Local Controller Data - EXIST'!G87","v":"-"},{"$f":"'Local Controller Data - EXIST'!H87","v":"-"},{"$f":"'Local Controller Data - EXIST'!I87","v":"-"},{"$f":"'Local Controller Data - EXIST'!J87","v":"-"},{"$f":"'Local Controller Data - EXIST'!K87","v":"-"},null,"ALL RED CLEARANCE",null,"(SEC.)",{"$f":"'Local Controller Data - PROP'!D87","v":"-"},{"$f":"'Local Controller Data - PROP'!E87","v":"-"},{"$f":"'Local Controller Data - PROP'!F87","v":"-"},{"$f":"'Local Controller Data - PROP'!G87","v":"-"},{"$f":"'Local Controller Data - PROP'!H87","v":"-"},{"$f":"'Local Controller Data - PROP'!I87","v":"-"},{"$f":"'Local Controller Data - PROP'!J87","v":"-"},{"$f":"'Local Controller Data - PROP'!K87","v":"-"}]
["DELAYED GREEN (LPI) #",null,"(SEC.)",{"$f":"'Local Controller Data - EXIST'!D88","v":"-"},{"$f":"'Local Controller Data - EXIST'!E88","v":"-"},{"$f":"'Local Controller Data - EXIST'!F88","v":"-"},{"$f":"'Local Controller Data - EXIST'!G88","v":"-"},{"$f":"'Local Controller Data - EXIST'!H88","v":"-"},{"$f":"'Local Controller Data - EXIST'!I88","v":"-"},{"$f":"'Local Controller Data - EXIST'!J88","v":"-"},{"$f":"'Local Controller Data - EXIST'!K88","v":"-"},null,"DELAYED GREEN (LPI) #",null,"(SEC.)",{"$f":"'Local Controller Data - PROP'!D88","v":"-"},{"$f":"'Local Controller Data - PROP'!E88","v":"-"},{"$f":"'Local Controller Data - PROP'!F88","v":"-"},{"$f":"'Local Controller Data - PROP'!G88","v":"-"},{"$f":"'Local Controller Data - PROP'!H88","v":"-"},{"$f":"'Local Controller Data - PROP'!I88","v":"-"},{"$f":"'Local Controller Data - PROP'!J88","v":"-"},{"$f":"'Local Controller Data - PROP'!K88","v":"-"}]
["FLASHING YELLOW ARROW DELAY^",null,"(SEC.)",{"$f":"'Local Controller Data - EXIST'!D89","v":"-"},{"$f":"'Local Controller Data - EXIST'!E89","v":"-"},{"$f":"'Local Controller Data - EXIST'!F89","v":"-"},{"$f":"'Local Controller Data - EXIST'!G89","v":"-"},{"$f":"'Local Controller Data - EXIST'!H89","v":"-"},{"$f":"'Local Controller Data - EXIST'!I89","v":"-"},{"$f":"'Local Controller Data - EXIST'!J89","v":"-"},{"$f":"'Local Controller Data - EXIST'!K89","v":"-"},null,"FLASHING YELLOW ARROW DELAY^",null,"(SEC.)",{"$f":"'Local Controller Data - PROP'!D89","v":"-"},{"$f":"'Local Controller Data - PROP'!E89","v":"-"},{"$f":"'Local Controller Data - PROP'!F89","v":"-"},{"$f":"'Local Controller Data - PROP'!G89","v":"-"},{"$f":"'Local Controller Data - PROP'!H89","v":"-"},{"$f":"'Local Controller Data - PROP'!I89","v":"-"},{"$f":"'Local Controller Data - PROP'!J89","v":"-"},{"$f":"'Local Controller Data - PROP'!K89","v":"-"}]
["WALK",null,"(SEC.)",{"$f":"'Local Controller Data - EXIST'!D90","v":"-"},{"$f":"'Local Controller Data - EXIST'!E90","v":"-"},{"$f":"'Local Controller Data - EXIST'!F90","v":"-"},{"$f":"'Local Controller Data - EXIST'!G90","v":"-"},{"$f":"'Local Controller Data - EXIST'!H90","v":"-"},{"$f":"'Local Controller Data - EXIST'!I90","v":"-"},{"$f":"'Local Controller Data - EXIST'!J90","v":"-"},{"$f":"'Local Controller Data - EXIST'!K90","v":"-"},null,"WALK",null,"(SEC.)",{"$f":"'Local Controller Data - PROP'!D90","v":"-"},{"$f":"'Local Controller Data - PROP'!E90","v":"-"},{"$f":"'Local Controller Data - PROP'!F90","v":"-"},{"$f":"'Local Controller Data - PROP'!G90","v":"-"},{"$f":"'Local Controller Data - PROP'!H90","v":"-"},{"$f":"'Local Controller Data - PROP'!I90","v":"-"},{"$f":"'Local Controller Data - PROP'!J90","v":"-"},{"$f":"'Local Controller Data - PROP'!K90","v":"-"}]
["PEDESTRIAN CLEARANCE",null,"(SEC.)",{"$f":"'Local Controller Data - EXIST'!D91","v":"-"},{"$f":"'Local Controller Data - EXIST'!E91","v":"-"},{"$f":"'Local Controller Data - EXIST'!F91","v":"-"},{"$f":"'Local Controller Data - EXIST'!G91","v":"-"},{"$f":"'Local Controller Data - EXIST'!H91","v":"-"},{"$f":"'Local Controller Data - EXIST'!I91","v":"-"},{"$f":"'Local Controller Data - EXIST'!J91","v":"-"},{"$f":"'Local Controller Data - EXIST'!K91","v":"-"},null,"PEDESTRIAN CLEARANCE",null,"(SEC.)",{"$f":"'Local Controller Data - PROP'!D91","v":"-"},{"$f":"'Local Controller Data - PROP'!E91","v":"-"},{"$f":"'Local Controller Data - PROP'!F91","v":"-"},{"$f":"'Local Controller Data - PROP'!G91","v":"-"},{"$f":"'Local Controller Data - PROP'!H91","v":"-"},{"$f":"'Local Controller Data - PROP'!I91","v":"-"},{"$f":"'Local Controller Data - PROP'!J91","v":"-"},{"$f":"'Local Controller Data - PROP'!K91","v":"-"}]
["RECALL","MAXIMUM","(ON/OFF)",{"$f":"'Local Controller Data - EXIST'!D92","v":"-"},{"$f":"'Local Controller Data - EXIST'!E92","v":"-"},{"$f":"'Local Controller Data - EXIST'!F92","v":"-"},{"$f":"'Local Controller Data - EXIST'!G92","v":"-"},{"$f":"'Local Controller Data - EXIST'!H92","v":"-"},{"$f":"'Local Controller Data - EXIST'!I92","v":"-"},{"$f":"'Local Controller Data - EXIST'!J92","v":"-"},{"$f":"'Local Controller Data - EXIST'!K92","v":"-"},null,"RECALL","MAXIMUM","(ON/OFF)",{"$f":"'Local Controller Data - PROP'!D92","v":"-"},{"$f":"'Local Controller Data - PROP'!E92","v":"-"},{"$f":"'Local Controller Data - PROP'!F92","v":"-"},{"$f":"'Local Controller Data - PROP'!G92","v":"-"},{"$f":"'Local Controller Data - PROP'!H92","v":"-"},{"$f":"'Local Controller Data - PROP'!I92","v":"-"},{"$f":"'Local Controller Data - PROP'!J92","v":"-"},{"$f":"'Local Controller Data - PROP'!K92","v":"-"}]
[null,"MINIMUM","(ON/OFF)",{"$f":"'Local Controller Data - EXIST'!D93","v":"-"},{"$f":"'Local Controller Data - EXIST'!E93","v":"-"},{"$f":"'Local Controller Data - EXIST'!F93","v":"-"},{"$f":"'Local Controller Data - EXIST'!G93","v":"-"},{"$f":"'Local Controller Data - EXIST'!H93","v":"-"},{"$f":"'Local Controller Data - EXIST'!I93","v":"-"},{"$f":"'Local Controller Data - EXIST'!J93","v":"-"},{"$f":"'Local Controller Data - EXIST'!K93","v":"-"},null,null,"MINIMUM","(ON/OFF)",{"$f":"'Local Controller Data - PROP'!D93","v":"-"},{"$f":"'Local Controller Data - PROP'!E93","v":"-"},{"$f":"'Local Controller Data - PROP'!F93","v":"-"},{"$f":"'Local Controller Data - PROP'!G93","v":"-"},{"$f":"'Local Controller Data - PROP'!H93","v":"-"},{"$f":"'Local Controller Data - PROP'!I93","v":"-"},{"$f":"'Local Controller Data - PROP'!J93","v":"-"},{"$f":"'Local Controller Data - PROP'!K93","v":"-"}]
[null,"PEDESTRIAN","(ON/OFF)",{"$f":"'Local Controller Data - EXIST'!D94","v":"-"},{"$f":"'Local Controller Data - EXIST'!E94","v":"-"},{"$f":"'Local Controller Data - EXIST'!F94","v":"-"},{"$f":"'Local Controller Data - EXIST'!G94","v":"-"},{"$f":"'Local Controller Data - EXIST'!H94","v":"-"},{"$f":"'Local Controller Data - EXIST'!I94","v":"-"},{"$f":"'Local Controller Data - EXIST'!J94","v":"-"},{"$f":"'Local Controller Data - EXIST'!K94","v":"-"},null,null,"PEDESTRIAN","(ON/OFF)",{"$f":"'Local Controller Data - PROP'!D94","v":"-"},{"$f":"'Local Controller Data - PROP'!E94","v":"-"},{"$f":"'Local Controller Data - PROP'!F94","v":"-"},{"$f":"'Local Controller Data - PROP'!G94","v":"-"},{"$f":"'Local Controller Data - PROP'!H94","v":"-"},{"$f":"'Local Controller Data - PROP'!I94","v":"-"},{"$f":"'Local Controller Data - PROP'!J94","v":"-"},{"$f":"'Local Controller Data - PROP'!K94","v":"-"}]
["MEMORY    ",null,"(ON/OFF)",{"$f":"'Local Controller Data - EXIST'!D95","v":"-"},{"$f":"'Local Controller Data - EXIST'!E95","v":"-"},{"$f":"'Local Controller Data - EXIST'!F95","v":"-"},{"$f":"'Local Controller Data - EXIST'!G95","v":"-"},{"$f":"'Local Controller Data - EXIST'!H95","v":"-"},{"$f":"'Local Controller Data - EXIST'!I95","v":"-"},{"$f":"'Local Controller Data - EXIST'!J95","v":"-"},{"$f":"'Local Controller Data - EXIST'!K95","v":"-"},null,"MEMORY    ",null,"(ON/OFF)",{"$f":"'Local Controller Data - PROP'!D95","v":"-"},{"$f":"'Local Controller Data - PROP'!E95","v":"-"},{"$f":"'Local Controller Data - PROP'!F95","v":"-"},{"$f":"'Local Controller Data - PROP'!G95","v":"-"},{"$f":"'Local Controller Data - PROP'!H95","v":"-"},{"$f":"'Local Controller Data - PROP'!I95","v":"-"},{"$f":"'Local Controller Data - PROP'!J95","v":"-"},{"$f":"'Local Controller Data - PROP'!K95","v":"-"}]
["*VOLUME DENSITY CONTROLS",null,null,null,null,null,null,null,null,null,null,null,"*VOLUME DENSITY CONTROLS"]
["# FOR CROSSINGS WITH PEDESTRIAN PUSHBUTTONS, LPI'S (LEADING PEDESTRIAN INTERVALS) MAY BE IMPLEMENTED (3-6 SEC.) IN ACCORDANCE WITH LPI DURATION TIME PER THE ODOT SIGNAL CALCULATIONS - CLEARANCE INTERVALS SPREADSHEET",null,null,null,null,null,null,null,null,null,null,null,"# FOR CROSSINGS WITH PEDESTRIAN PUSHBUTTONS, LPI'S (LEADING PEDESTRIAN INTERVALS) MAY BE IMPLEMENTED (3-6 SEC.) IN ACCORDANCE WITH LPI DURATION TIME PER THE ODOT SIGNAL CALCULATIONS - CLEARANCE INTERVALS SPREADSHEET"]
[]
[]
["^ WHEN IMPLEMENTING FYA, A MINIMUM 3 SEC. DELAY SHALL BE PROGRAMMED PER FYA PHASE. ",null,null,null,null,null,null,null,null,null,null,null,"^ WHEN IMPLEMENTING FYA, A MINIMUM 3 SEC. DELAY SHALL BE PROGRAMMED PER FYA PHASE. "]
[]
["ECONOLITE COORD SETTINGS",null,null,"SIEMENS COORD SETTINGS",null,null,null,null,null,null,null,null,"ECONOLITE COORD SETTINGS",null,null,"SIEMENS COORD SETTINGS"]
["MANUAL PATTERN",{"$f":"'Local Controller Data - EXIST'!B103","v":"-"},null,"OPERATION",null,null,null,"-",null,null,null,null,"MANUAL PATTERN",{"$f":"'Local Controller Data - PROP'!B103","v":"-"},null,"OPERATION",null,null,null,"-"]
["SYSTEM SOURCE",{"$f":"'Local Controller Data - EXIST'!B104","v":"-"},null,"MODE (NORMAL)",null,null,null,"-",null,null,null,null,"SYSTEM SOURCE",{"$f":"'Local Controller Data - PROP'!B104","v":"-"},null,"MODE (NORMAL)",null,null,null,"-"]
["SPLITS IN",{"$f":"'Local Controller Data - EXIST'!B105","v":"-"},null,"MAXIMUM",null,null,null,"-",null,null,null,null,"SPLITS IN",{"$f":"'Local Controller Data - PROP'!B105","v":"-"},null,"MAXIMUM",null,null,null,"-"]
["TRANSITION",{"$f":"'Local Controller Data - EXIST'!B106","v":"-"},null,"CORRECTION",null,null,null,"-",null,null,null,null,"TRANSITION",{"$f":"'Local Controller Data - PROP'!B106","v":"-"},null,"CORRECTION",null,null,null,"-"]
["DWELL/ADD TIME",{"$f":"'Local Controller Data - EXIST'!B107","v":"-"},null,"OFFSET MODE",null,null,null,"-",null,null,null,null,"DWELL/ADD TIME",{"$f":"'Local Controller Data - PROP'!B107","v":"-"},null,"OFFSET MODE",null,null,null,"-"]
["OFFSET REFERENCE",{"$f":"'Local Controller Data - EXIST'!B108","v":"-"},null,"FORCE MODE",null,null,null,"-",null,null,null,null,"OFFSET REFERENCE",{"$f":"'Local Controller Data - PROP'!B108","v":"-"},null,"FORCE MODE",null,null,null,"-"]
["PED RECALL",{"$f":"'Local Controller Data - EXIST'!B109","v":"-"},null,"MAX DWELL TIME",null,null,null,"-",null,null,null,null,"PED RECALL",{"$f":"'Local Controller Data - PROP'!B109","v":"-"},null,"MAX DWELL TIME",null,null,null,"-"]
["LOCAL ZERO OVERRIDE",{"$f":"'Local Controller Data - EXIST'!B110","v":"-"},null,"YIELD PERIOD",null,null,null,"-",null,null,null,null,"LOCAL ZERO OVERRIDE",{"$f":"'Local Controller Data - PROP'!B110","v":"-"},null,"YIELD PERIOD",null,null,null,"-"]
["RE-SYNC COUNT",{"$f":"'Local Controller Data - EXIST'!B111","v":"-"},null,"MANUAL CONTROL: DIAL",null,null,null,"-",null,null,null,null,"RE-SYNC COUNT",{"$f":"'Local Controller Data - PROP'!B111","v":"-"},null,"MANUAL CONTROL: DIAL",null,null,null,"-"]
["ECPI COORD",{"$f":"'Local Controller Data - EXIST'!B112","v":"-"},null,"MANUAL CONTROL: SPLIT",null,null,null,"-",null,null,null,null,"ECPI COORD",{"$f":"'Local Controller Data - PROP'!B112","v":"-"},null,"MANUAL CONTROL: SPLIT",null,null,null,"-"]
["SYSTEM FORMAT ",{"$f":"'Local Controller Data - EXIST'!B113","v":"-"},null,"MANUAL CONTROL: OFFSET",null,null,null,"-",null,null,null,null,"SYSTEM FORMAT ",{"$f":"'Local Controller Data - PROP'!B113","v":"-"},null,"MANUAL CONTROL: OFFSET",null,null,null,"-"]
["OFFSET IN",{"$f":"'Local Controller Data - EXIST'!B114","v":"-"},null,null,null,null,null,null,null,null,null,null,"OFFSET IN",{"$f":"'Local Controller Data - PROP'!B114","v":"-"}]
["MAX SELECT",{"$f":"'Local Controller Data - EXIST'!B115","v":"-"},null,null,null,null,null,null,null,null,null,null,"MAX SELECT",{"$f":"'Local Controller Data - PROP'!B115","v":"-"}]
["FORCE OFF",{"$f":"'Local Controller Data - EXIST'!B116","v":"-"},null,null,null,null,null,null,null,null,null,null,"FORCE OFF",{"$f":"'Local Controller Data - PROP'!B116","v":"-"}]
["USE PED TIME",{"$f":"'Local Controller Data - EXIST'!B117","v":"-"},null,null,null,null,null,null,null,null,null,null,"USE PED TIME",{"$f":"'Local Controller Data - PROP'!B117","v":"-"}]
["PED RESERVICE",{"$f":"'Local Controller Data - EXIST'!B118","v":"-"},null,null,null,null,null,null,null,null,null,null,"PED RESERVICE",{"$f":"'Local Controller Data - PROP'!B118","v":"-"}]
["FO ADD INI GRN",{"$f":"'Local Controller Data - EXIST'!B119","v":"-"},null,null,null,null,null,null,null,null,null,null,"FO ADD INI GRN",{"$f":"'Local Controller Data - PROP'!B119","v":"-"}]
["MULTISYNC",{"$f":"'Local Controller Data - EXIST'!B120","v":"-"},null,null,null,null,null,null,null,"EXISTING TIMING",null,null,"MULTISYNC",{"$f":"'Local Controller Data - PROP'!B120","v":"-"},null,null,null,null,null,null,null,"PROPOSED TIMING"]
[]
[{"$f":"'Project Name'!$C$2","v":0},null,null,null,null,null,null,null,null,null,null,null,{"$f":"'Project Name'!$C$2","v":0}]
["Existing Local Controller Data",null,null,null,null,null,null,null,null,null,null,null,"Proposed Local Controller Data"]
["INTERSECTION:",null,null,null,null,null,null,null,null,null,null,null,"INTERSECTION:"]
["MAINTAINING AGENCY:",null,null,null,null,null,null,null,null,null,null,null,"MAINTAINING AGENCY:"]
["START UP",null,null,"DUAL ENTRY: ",null,"-","PHASES:",null,{"$f":"'Local Controller Data - EXIST'!I127:K127","v":"-"},null,null,null,"START UP",null,null,"DUAL ENTRY: ",null,"-","PHASES:",null,"-"]
[null,null,null,"REST IN RED: ",null,null,"RING 1","-",null,"RING 2","-",null,null,null,null,"REST IN RED: ",null,null,"RING 1","-",null,"RING 2","-"]
["START IN: ",{"$f":"'Local Controller Data - EXIST'!B129:C129","v":"-"},null,"OVERLAP",null,null,null,"A","B","C","D",null,"START IN: ","-",null,"OVERLAP",null,null,null,"A","B","C","D"]
["TIME FOR FLASH / ALL RED (SEC.):   ",null,"9, 6",null,null,null,null,null,null,null,null,null,"TIME FOR FLASH / ALL RED (SEC.):   ",null,"9, 6"]
["FIRST PHASE(S):",{"$f":"'Local Controller Data - EXIST'!B131:C131","v":"-"},null,"PHASES",null,null,null,{"$f":"'Local Controller Data - EXIST'!H131","v":"-"},{"$f":"'Local Controller Data - EXIST'!I131","v":"-"},{"$f":"'Local Controller Data - EXIST'!J131","v":"-"},{"$f":"'Local Controller Data - EXIST'!K131","v":"-"},null,"FIRST PHASE(S):",{"$f":"'Local Controller Data - PROP'!B131:C131","v":{"$error":"#VALUE!"}},null,"PHASES",null,null,null,{"$f":"'Local Controller Data - PROP'!H131","v":"-"},{"$f":"'Local Controller Data - PROP'!I131","v":"-"},{"$f":"'Local Controller Data - PROP'!J131","v":"-"},{"$f":"'Local Controller Data - PROP'!K131","v":"-"}]
["COLOR DISPLAYED:","-",null,null,null,null,null,null,null,null,null,null,"COLOR DISPLAYED:","-"]
["INTERVAL OR FEATURE",null,null,"CONTROLLER MOVEMENT NO.",null,null,null,null,null,null,null,null,"INTERVAL OR FEATURE",null,null,"CONTROLLER MOVEMENT NO."]
["INTERSECTION MOVEMENT (PHASE)",null,null,1,2,3,4,5,6,7,8,null,"INTERSECTION MOVEMENT (PHASE)",null,null,1,2,3,4,5,6,7,8]
["DIRECTION",null,null,{"$f":"'Local Controller Data - EXIST'!D136","v":"-"},{"$f":"'Local Controller Data - EXIST'!E136","v":"-"},{"$f":"'Local Controller Data - EXIST'!F136","v":"-"},{"$f":"'Local Controller Data - EXIST'!G136","v":"-"},{"$f":"'Local Controller Data - EXIST'!H136","v":"-"},{"$f":"'Local Controller Data - EXIST'!I136","v":"-"},{"$f":"'Local Controller Data - EXIST'!J136","v":"-"},{"$f":"'Local Controller Data - EXIST'!K136","v":"-"},null,"DIRECTION",null,null,{"$f":"'Local Controller Data - PROP'!D136","v":"-"},{"$f":"'Local Controller Data - PROP'!E136","v":"-"},{"$f":"'Local Controller Data - PROP'!F136","v":"-"},{"$f":"'Local Controller Data - PROP'!G136","v":"-"},{"$f":"'Local Controller Data - PROP'!H136","v":"-"},{"$f":"'Local Controller Data - PROP'!I136","v":"-"},{"$f":"'Local Controller Data - PROP'!J136","v":"-"},{"$f":"'Local Controller Data - PROP'!K136","v":"-"}]
["MINIMUM GREEN (INITIAL) ",null,"(SEC.)",{"$f":"'Local Controller Data - EXIST'!D137","v":"-"},{"$f":"'Local Controller Data - EXIST'!E137","v":"-"},{"$f":"'Local Controller Data - EXIST'!F137","v":"-"},{"$f":"'Local Controller Data - EXIST'!G137","v":"-"},{"$f":"'Local Controller Data - EXIST'!H137","v":"-"},{"$f":"'Local Controller Data - EXIST'!I137","v":"-"},{"$f":"'Local Controller Data - EXIST'!J137","v":"-"},{"$f":"'Local Controller Data - EXIST'!K137","v":"-"},null,"MINIMUM GREEN (INITIAL) ",null,"(SEC.)",{"$f":"'Local Controller Data - PROP'!D137","v":"-"},{"$f":"'Local Controller Data - PROP'!E137","v":"-"},{"$f":"'Local Controller Data - PROP'!F137","v":"-"},{"$f":"'Local Controller Data - PROP'!G137","v":"-"},{"$f":"'Local Controller Data - PROP'!H137","v":"-"},{"$f":"'Local Controller Data - PROP'!I137","v":"-"},{"$f":"'Local Controller Data - PROP'!J137","v":"-"},{"$f":"'Local Controller Data - PROP'!K137","v":"-"}]
["ADDED INITIAL","*(SEC./ACTUATION)",null,{"$f":"'Local Controller Data - EXIST'!D138","v":"-"},{"$f":"'Local Controller Data - EXIST'!E138","v":"-"},{"$f":"'Local Controller Data - EXIST'!F138","v":"-"},{"$f":"'Local Controller Data - EXIST'!G138","v":"-"},{"$f":"'Local Controller Data - EXIST'!H138","v":"-"},{"$f":"'Local Controller Data - EXIST'!I138","v":"-"},{"$f":"'Local Controller Data - EXIST'!J138","v":"-"},{"$f":"'Local Controller Data - EXIST'!K138","v":"-"},null,"ADDED INITIAL","*(SEC./ACTUATION)",null,{"$f":"'Local Controller Data - PROP'!D138","v":"-"},{"$f":"'Local Controller Data - PROP'!E138","v":"-"},{"$f":"'Local Controller Data - PROP'!F138","v":"-"},{"$f":"'Local Controller Data - PROP'!G138","v":"-"},{"$f":"'Local Controller Data - PROP'!H138","v":"-"},{"$f":"'Local Controller Data - PROP'!I138","v":"-"},{"$f":"'Local Controller Data - PROP'!J138","v":"-"},{"$f":"'Local Controller Data - PROP'!K138","v":"-"}]
["MAXIMUM INITIAL",null,"*(SEC.)",{"$f":"'Local Controller Data - EXIST'!D139","v":"-"},{"$f":"'Local Controller Data - EXIST'!E139","v":"-"},{"$f":"'Local Controller Data - EXIST'!F139","v":"-"},{"$f":"'Local Controller Data - EXIST'!G139","v":"-"},{"$f":"'Local Controller Data - EXIST'!H139","v":"-"},{"$f":"'Local Controller Data - EXIST'!I139","v":"-"},{"$f":"'Local Controller Data - EXIST'!J139","v":"-"},{"$f":"'Local Controller Data - EXIST'!K139","v":"-"},null,"MAXIMUM INITIAL",null,"*(SEC.)",{"$f":"'Local Controller Data - PROP'!D139","v":"-"},{"$f":"'Local Controller Data - PROP'!E139","v":"-"},{"$f":"'Local Controller Data - PROP'!F139","v":"-"},{"$f":"'Local Controller Data - PROP'!G139","v":"-"},{"$f":"'Local Controller Data - PROP'!H139","v":"-"},{"$f":"'Local Controller Data - PROP'!I139","v":"-"},{"$f":"'Local Controller Data - PROP'!J139","v":"-"},{"$f":"'Local Controller Data - PROP'!K139","v":"-"}]
["PASSAGE TIME (PRESET GAP)",null,"(SEC.)",{"$f":"'Local Controller Data - EXIST'!D140","v":"-"},{"$f":"'Local Controller Data - EXIST'!E140","v":"-"},{"$f":"'Local Controller Data - EXIST'!F140","v":"-"},{"$f":"'Local Controller Data - EXIST'!G140","v":"-"},{"$f":"'Local Controller Data - EXIST'!H140","v":"-"},{"$f":"'Local Controller Data - EXIST'!I140","v":"-"},{"$f":"'Local Controller Data - EXIST'!J140","v":"-"},{"$f":"'Local Controller Data - EXIST'!K140","v":"-"},null,"PASSAGE TIME (PRESET GAP)",null,"(SEC.)",{"$f":"'Local Controller Data - PROP'!D140","v":"-"},{"$f":"'Local Controller Data - PROP'!E140","v":"-"},{"$f":"'Local Controller Data - PROP'!F140","v":"-"},{"$f":"'Local Controller Data - PROP'!G140","v":"-"},{"$f":"'Local Controller Data - PROP'!H140","v":"-"},{"$f":"'Local Controller Data - PROP'!I140","v":"-"},{"$f":"'Local Controller Data - PROP'!J140","v":"-"},{"$f":"'Local Controller Data - PROP'!K140","v":"-"}]
["TIME BEFORE REDUCTION",null,"*(SEC.)",{"$f":"'Local Controller Data - EXIST'!D141","v":"-"},{"$f":"'Local Controller Data - EXIST'!E141","v":"-"},{"$f":"'Local Controller Data - EXIST'!F141","v":"-"},{"$f":"'Local Controller Data - EXIST'!G141","v":"-"},{"$f":"'Local Controller Data - EXIST'!H141","v":"-"},{"$f":"'Local Controller Data - EXIST'!I141","v":"-"},{"$f":"'Local Controller Data - EXIST'!J141","v":"-"},{"$f":"'Local Controller Data - EXIST'!K141","v":"-"},null,"TIME BEFORE REDUCTION",null,"*(SEC.)",{"$f":"'Local Controller Data - PROP'!D141","v":"-"},{"$f":"'Local Controller Data - PROP'!E141","v":"-"},{"$f":"'Local Controller Data - PROP'!F141","v":"-"},{"$f":"'Local Controller Data - PROP'!G141","v":"-"},{"$f":"'Local Controller Data - PROP'!H141","v":"-"},{"$f":"'Local Controller Data - PROP'!I141","v":"-"},{"$f":"'Local Controller Data - PROP'!J141","v":"-"},{"$f":"'Local Controller Data - PROP'!K141","v":"-"}]
["MINIMUM GAP",null,"*(SEC.)",{"$f":"'Local Controller Data - EXIST'!D142","v":"-"},{"$f":"'Local Controller Data - EXIST'!E142","v":"-"},{"$f":"'Local Controller Data - EXIST'!F142","v":"-"},{"$f":"'Local Controller Data - EXIST'!G142","v":"-"},{"$f":"'Local Controller Data - EXIST'!H142","v":"-"},{"$f":"'Local Controller Data - EXIST'!I142","v":"-"},{"$f":"'Local Controller Data - EXIST'!J142","v":"-"},{"$f":"'Local Controller Data - EXIST'!K142","v":"-"},null,"MINIMUM GAP",null,"*(SEC.)",{"$f":"'Local Controller Data - PROP'!D142","v":"-"},{"$f":"'Local Controller Data - PROP'!E142","v":"-"},{"$f":"'Local Controller Data - PROP'!F142","v":"-"},{"$f":"'Local Controller Data - PROP'!G142","v":"-"},{"$f":"'Local Controller Data - PROP'!H142","v":"-"},{"$f":"'Local Controller Data - PROP'!I142","v":"-"},{"$f":"'Local Controller Data - PROP'!J142","v":"-"},{"$f":"'Local Controller Data - PROP'!K142","v":"-"}]
["TIME TO REDUCE",null,"*(SEC.)",{"$f":"'Local Controller Data - EXIST'!D143","v":"-"},{"$f":"'Local Controller Data - EXIST'!E143","v":"-"},{"$f":"'Local Controller Data - EXIST'!F143","v":"-"},{"$f":"'Local Controller Data - EXIST'!G143","v":"-"},{"$f":"'Local Controller Data - EXIST'!H143","v":"-"},{"$f":"'Local Controller Data - EXIST'!I143","v":"-"},{"$f":"'Local Controller Data - EXIST'!J143","v":"-"},{"$f":"'Local Controller Data - EXIST'!K143","v":"-"},null,"TIME TO REDUCE",null,"*(SEC.)",{"$f":"'Local Controller Data - PROP'!D143","v":"-"},{"$f":"'Local Controller Data - PROP'!E143","v":"-"},{"$f":"'Local Controller Data - PROP'!F143","v":"-"},{"$f":"'Local Controller Data - PROP'!G143","v":"-"},{"$f":"'Local Controller Data - PROP'!H143","v":"-"},{"$f":"'Local Controller Data - PROP'!I143","v":"-"},{"$f":"'Local Controller Data - PROP'!J143","v":"-"},{"$f":"'Local Controller Data - PROP'!K143","v":"-"}]
["MAXIMUM GREEN I",null,"(SEC.)",{"$f":"'Local Controller Data - EXIST'!D144","v":"-"},{"$f":"'Local Controller Data - EXIST'!E144","v":"-"},{"$f":"'Local Controller Data - EXIST'!F144","v":"-"},{"$f":"'Local Controller Data - EXIST'!G144","v":"-"},{"$f":"'Local Controller Data - EXIST'!H144","v":"-"},{"$f":"'Local Controller Data - EXIST'!I144","v":"-"},{"$f":"'Local Controller Data - EXIST'!J144","v":"-"},{"$f":"'Local Controller Data - EXIST'!K144","v":"-"},null,"MAXIMUM GREEN I",null,"(SEC.)",{"$f":"'Local Controller Data - PROP'!D144","v":"-"},{"$f":"'Local Controller Data - PROP'!E144","v":"-"},{"$f":"'Local Controller Data - PROP'!F144","v":"-"},{"$f":"'Local Controller Data - PROP'!G144","v":"-"},{"$f":"'Local Controller Data - PROP'!H144","v":"-"},{"$f":"'Local Controller Data - PROP'!I144","v":"-"},{"$f":"'Local Controller Data - PROP'!J144","v":"-"},{"$f":"'Local Controller Data - PROP'!K144","v":"-"}]
["MAXIMUM GREEN II",null,"(SEC.)",{"$f":"'Local Controller Data - EXIST'!D145","v":"-"},{"$f":"'Local Controller Data - EXIST'!E145","v":"-"},{"$f":"'Local Controller Data - EXIST'!F145","v":"-"},{"$f":"'Local Controller Data - EXIST'!G145","v":"-"},{"$f":"'Local Controller Data - EXIST'!H145","v":"-"},{"$f":"'Local Controller Data - EXIST'!I145","v":"-"},{"$f":"'Local Controller Data - EXIST'!J145","v":"-"},{"$f":"'Local Controller Data - EXIST'!K145","v":"-"},null,"MAXIMUM GREEN II",null,"(SEC.)",{"$f":"'Local Controller Data - PROP'!D145","v":"-"},{"$f":"'Local Controller Data - PROP'!E145","v":"-"},{"$f":"'Local Controller Data - PROP'!F145","v":"-"},{"$f":"'Local Controller Data - PROP'!G145","v":"-"},{"$f":"'Local Controller Data - PROP'!H145","v":"-"},{"$f":"'Local Controller Data - PROP'!I145","v":"-"},{"$f":"'Local Controller Data - PROP'!J145","v":"-"},{"$f":"'Local Controller Data - PROP'!K145","v":"-"}]
["YELLOW CHANGE",null,"(SEC.)",{"$f":"'Local Controller Data - EXIST'!D146","v":"-"},{"$f":"'Local Controller Data - EXIST'!E146","v":"-"},{"$f":"'Local Controller Data - EXIST'!F146","v":"-"},{"$f":"'Local Controller Data - EXIST'!G146","v":"-"},{"$f":"'Local Controller Data - EXIST'!H146","v":"-"},{"$f":"'Local Controller Data - EXIST'!I146","v":"-"},{"$f":"'Local Controller Data - EXIST'!J146","v":"-"},{"$f":"'Local Controller Data - EXIST'!K146","v":"-"},null,"YELLOW CHANGE",null,"(SEC.)",{"$f":"'Local Controller Data - PROP'!D146","v":"-"},{"$f":"'Local Controller Data - PROP'!E146","v":"-"},{"$f":"'Local Controller Data - PROP'!F146","v":"-"},{"$f":"'Local Controller Data - PROP'!G146","v":"-"},{"$f":"'Local Controller Data - PROP'!H146","v":"-"},{"$f":"'Local Controller Data - PROP'!I146","v":"-"},{"$f":"'Local Controller Data - PROP'!J146","v":"-"},{"$f":"'Local Controller Data - PROP'!K146","v":"-"}]
["ALL RED CLEARANCE",null,"(SEC.)",{"$f":"'Local Controller Data - EXIST'!D147","v":"-"},{"$f":"'Local Controller Data - EXIST'!E147","v":"-"},{"$f":"'Local Controller Data - EXIST'!F147","v":"-"},{"$f":"'Local Controller Data - EXIST'!G147","v":"-"},{"$f":"'Local Controller Data - EXIST'!H147","v":"-"},{"$f":"'Local Controller Data - EXIST'!I147","v":"-"},{"$f":"'Local Controller Data - EXIST'!J147","v":"-"},{"$f":"'Local Controller Data - EXIST'!K147","v":"-"},null,"ALL RED CLEARANCE",null,"(SEC.)",{"$f":"'Local Controller Data - PROP'!D147","v":"-"},{"$f":"'Local Controller Data - PROP'!E147","v":"-"},{"$f":"'Local Controller Data - PROP'!F147","v":"-"},{"$f":"'Local Controller Data - PROP'!G147","v":"-"},{"$f":"'Local Controller Data - PROP'!H147","v":"-"},{"$f":"'Local Controller Data - PROP'!I147","v":"-"},{"$f":"'Local Controller Data - PROP'!J147","v":"-"},{"$f":"'Local Controller Data - PROP'!K147","v":"-"}]
["DELAYED GREEN (LPI) #",null,"(SEC.)",{"$f":"'Local Controller Data - EXIST'!D148","v":"-"},{"$f":"'Local Controller Data - EXIST'!E148","v":"-"},{"$f":"'Local Controller Data - EXIST'!F148","v":"-"},{"$f":"'Local Controller Data - EXIST'!G148","v":"-"},{"$f":"'Local Controller Data - EXIST'!H148","v":"-"},{"$f":"'Local Controller Data - EXIST'!I148","v":"-"},{"$f":"'Local Controller Data - EXIST'!J148","v":"-"},{"$f":"'Local Controller Data - EXIST'!K148","v":"-"},null,"DELAYED GREEN (LPI) #",null,"(SEC.)",{"$f":"'Local Controller Data - PROP'!D148","v":"-"},{"$f":"'Local Controller Data - PROP'!E148","v":"-"},{"$f":"'Local Controller Data - PROP'!F148","v":"-"},{"$f":"'Local Controller Data - PROP'!G148","v":"-"},{"$f":"'Local Controller Data - PROP'!H148","v":"-"},{"$f":"'Local Controller Data - PROP'!I148","v":"-"},{"$f":"'Local Controller Data - PROP'!J148","v":"-"},{"$f":"'Local Controller Data - PROP'!K148","v":"-"}]
["FLASHING YELLOW ARROW DELAY^",null,"(SEC.)",{"$f":"'Local Controller Data - EXIST'!D149","v":"-"},{"$f":"'Local Controller Data - EXIST'!E149","v":"-"},{"$f":"'Local Controller Data - EXIST'!F149","v":"-"},{"$f":"'Local Controller Data - EXIST'!G149","v":"-"},{"$f":"'Local Controller Data - EXIST'!H149","v":"-"},{"$f":"'Local Controller Data - EXIST'!I149","v":"-"},{"$f":"'Local Controller Data - EXIST'!J149","v":"-"},{"$f":"'Local Controller Data - EXIST'!K149","v":"-"},null,"FLASHING YELLOW ARROW DELAY^",null,"(SEC.)",{"$f":"'Local Controller Data - PROP'!D149","v":"-"},{"$f":"'Local Controller Data - PROP'!E149","v":"-"},{"$f":"'Local Controller Data - PROP'!F149","v":"-"},{"$f":"'Local Controller Data - PROP'!G149","v":"-"},{"$f":"'Local Controller Data - PROP'!H149","v":"-"},{"$f":"'Local Controller Data - PROP'!I149","v":"-"},{"$f":"'Local Controller Data - PROP'!J149","v":"-"},{"$f":"'Local Controller Data - PROP'!K149","v":"-"}]
["WALK",null,"(SEC.)",{"$f":"'Local Controller Data - EXIST'!D150","v":"-"},{"$f":"'Local Controller Data - EXIST'!E150","v":"-"},{"$f":"'Local Controller Data - EXIST'!F150","v":"-"},{"$f":"'Local Controller Data - EXIST'!G150","v":"-"},{"$f":"'Local Controller Data - EXIST'!H150","v":"-"},{"$f":"'Local Controller Data - EXIST'!I150","v":"-"},{"$f":"'Local Controller Data - EXIST'!J150","v":"-"},{"$f":"'Local Controller Data - EXIST'!K150","v":"-"},null,"WALK",null,"(SEC.)",{"$f":"'Local Controller Data - PROP'!D150","v":"-"},{"$f":"'Local Controller Data - PROP'!E150","v":"-"},{"$f":"'Local Controller Data - PROP'!F150","v":"-"},{"$f":"'Local Controller Data - PROP'!G150","v":"-"},{"$f":"'Local Controller Data - PROP'!H150","v":"-"},{"$f":"'Local Controller Data - PROP'!I150","v":"-"},{"$f":"'Local Controller Data - PROP'!J150","v":"-"},{"$f":"'Local Controller Data - PROP'!K150","v":"-"}]
["PEDESTRIAN CLEARANCE",null,"(SEC.)",{"$f":"'Local Controller Data - EXIST'!D151","v":"-"},{"$f":"'Local Controller Data - EXIST'!E151","v":"-"},{"$f":"'Local Controller Data - EXIST'!F151","v":"-"},{"$f":"'Local Controller Data - EXIST'!G151","v":"-"},{"$f":"'Local Controller Data - EXIST'!H151","v":"-"},{"$f":"'Local Controller Data - EXIST'!I151","v":"-"},{"$f":"'Local Controller Data - EXIST'!J151","v":"-"},{"$f":"'Local Controller Data - EXIST'!K151","v":"-"},null,"PEDESTRIAN CLEARANCE",null,"(SEC.)",{"$f":"'Local Controller Data - PROP'!D151","v":"-"},{"$f":"'Local Controller Data - PROP'!E151","v":"-"},{"$f":"'Local Controller Data - PROP'!F151","v":"-"},{"$f":"'Local Controller Data - PROP'!G151","v":"-"},{"$f":"'Local Controller Data - PROP'!H151","v":"-"},{"$f":"'Local Controller Data - PROP'!I151","v":"-"},{"$f":"'Local Controller Data - PROP'!J151","v":"-"},{"$f":"'Local Controller Data - PROP'!K151","v":"-"}]
["RECALL","MAXIMUM","(ON/OFF)",{"$f":"'Local Controller Data - EXIST'!D152","v":"-"},{"$f":"'Local Controller Data - EXIST'!E152","v":"-"},{"$f":"'Local Controller Data - EXIST'!F152","v":"-"},{"$f":"'Local Controller Data - EXIST'!G152","v":"-"},{"$f":"'Local Controller Data - EXIST'!H152","v":"-"},{"$f":"'Local Controller Data - EXIST'!I152","v":"-"},{"$f":"'Local Controller Data - EXIST'!J152","v":"-"},{"$f":"'Local Controller Data - EXIST'!K152","v":"-"},null,"RECALL","MAXIMUM","(ON/OFF)",{"$f":"'Local Controller Data - PROP'!D152","v":"-"},{"$f":"'Local Controller Data - PROP'!E152","v":"-"},{"$f":"'Local Controller Data - PROP'!F152","v":"-"},{"$f":"'Local Controller Data - PROP'!G152","v":"-"},{"$f":"'Local Controller Data - PROP'!H152","v":"-"},{"$f":"'Local Controller Data - PROP'!I152","v":"-"},{"$f":"'Local Controller Data - PROP'!J152","v":"-"},{"$f":"'Local Controller Data - PROP'!K152","v":"-"}]
[null,"MINIMUM","(ON/OFF)",{"$f":"'Local Controller Data - EXIST'!D153","v":"-"},{"$f":"'Local Controller Data - EXIST'!E153","v":"-"},{"$f":"'Local Controller Data - EXIST'!F153","v":"-"},{"$f":"'Local Controller Data - EXIST'!G153","v":"-"},{"$f":"'Local Controller Data - EXIST'!H153","v":"-"},{"$f":"'Local Controller Data - EXIST'!I153","v":"-"},{"$f":"'Local Controller Data - EXIST'!J153","v":"-"},{"$f":"'Local Controller Data - EXIST'!K153","v":"-"},null,null,"MINIMUM","(ON/OFF)",{"$f":"'Local Controller Data - PROP'!D153","v":"-"},{"$f":"'Local Controller Data - PROP'!E153","v":"-"},{"$f":"'Local Controller Data - PROP'!F153","v":"-"},{"$f":"'Local Controller Data - PROP'!G153","v":"-"},{"$f":"'Local Controller Data - PROP'!H153","v":"-"},{"$f":"'Local Controller Data - PROP'!I153","v":"-"},{"$f":"'Local Controller Data - PROP'!J153","v":"-"},{"$f":"'Local Controller Data - PROP'!K153","v":"-"}]
[null,"PEDESTRIAN","(ON/OFF)",{"$f":"'Local Controller Data - EXIST'!D154","v":"-"},{"$f":"'Local Controller Data - EXIST'!E154","v":"-"},{"$f":"'Local Controller Data - EXIST'!F154","v":"-"},{"$f":"'Local Controller Data - EXIST'!G154","v":"-"},{"$f":"'Local Controller Data - EXIST'!H154","v":"-"},{"$f":"'Local Controller Data - EXIST'!I154","v":"-"},{"$f":"'Local Controller Data - EXIST'!J154","v":"-"},{"$f":"'Local Controller Data - EXIST'!K154","v":"-"},null,null,"PEDESTRIAN","(ON/OFF)",{"$f":"'Local Controller Data - PROP'!D154","v":"-"},{"$f":"'Local Controller Data - PROP'!E154","v":"-"},{"$f":"'Local Controller Data - PROP'!F154","v":"-"},{"$f":"'Local Controller Data - PROP'!G154","v":"-"},{"$f":"'Local Controller Data - PROP'!H154","v":"-"},{"$f":"'Local Controller Data - PROP'!I154","v":"-"},{"$f":"'Local Controller Data - PROP'!J154","v":"-"},{"$f":"'Local Controller Data - PROP'!K154","v":"-"}]
["MEMORY    ",null,"(ON/OFF)",{"$f":"'Local Controller Data - EXIST'!D155","v":"-"},{"$f":"'Local Controller Data - EXIST'!E155","v":"-"},{"$f":"'Local Controller Data - EXIST'!F155","v":"-"},{"$f":"'Local Controller Data - EXIST'!G155","v":"-"},{"$f":"'Local Controller Data - EXIST'!H155","v":"-"},{"$f":"'Local Controller Data - EXIST'!I155","v":"-"},{"$f":"'Local Controller Data - EXIST'!J155","v":"-"},{"$f":"'Local Controller Data - EXIST'!K155","v":"-"},null,"MEMORY    ",null,"(ON/OFF)",{"$f":"'Local Controller Data - PROP'!D155","v":"-"},{"$f":"'Local Controller Data - PROP'!E155","v":"-"},{"$f":"'Local Controller Data - PROP'!F155","v":"-"},{"$f":"'Local Controller Data - PROP'!G155","v":"-"},{"$f":"'Local Controller Data - PROP'!H155","v":"-"},{"$f":"'Local Controller Data - PROP'!I155","v":"-"},{"$f":"'Local Controller Data - PROP'!J155","v":"-"},{"$f":"'Local Controller Data - PROP'!K155","v":"-"}]
["*VOLUME DENSITY CONTROLS",null,null,null,null,null,null,null,null,null,null,null,"*VOLUME DENSITY CONTROLS"]
["# FOR CROSSINGS WITH PEDESTRIAN PUSHBUTTONS, LPI'S (LEADING PEDESTRIAN INTERVALS) MAY BE IMPLEMENTED (3-6 SEC.) IN ACCORDANCE WITH LPI DURATION TIME PER THE ODOT SIGNAL CALCULATIONS - CLEARANCE INTERVALS SPREADSHEET",null,null,null,null,null,null,null,null,null,null,null,"# FOR CROSSINGS WITH PEDESTRIAN PUSHBUTTONS, LPI'S (LEADING PEDESTRIAN INTERVALS) MAY BE IMPLEMENTED (3-6 SEC.) IN ACCORDANCE WITH LPI DURATION TIME PER THE ODOT SIGNAL CALCULATIONS - CLEARANCE INTERVALS SPREADSHEET"]
["^ WHEN IMPLEMENTING FYA, A MINIMUM 3 SEC. DELAY SHALL BE PROGRAMMED PER FYA PHASE. ",null,null,null,null,null,null,null,null,null,null,null,"^ WHEN IMPLEMENTING FYA, A MINIMUM 3 SEC. DELAY SHALL BE PROGRAMMED PER FYA PHASE. "]
[]
["ECONOLITE COORD SETTINGS",null,null,"SIEMENS COORD SETTINGS",null,null,null,null,null,null,null,null,"ECONOLITE COORD SETTINGS",null,null,"SIEMENS COORD SETTINGS"]
["MANUAL PATTERN",{"$f":"'Local Controller Data - EXIST'!B163","v":"-"},null,"OPERATION",null,null,null,"-",null,null,null,null,"MANUAL PATTERN",{"$f":"'Local Controller Data - PROP'!B163","v":"-"},null,"OPERATION",null,null,null,"-"]
["SYSTEM SOURCE",{"$f":"'Local Controller Data - EXIST'!B164","v":"-"},null,"MODE (NORMAL)",null,null,null,"-",null,null,null,null,"SYSTEM SOURCE",{"$f":"'Local Controller Data - PROP'!B164","v":"-"},null,"MODE (NORMAL)",null,null,null,"-"]
["SPLITS IN",{"$f":"'Local Controller Data - EXIST'!B165","v":"-"},null,"MAXIMUM",null,null,null,"-",null,null,null,null,"SPLITS IN",{"$f":"'Local Controller Data - PROP'!B165","v":"-"},null,"MAXIMUM",null,null,null,"-"]
["TRANSITION",{"$f":"'Local Controller Data - EXIST'!B166","v":"-"},null,"CORRECTION",null,null,null,"-",null,null,null,null,"TRANSITION",{"$f":"'Local Controller Data - PROP'!B166","v":"-"},null,"CORRECTION",null,null,null,"-"]
["DWELL/ADD TIME",{"$f":"'Local Controller Data - EXIST'!B167","v":"-"},null,"OFFSET MODE",null,null,null,"-",null,null,null,null,"DWELL/ADD TIME",{"$f":"'Local Controller Data - PROP'!B167","v":"-"},null,"OFFSET MODE",null,null,null,"-"]
["OFFSET REFERENCE",{"$f":"'Local Controller Data - EXIST'!B168","v":"-"},null,"FORCE MODE",null,null,null,"-",null,null,null,null,"OFFSET REFERENCE",{"$f":"'Local Controller Data - PROP'!B168","v":"-"},null,"FORCE MODE",null,null,null,"-"]
["PED RECALL",{"$f":"'Local Controller Data - EXIST'!B169","v":"-"},null,"MAX DWELL TIME",null,null,null,"-",null,null,null,null,"PED RECALL",{"$f":"'Local Controller Data - PROP'!B169","v":"-"},null,"MAX DWELL TIME",null,null,null,"-"]
["LOCAL ZERO OVERRIDE",{"$f":"'Local Controller Data - EXIST'!B170","v":"-"},null,"YIELD PERIOD",null,null,null,"-",null,null,null,null,"LOCAL ZERO OVERRIDE",{"$f":"'Local Controller Data - PROP'!B170","v":"-"},null,"YIELD PERIOD",null,null,null,"-"]
["RE-SYNC COUNT",{"$f":"'Local Controller Data - EXIST'!B171","v":"-"},null,"MANUAL CONTROL: DIAL",null,null,null,"-",null,null,null,null,"RE-SYNC COUNT",{"$f":"'Local Controller Data - PROP'!B171","v":"-"},null,"MANUAL CONTROL: DIAL",null,null,null,"-"]
["ECPI COORD",{"$f":"'Local Controller Data - EXIST'!B172","v":"-"},null,"MANUAL CONTROL: SPLIT",null,null,null,"-",null,null,null,null,"ECPI COORD",{"$f":"'Local Controller Data - PROP'!B172","v":"-"},null,"MANUAL CONTROL: SPLIT",null,null,null,"-"]
["SYSTEM FORMAT ",{"$f":"'Local Controller Data - EXIST'!B173","v":"-"},null,"MANUAL CONTROL: OFFSET",null,null,null,"-",null,null,null,null,"SYSTEM FORMAT ",{"$f":"'Local Controller Data - PROP'!B173","v":"-"},null,"MANUAL CONTROL: OFFSET",null,null,null,"-"]
["OFFSET IN",{"$f":"'Local Controller Data - EXIST'!B174","v":"-"},null,null,null,null,null,null,null,null,null,null,"OFFSET IN",{"$f":"'Local Controller Data - PROP'!B174","v":"-"}]
["MAX SELECT",{"$f":"'Local Controller Data - EXIST'!B175","v":"-"},null,null,null,null,null,null,null,null,null,null,"MAX SELECT",{"$f":"'Local Controller Data - PROP'!B175","v":"-"}]
["FORCE OFF",{"$f":"'Local Controller Data - EXIST'!B176","v":"-"},null,null,null,null,null,null,null,null,null,null,"FORCE OFF",{"$f":"'Local Controller Data - PROP'!B176","v":"-"}]
["USE PED TIME",{"$f":"'Local Controller Data - EXIST'!B177","v":"-"},null,null,null,null,null,null,null,null,null,null,"USE PED TIME",{"$f":"'Local Controller Data - PROP'!B177","v":"-"}]
["PED RESERVICE",{"$f":"'Local Controller Data - EXIST'!B178","v":"-"},null,null,null,null,null,null,null,null,null,null,"PED RESERVICE",{"$f":"'Local Controller Data - PROP'!B178","v":"-"}]
["FO ADD INI GRN",{"$f":"'Local Controller Data - EXIST'!B179","v":"-"},null,null,null,null,null,null,null,null,null,null,"FO ADD INI GRN",{"$f":"'Local Controller Data - PROP'!B179","v":"-"}]
["MULTISYNC",{"$f":"'Local Controller Data - EXIST'!B180","v":"-"},null,null,null,null,null,null,null,"EXISTING TIMING",null,null,"MULTISYNC",{"$f":"'Local Controller Data - PROP'!B180","v":"-"},null,null,null,null,null,null,null,"PROPOSED TIMING"]
[]
[{"$f":"'Project Name'!$C$2","v":0},null,null,null,null,null,null,null,null,null,null,null,{"$f":"'Project Name'!$C$2","v":0}]
["Existing Local Controller Data",null,null,null,null,null,null,null,null,null,null,null,"Proposed Local Controller Data"]
["INTERSECTION:",null,null,null,null,null,null,null,null,null,null,null,"INTERSECTION:"]
["MAINTAINING AGENCY:",null,null,null,null,null,null,null,null,null,null,null,"MAINTAINING AGENCY:"]
["START UP",null,null,"DUAL ENTRY: ",null,"-","PHASES:",null,"-",null,null,null,"START UP",null,null,"DUAL ENTRY: ",null,"-","PHASES:",null,"-"]
[null,null,null,"REST IN RED: ",null,null,"RING 1","-",null,"RING 2","-",null,null,null,null,"REST IN RED: ",null,null,"RING 1","-",null,"RING 2","-"]
["START IN: ",{"$f":"'Local Controller Data - EXIST'!B189:C189","v":"-"},null,"OVERLAP",null,null,null,"A","B","C","D",null,"START IN: ","-",null,"OVERLAP",null,null,null,"A","B","C","D"]
["TIME FOR FLASH / ALL RED (SEC.):   ",null,"9, 6",null,null,null,null,null,null,null,null,null,"TIME FOR FLASH / ALL RED (SEC.):   ",null,"9, 6"]
["FIRST PHASE(S):",{"$f":"'Local Controller Data - EXIST'!B191:C191","v":"-"},null,"PHASES",null,null,null,{"$f":"'Local Controller Data - EXIST'!H191","v":"-"},{"$f":"'Local Controller Data - EXIST'!I191","v":"-"},{"$f":"'Local Controller Data - EXIST'!J191","v":"-"},{"$f":"'Local Controller Data - EXIST'!K191","v":"-"},null,"FIRST PHASE(S):",{"$f":"'Local Controller Data - PROP'!B191:C191","v":{"$error":"#VALUE!"}},null,"PHASES",null,null,null,{"$f":"'Local Controller Data - PROP'!H191","v":"-"},{"$f":"'Local Controller Data - PROP'!I191","v":"-"},{"$f":"'Local Controller Data - PROP'!J191","v":"-"},{"$f":"'Local Controller Data - PROP'!K191","v":"-"}]
["COLOR DISPLAYED:","-",null,null,null,null,null,null,null,null,null,null,"COLOR DISPLAYED:","-"]
["INTERVAL OR FEATURE",null,null,"CONTROLLER MOVEMENT NO.",null,null,null,null,null,null,null,null,"INTERVAL OR FEATURE",null,null,"CONTROLLER MOVEMENT NO."]
["INTERSECTION MOVEMENT (PHASE)",null,null,1,2,3,4,5,6,7,8,null,"INTERSECTION MOVEMENT (PHASE)",null,null,1,2,3,4,5,6,7,8]
["DIRECTION",null,null,{"$f":"'Local Controller Data - EXIST'!D196","v":"-"},{"$f":"'Local Controller Data - EXIST'!E196","v":"-"},{"$f":"'Local Controller Data - EXIST'!F196","v":"-"},{"$f":"'Local Controller Data - EXIST'!G196","v":"-"},{"$f":"'Local Controller Data - EXIST'!H196","v":"-"},{"$f":"'Local Controller Data - EXIST'!I196","v":"-"},{"$f":"'Local Controller Data - EXIST'!J196","v":"-"},{"$f":"'Local Controller Data - EXIST'!K196","v":"-"},null,"DIRECTION",null,null,{"$f":"'Local Controller Data - PROP'!D196","v":"-"},{"$f":"'Local Controller Data - PROP'!E196","v":"-"},{"$f":"'Local Controller Data - PROP'!F196","v":"-"},{"$f":"'Local Controller Data - PROP'!G196","v":"-"},{"$f":"'Local Controller Data - PROP'!H196","v":"-"},{"$f":"'Local Controller Data - PROP'!I196","v":"-"},{"$f":"'Local Controller Data - PROP'!J196","v":"-"},{"$f":"'Local Controller Data - PROP'!K196","v":"-"}]
["MINIMUM GREEN (INITIAL) ",null,"(SEC.)",{"$f":"'Local Controller Data - EXIST'!D197","v":"-"},{"$f":"'Local Controller Data - EXIST'!E197","v":"-"},{"$f":"'Local Controller Data - EXIST'!F197","v":"-"},{"$f":"'Local Controller Data - EXIST'!G197","v":"-"},{"$f":"'Local Controller Data - EXIST'!H197","v":"-"},{"$f":"'Local Controller Data - EXIST'!I197","v":"-"},{"$f":"'Local Controller Data - EXIST'!J197","v":"-"},{"$f":"'Local Controller Data - EXIST'!K197","v":"-"},null,"MINIMUM GREEN (INITIAL) ",null,"(SEC.)",{"$f":"'Local Controller Data - PROP'!D197","v":"-"},{"$f":"'Local Controller Data - PROP'!E197","v":"-"},{"$f":"'Local Controller Data - PROP'!F197","v":"-"},{"$f":"'Local Controller Data - PROP'!G197","v":"-"},{"$f":"'Local Controller Data - PROP'!H197","v":"-"},{"$f":"'Local Controller Data - PROP'!I197","v":"-"},{"$f":"'Local Controller Data - PROP'!J197","v":"-"},{"$f":"'Local Controller Data - PROP'!K197","v":"-"}]
["ADDED INITIAL","*(SEC./ACTUATION)",null,{"$f":"'Local Controller Data - EXIST'!D198","v":"-"},{"$f":"'Local Controller Data - EXIST'!E198","v":"-"},{"$f":"'Local Controller Data - EXIST'!F198","v":"-"},{"$f":"'Local Controller Data - EXIST'!G198","v":"-"},{"$f":"'Local Controller Data - EXIST'!H198","v":"-"},{"$f":"'Local Controller Data - EXIST'!I198","v":"-"},{"$f":"'Local Controller Data - EXIST'!J198","v":"-"},{"$f":"'Local Controller Data - EXIST'!K198","v":"-"},null,"ADDED INITIAL","*(SEC./ACTUATION)",null,{"$f":"'Local Controller Data - PROP'!D198","v":"-"},{"$f":"'Local Controller Data - PROP'!E198","v":"-"},{"$f":"'Local Controller Data - PROP'!F198","v":"-"},{"$f":"'Local Controller Data - PROP'!G198","v":"-"},{"$f":"'Local Controller Data - PROP'!H198","v":"-"},{"$f":"'Local Controller Data - PROP'!I198","v":"-"},{"$f":"'Local Controller Data - PROP'!J198","v":"-"},{"$f":"'Local Controller Data - PROP'!K198","v":"-"}]
["MAXIMUM INITIAL",null,"*(SEC.)",{"$f":"'Local Controller Data - EXIST'!D199","v":"-"},{"$f":"'Local Controller Data - EXIST'!E199","v":"-"},{"$f":"'Local Controller Data - EXIST'!F199","v":"-"},{"$f":"'Local Controller Data - EXIST'!G199","v":"-"},{"$f":"'Local Controller Data - EXIST'!H199","v":"-"},{"$f":"'Local Controller Data - EXIST'!I199","v":"-"},{"$f":"'Local Controller Data - EXIST'!J199","v":"-"},{"$f":"'Local Controller Data - EXIST'!K199","v":"-"},null,"MAXIMUM INITIAL",null,"*(SEC.)",{"$f":"'Local Controller Data - PROP'!D199","v":"-"},{"$f":"'Local Controller Data - PROP'!E199","v":"-"},{"$f":"'Local Controller Data - PROP'!F199","v":"-"},{"$f":"'Local Controller Data - PROP'!G199","v":"-"},{"$f":"'Local Controller Data - PROP'!H199","v":"-"},{"$f":"'Local Controller Data - PROP'!I199","v":"-"},{"$f":"'Local Controller Data - PROP'!J199","v":"-"},{"$f":"'Local Controller Data - PROP'!K199","v":"-"}]
["PASSAGE TIME (PRESET GAP)",null,"(SEC.)",{"$f":"'Local Controller Data - EXIST'!D200","v":"-"},{"$f":"'Local Controller Data - EXIST'!E200","v":"-"},{"$f":"'Local Controller Data - EXIST'!F200","v":"-"},{"$f":"'Local Controller Data - EXIST'!G200","v":"-"},{"$f":"'Local Controller Data - EXIST'!H200","v":"-"},{"$f":"'Local Controller Data - EXIST'!I200","v":"-"},{"$f":"'Local Controller Data - EXIST'!J200","v":"-"},{"$f":"'Local Controller Data - EXIST'!K200","v":"-"},null,"PASSAGE TIME (PRESET GAP)",null,"(SEC.)",{"$f":"'Local Controller Data - PROP'!D200","v":"-"},{"$f":"'Local Controller Data - PROP'!E200","v":"-"},{"$f":"'Local Controller Data - PROP'!F200","v":"-"},{"$f":"'Local Controller Data - PROP'!G200","v":"-"},{"$f":"'Local Controller Data - PROP'!H200","v":"-"},{"$f":"'Local Controller Data - PROP'!I200","v":"-"},{"$f":"'Local Controller Data - PROP'!J200","v":"-"},{"$f":"'Local Controller Data - PROP'!K200","v":"-"}]
["TIME BEFORE REDUCTION",null,"*(SEC.)",{"$f":"'Local Controller Data - EXIST'!D201","v":"-"},{"$f":"'Local Controller Data - EXIST'!E201","v":"-"},{"$f":"'Local Controller Data - EXIST'!F201","v":"-"},{"$f":"'Local Controller Data - EXIST'!G201","v":"-"},{"$f":"'Local Controller Data - EXIST'!H201","v":"-"},{"$f":"'Local Controller Data - EXIST'!I201","v":"-"},{"$f":"'Local Controller Data - EXIST'!J201","v":"-"},{"$f":"'Local Controller Data - EXIST'!K201","v":"-"},null,"TIME BEFORE REDUCTION",null,"*(SEC.)",{"$f":"'Local Controller Data - PROP'!D201","v":"-"},{"$f":"'Local Controller Data - PROP'!E201","v":"-"},{"$f":"'Local Controller Data - PROP'!F201","v":"-"},{"$f":"'Local Controller Data - PROP'!G201","v":"-"},{"$f":"'Local Controller Data - PROP'!H201","v":"-"},{"$f":"'Local Controller Data - PROP'!I201","v":"-"},{"$f":"'Local Controller Data - PROP'!J201","v":"-"},{"$f":"'Local Controller Data - PROP'!K201","v":"-"}]
["MINIMUM GAP",null,"*(SEC.)",{"$f":"'Local Controller Data - EXIST'!D202","v":"-"},{"$f":"'Local Controller Data - EXIST'!E202","v":"-"},{"$f":"'Local Controller Data - EXIST'!F202","v":"-"},{"$f":"'Local Controller Data - EXIST'!G202","v":"-"},{"$f":"'Local Controller Data - EXIST'!H202","v":"-"},{"$f":"'Local Controller Data - EXIST'!I202","v":"-"},{"$f":"'Local Controller Data - EXIST'!J202","v":"-"},{"$f":"'Local Controller Data - EXIST'!K202","v":"-"},null,"MINIMUM GAP",null,"*(SEC.)",{"$f":"'Local Controller Data - PROP'!D202","v":"-"},{"$f":"'Local Controller Data - PROP'!E202","v":"-"},{"$f":"'Local Controller Data - PROP'!F202","v":"-"},{"$f":"'Local Controller Data - PROP'!G202","v":"-"},{"$f":"'Local Controller Data - PROP'!H202","v":"-"},{"$f":"'Local Controller Data - PROP'!I202","v":"-"},{"$f":"'Local Controller Data - PROP'!J202","v":"-"},{"$f":"'Local Controller Data - PROP'!K202","v":"-"}]
["TIME TO REDUCE",null,"*(SEC.)",{"$f":"'Local Controller Data - EXIST'!D203","v":"-"},{"$f":"'Local Controller Data - EXIST'!E203","v":"-"},{"$f":"'Local Controller Data - EXIST'!F203","v":"-"},{"$f":"'Local Controller Data - EXIST'!G203","v":"-"},{"$f":"'Local Controller Data - EXIST'!H203","v":"-"},{"$f":"'Local Controller Data - EXIST'!I203","v":"-"},{"$f":"'Local Controller Data - EXIST'!J203","v":"-"},{"$f":"'Local Controller Data - EXIST'!K203","v":"-"},null,"TIME TO REDUCE",null,"*(SEC.)",{"$f":"'Local Controller Data - PROP'!D203","v":"-"},{"$f":"'Local Controller Data - PROP'!E203","v":"-"},{"$f":"'Local Controller Data - PROP'!F203","v":"-"},{"$f":"'Local Controller Data - PROP'!G203","v":"-"},{"$f":"'Local Controller Data - PROP'!H203","v":"-"},{"$f":"'Local Controller Data - PROP'!I203","v":"-"},{"$f":"'Local Controller Data - PROP'!J203","v":"-"},{"$f":"'Local Controller Data - PROP'!K203","v":"-"}]
["MAXIMUM GREEN I",null,"(SEC.)",{"$f":"'Local Controller Data - EXIST'!D204","v":"-"},{"$f":"'Local Controller Data - EXIST'!E204","v":"-"},{"$f":"'Local Controller Data - EXIST'!F204","v":"-"},{"$f":"'Local Controller Data - EXIST'!G204","v":"-"},{"$f":"'Local Controller Data - EXIST'!H204","v":"-"},{"$f":"'Local Controller Data - EXIST'!I204","v":"-"},{"$f":"'Local Controller Data - EXIST'!J204","v":"-"},{"$f":"'Local Controller Data - EXIST'!K204","v":"-"},null,"MAXIMUM GREEN I",null,"(SEC.)",{"$f":"'Local Controller Data - PROP'!D204","v":"-"},{"$f":"'Local Controller Data - PROP'!E204","v":"-"},{"$f":"'Local Controller Data - PROP'!F204","v":"-"},{"$f":"'Local Controller Data - PROP'!G204","v":"-"},{"$f":"'Local Controller Data - PROP'!H204","v":"-"},{"$f":"'Local Controller Data - PROP'!I204","v":"-"},{"$f":"'Local Controller Data - PROP'!J204","v":"-"},{"$f":"'Local Controller Data - PROP'!K204","v":"-"}]
["MAXIMUM GREEN II",null,"(SEC.)",{"$f":"'Local Controller Data - EXIST'!D205","v":"-"},{"$f":"'Local Controller Data - EXIST'!E205","v":"-"},{"$f":"'Local Controller Data - EXIST'!F205","v":"-"},{"$f":"'Local Controller Data - EXIST'!G205","v":"-"},{"$f":"'Local Controller Data - EXIST'!H205","v":"-"},{"$f":"'Local Controller Data - EXIST'!I205","v":"-"},{"$f":"'Local Controller Data - EXIST'!J205","v":"-"},{"$f":"'Local Controller Data - EXIST'!K205","v":"-"},null,"MAXIMUM GREEN II",null,"(SEC.)",{"$f":"'Local Controller Data - PROP'!D205","v":"-"},{"$f":"'Local Controller Data - PROP'!E205","v":"-"},{"$f":"'Local Controller Data - PROP'!F205","v":"-"},{"$f":"'Local Controller Data - PROP'!G205","v":"-"},{"$f":"'Local Controller Data - PROP'!H205","v":"-"},{"$f":"'Local Controller Data - PROP'!I205","v":"-"},{"$f":"'Local Controller Data - PROP'!J205","v":"-"},{"$f":"'Local Controller Data - PROP'!K205","v":"-"}]
["YELLOW CHANGE",null,"(SEC.)",{"$f":"'Local Controller Data - EXIST'!D206","v":"-"},{"$f":"'Local Controller Data - EXIST'!E206","v":"-"},{"$f":"'Local Controller Data - EXIST'!F206","v":"-"},{"$f":"'Local Controller Data - EXIST'!G206","v":"-"},{"$f":"'Local Controller Data - EXIST'!H206","v":"-"},{"$f":"'Local Controller Data - EXIST'!I206","v":"-"},{"$f":"'Local Controller Data - EXIST'!J206","v":"-"},{"$f":"'Local Controller Data - EXIST'!K206","v":"-"},null,"YELLOW CHANGE",null,"(SEC.)",{"$f":"'Local Controller Data - PROP'!D206","v":"-"},{"$f":"'Local Controller Data - PROP'!E206","v":"-"},{"$f":"'Local Controller Data - PROP'!F206","v":"-"},{"$f":"'Local Controller Data - PROP'!G206","v":"-"},{"$f":"'Local Controller Data - PROP'!H206","v":"-"},{"$f":"'Local Controller Data - PROP'!I206","v":"-"},{"$f":"'Local Controller Data - PROP'!J206","v":"-"},{"$f":"'Local Controller Data - PROP'!K206","v":"-"}]
["ALL RED CLEARANCE",null,"(SEC.)",{"$f":"'Local Controller Data - EXIST'!D207","v":"-"},{"$f":"'Local Controller Data - EXIST'!E207","v":"-"},{"$f":"'Local Controller Data - EXIST'!F207","v":"-"},{"$f":"'Local Controller Data - EXIST'!G207","v":"-"},{"$f":"'Local Controller Data - EXIST'!H207","v":"-"},{"$f":"'Local Controller Data - EXIST'!I207","v":"-"},{"$f":"'Local Controller Data - EXIST'!J207","v":"-"},{"$f":"'Local Controller Data - EXIST'!K207","v":"-"},null,"ALL RED CLEARANCE",null,"(SEC.)",{"$f":"'Local Controller Data - PROP'!D207","v":"-"},{"$f":"'Local Controller Data - PROP'!E207","v":"-"},{"$f":"'Local Controller Data - PROP'!F207","v":"-"},{"$f":"'Local Controller Data - PROP'!G207","v":"-"},{"$f":"'Local Controller Data - PROP'!H207","v":"-"},{"$f":"'Local Controller Data - PROP'!I207","v":"-"},{"$f":"'Local Controller Data - PROP'!J207","v":"-"},{"$f":"'Local Controller Data - PROP'!K207","v":"-"}]
["DELAYED GREEN (LPI) #",null,"(SEC.)",{"$f":"'Local Controller Data - EXIST'!D208","v":"-"},{"$f":"'Local Controller Data - EXIST'!E208","v":"-"},{"$f":"'Local Controller Data - EXIST'!F208","v":"-"},{"$f":"'Local Controller Data - EXIST'!G208","v":"-"},{"$f":"'Local Controller Data - EXIST'!H208","v":"-"},{"$f":"'Local Controller Data - EXIST'!I208","v":"-"},{"$f":"'Local Controller Data - EXIST'!J208","v":"-"},{"$f":"'Local Controller Data - EXIST'!K208","v":"-"},null,"DELAYED GREEN (LPI) #",null,"(SEC.)",{"$f":"'Local Controller Data - PROP'!D208","v":"-"},{"$f":"'Local Controller Data - PROP'!E208","v":"-"},{"$f":"'Local Controller Data - PROP'!F208","v":"-"},{"$f":"'Local Controller Data - PROP'!G208","v":"-"},{"$f":"'Local Controller Data - PROP'!H208","v":"-"},{"$f":"'Local Controller Data - PROP'!I208","v":"-"},{"$f":"'Local Controller Data - PROP'!J208","v":"-"},{"$f":"'Local Controller Data - PROP'!K208","v":"-"}]
["FLASHING YELLOW ARROW DELAY^",null,"(SEC.)",{"$f":"'Local Controller Data - EXIST'!D209","v":"-"},{"$f":"'Local Controller Data - EXIST'!E209","v":"-"},{"$f":"'Local Controller Data - EXIST'!F209","v":"-"},{"$f":"'Local Controller Data - EXIST'!G209","v":"-"},{"$f":"'Local Controller Data - EXIST'!H209","v":"-"},{"$f":"'Local Controller Data - EXIST'!I209","v":"-"},{"$f":"'Local Controller Data - EXIST'!J209","v":"-"},{"$f":"'Local Controller Data - EXIST'!K209","v":"-"},null,"FLASHING YELLOW ARROW DELAY^",null,"(SEC.)",{"$f":"'Local Controller Data - PROP'!D209","v":"-"},{"$f":"'Local Controller Data - PROP'!E209","v":"-"},{"$f":"'Local Controller Data - PROP'!F209","v":"-"},{"$f":"'Local Controller Data - PROP'!G209","v":"-"},{"$f":"'Local Controller Data - PROP'!H209","v":"-"},{"$f":"'Local Controller Data - PROP'!I209","v":"-"},{"$f":"'Local Controller Data - PROP'!J209","v":"-"},{"$f":"'Local Controller Data - PROP'!K209","v":"-"}]
["WALK",null,"(SEC.)",{"$f":"'Local Controller Data - EXIST'!D210","v":"-"},{"$f":"'Local Controller Data - EXIST'!E210","v":"-"},{"$f":"'Local Controller Data - EXIST'!F210","v":"-"},{"$f":"'Local Controller Data - EXIST'!G210","v":"-"},{"$f":"'Local Controller Data - EXIST'!H210","v":"-"},{"$f":"'Local Controller Data - EXIST'!I210","v":"-"},{"$f":"'Local Controller Data - EXIST'!J210","v":"-"},{"$f":"'Local Controller Data - EXIST'!K210","v":"-"},null,"WALK",null,"(SEC.)",{"$f":"'Local Controller Data - PROP'!D210","v":"-"},{"$f":"'Local Controller Data - PROP'!E210","v":"-"},{"$f":"'Local Controller Data - PROP'!F210","v":"-"},{"$f":"'Local Controller Data - PROP'!G210","v":"-"},{"$f":"'Local Controller Data - PROP'!H210","v":"-"},{"$f":"'Local Controller Data - PROP'!I210","v":"-"},{"$f":"'Local Controller Data - PROP'!J210","v":"-"},{"$f":"'Local Controller Data - PROP'!K210","v":"-"}]
["PEDESTRIAN CLEARANCE",null,"(SEC.)",{"$f":"'Local Controller Data - EXIST'!D211","v":"-"},{"$f":"'Local Controller Data - EXIST'!E211","v":"-"},{"$f":"'Local Controller Data - EXIST'!F211","v":"-"},{"$f":"'Local Controller Data - EXIST'!G211","v":"-"},{"$f":"'Local Controller Data - EXIST'!H211","v":"-"},{"$f":"'Local Controller Data - EXIST'!I211","v":"-"},{"$f":"'Local Controller Data - EXIST'!J211","v":"-"},{"$f":"'Local Controller Data - EXIST'!K211","v":"-"},null,"PEDESTRIAN CLEARANCE",null,"(SEC.)",{"$f":"'Local Controller Data - PROP'!D211","v":"-"},{"$f":"'Local Controller Data - PROP'!E211","v":"-"},{"$f":"'Local Controller Data - PROP'!F211","v":"-"},{"$f":"'Local Controller Data - PROP'!G211","v":"-"},{"$f":"'Local Controller Data - PROP'!H211","v":"-"},{"$f":"'Local Controller Data - PROP'!I211","v":"-"},{"$f":"'Local Controller Data - PROP'!J211","v":"-"},{"$f":"'Local Controller Data - PROP'!K211","v":"-"}]
["RECALL","MAXIMUM","(ON/OFF)",{"$f":"'Local Controller Data - EXIST'!D212","v":"-"},{"$f":"'Local Controller Data - EXIST'!E212","v":"-"},{"$f":"'Local Controller Data - EXIST'!F212","v":"-"},{"$f":"'Local Controller Data - EXIST'!G212","v":"-"},{"$f":"'Local Controller Data - EXIST'!H212","v":"-"},{"$f":"'Local Controller Data - EXIST'!I212","v":"-"},{"$f":"'Local Controller Data - EXIST'!J212","v":"-"},{"$f":"'Local Controller Data - EXIST'!K212","v":"-"},null,"RECALL","MAXIMUM","(ON/OFF)",{"$f":"'Local Controller Data - PROP'!D212","v":"-"},{"$f":"'Local Controller Data - PROP'!E212","v":"-"},{"$f":"'Local Controller Data - PROP'!F212","v":"-"},{"$f":"'Local Controller Data - PROP'!G212","v":"-"},{"$f":"'Local Controller Data - PROP'!H212","v":"-"},{"$f":"'Local Controller Data - PROP'!I212","v":"-"},{"$f":"'Local Controller Data - PROP'!J212","v":"-"},{"$f":"'Local Controller Data - PROP'!K212","v":"-"}]
[null,"MINIMUM","(ON/OFF)",{"$f":"'Local Controller Data - EXIST'!D213","v":"-"},{"$f":"'Local Controller Data - EXIST'!E213","v":"-"},{"$f":"'Local Controller Data - EXIST'!F213","v":"-"},{"$f":"'Local Controller Data - EXIST'!G213","v":"-"},{"$f":"'Local Controller Data - EXIST'!H213","v":"-"},{"$f":"'Local Controller Data - EXIST'!I213","v":"-"},{"$f":"'Local Controller Data - EXIST'!J213","v":"-"},{"$f":"'Local Controller Data - EXIST'!K213","v":"-"},null,null,"MINIMUM","(ON/OFF)",{"$f":"'Local Controller Data - PROP'!D213","v":"-"},{"$f":"'Local Controller Data - PROP'!E213","v":"-"},{"$f":"'Local Controller Data - PROP'!F213","v":"-"},{"$f":"'Local Controller Data - PROP'!G213","v":"-"},{"$f":"'Local Controller Data - PROP'!H213","v":"-"},{"$f":"'Local Controller Data - PROP'!I213","v":"-"},{"$f":"'Local Controller Data - PROP'!J213","v":"-"},{"$f":"'Local Controller Data - PROP'!K213","v":"-"}]
[null,"PEDESTRIAN","(ON/OFF)",{"$f":"'Local Controller Data - EXIST'!D214","v":"-"},{"$f":"'Local Controller Data - EXIST'!E214","v":"-"},{"$f":"'Local Controller Data - EXIST'!F214","v":"-"},{"$f":"'Local Controller Data - EXIST'!G214","v":"-"},{"$f":"'Local Controller Data - EXIST'!H214","v":"-"},{"$f":"'Local Controller Data - EXIST'!I214","v":"-"},{"$f":"'Local Controller Data - EXIST'!J214","v":"-"},{"$f":"'Local Controller Data - EXIST'!K214","v":"-"},null,null,"PEDESTRIAN","(ON/OFF)",{"$f":"'Local Controller Data - PROP'!D214","v":"-"},{"$f":"'Local Controller Data - PROP'!E214","v":"-"},{"$f":"'Local Controller Data - PROP'!F214","v":"-"},{"$f":"'Local Controller Data - PROP'!G214","v":"-"},{"$f":"'Local Controller Data - PROP'!H214","v":"-"},{"$f":"'Local Controller Data - PROP'!I214","v":"-"},{"$f":"'Local Controller Data - PROP'!J214","v":"-"},{"$f":"'Local Controller Data - PROP'!K214","v":"-"}]
["MEMORY    ",null,"(ON/OFF)",{"$f":"'Local Controller Data - EXIST'!D215","v":"-"},{"$f":"'Local Controller Data - EXIST'!E215","v":"-"},{"$f":"'Local Controller Data - EXIST'!F215","v":"-"},{"$f":"'Local Controller Data - EXIST'!G215","v":"-"},{"$f":"'Local Controller Data - EXIST'!H215","v":"-"},{"$f":"'Local Controller Data - EXIST'!I215","v":"-"},{"$f":"'Local Controller Data - EXIST'!J215","v":"-"},{"$f":"'Local Controller Data - EXIST'!K215","v":"-"},null,"MEMORY    ",null,"(ON/OFF)",{"$f":"'Local Controller Data - PROP'!D215","v":"-"},{"$f":"'Local Controller Data - PROP'!E215","v":"-"},{"$f":"'Local Controller Data - PROP'!F215","v":"-"},{"$f":"'Local Controller Data - PROP'!G215","v":"-"},{"$f":"'Local Controller Data - PROP'!H215","v":"-"},{"$f":"'Local Controller Data - PROP'!I215","v":"-"},{"$f":"'Local Controller Data - PROP'!J215","v":"-"},{"$f":"'Local Controller Data - PROP'!K215","v":"-"}]
["*VOLUME DENSITY CONTROLS",null,null,null,null,null,null,null,null,null,null,null,"*VOLUME DENSITY CONTROLS"]
["# FOR CROSSINGS WITH PEDESTRIAN PUSHBUTTONS, LPI'S (LEADING PEDESTRIAN INTERVALS) MAY BE IMPLEMENTED (3-6 SEC.) IN ACCORDANCE WITH LPI DURATION TIME PER THE ODOT SIGNAL CALCULATIONS - CLEARANCE INTERVALS SPREADSHEET",null,null,null,null,null,null,null,null,null,null,null,"# FOR CROSSINGS WITH PEDESTRIAN PUSHBUTTONS, LPI'S (LEADING PEDESTRIAN INTERVALS) MAY BE IMPLEMENTED (3-6 SEC.) IN ACCORDANCE WITH LPI DURATION TIME PER THE ODOT SIGNAL CALCULATIONS - CLEARANCE INTERVALS SPREADSHEET"]
["^ WHEN IMPLEMENTING FYA, A MINIMUM 3 SEC. DELAY SHALL BE PROGRAMMED PER FYA PHASE. ",null,null,null,null,null,null,null,null,null,null,null,"^ WHEN IMPLEMENTING FYA, A MINIMUM 3 SEC. DELAY SHALL BE PROGRAMMED PER FYA PHASE. "]
[]
["ECONOLITE COORD SETTINGS",null,null,"SIEMENS COORD SETTINGS",null,null,null,null,null,null,null,null,"ECONOLITE COORD SETTINGS",null,null,"SIEMENS COORD SETTINGS"]
["MANUAL PATTERN",{"$f":"'Local Controller Data - EXIST'!B223","v":"-"},null,"OPERATION",null,null,null,"-",null,null,null,null,"MANUAL PATTERN",{"$f":"'Local Controller Data - PROP'!B223","v":"-"},null,"OPERATION",null,null,null,"-"]
["SYSTEM SOURCE",{"$f":"'Local Controller Data - EXIST'!B224","v":"-"},null,"MODE (NORMAL)",null,null,null,"-",null,null,null,null,"SYSTEM SOURCE",{"$f":"'Local Controller Data - PROP'!B224","v":"-"},null,"MODE (NORMAL)",null,null,null,"-"]
["SPLITS IN",{"$f":"'Local Controller Data - EXIST'!B225","v":"-"},null,"MAXIMUM",null,null,null,"-",null,null,null,null,"SPLITS IN",{"$f":"'Local Controller Data - PROP'!B225","v":"-"},null,"MAXIMUM",null,null,null,"-"]
["TRANSITION",{"$f":"'Local Controller Data - EXIST'!B226","v":"-"},null,"CORRECTION",null,null,null,"-",null,null,null,null,"TRANSITION",{"$f":"'Local Controller Data - PROP'!B226","v":"-"},null,"CORRECTION",null,null,null,"-"]
["DWELL/ADD TIME",{"$f":"'Local Controller Data - EXIST'!B227","v":"-"},null,"OFFSET MODE",null,null,null,"-",null,null,null,null,"DWELL/ADD TIME",{"$f":"'Local Controller Data - PROP'!B227","v":"-"},null,"OFFSET MODE",null,null,null,"-"]
["OFFSET REFERENCE",{"$f":"'Local Controller Data - EXIST'!B228","v":"-"},null,"FORCE MODE",null,null,null,"-",null,null,null,null,"OFFSET REFERENCE",{"$f":"'Local Controller Data - PROP'!B228","v":"-"},null,"FORCE MODE",null,null,null,"-"]
["PED RECALL",{"$f":"'Local Controller Data - EXIST'!B229","v":"-"},null,"MAX DWELL TIME",null,null,null,"-",null,null,null,null,"PED RECALL",{"$f":"'Local Controller Data - PROP'!B229","v":"-"},null,"MAX DWELL TIME",null,null,null,"-"]
["LOCAL ZERO OVERRIDE",{"$f":"'Local Controller Data - EXIST'!B230","v":"-"},null,"YIELD PERIOD",null,null,null,"-",null,null,null,null,"LOCAL ZERO OVERRIDE",{"$f":"'Local Controller Data - PROP'!B230","v":"-"},null,"YIELD PERIOD",null,null,null,"-"]
["RE-SYNC COUNT",{"$f":"'Local Controller Data - EXIST'!B231","v":"-"},null,"MANUAL CONTROL: DIAL",null,null,null,"-",null,null,null,null,"RE-SYNC COUNT",{"$f":"'Local Controller Data - PROP'!B231","v":"-"},null,"MANUAL CONTROL: DIAL",null,null,null,"-"]
["ECPI COORD",{"$f":"'Local Controller Data - EXIST'!B232","v":"-"},null,"MANUAL CONTROL: SPLIT",null,null,null,"-",null,null,null,null,"ECPI COORD",{"$f":"'Local Controller Data - PROP'!B232","v":"-"},null,"MANUAL CONTROL: SPLIT",null,null,null,"-"]
["SYSTEM FORMAT ",{"$f":"'Local Controller Data - EXIST'!B233","v":"-"},null,"MANUAL CONTROL: OFFSET",null,null,null,"-",null,null,null,null,"SYSTEM FORMAT ",{"$f":"'Local Controller Data - PROP'!B233","v":"-"},null,"MANUAL CONTROL: OFFSET",null,null,null,"-"]
["OFFSET IN",{"$f":"'Local Controller Data - EXIST'!B234","v":"-"},null,null,null,null,null,null,null,null,null,null,"OFFSET IN",{"$f":"'Local Controller Data - PROP'!B234","v":"-"}]
["MAX SELECT",{"$f":"'Local Controller Data - EXIST'!B235","v":"-"},null,null,null,null,null,null,null,null,null,null,"MAX SELECT",{"$f":"'Local Controller Data - PROP'!B235","v":"-"}]
["FORCE OFF",{"$f":"'Local Controller Data - EXIST'!B236","v":"-"},null,null,null,null,null,null,null,null,null,null,"FORCE OFF",{"$f":"'Local Controller Data - PROP'!B236","v":"-"}]
["USE PED TIME",{"$f":"'Local Controller Data - EXIST'!B237","v":"-"},null,null,null,null,null,null,null,null,null,null,"USE PED TIME",{"$f":"'Local Controller Data - PROP'!B237","v":"-"}]
["PED RESERVICE",{"$f":"'Local Controller Data - EXIST'!B238","v":"-"},null,null,null,null,null,null,null,null,null,null,"PED RESERVICE",{"$f":"'Local Controller Data - PROP'!B238","v":"-"}]
["FO ADD INI GRN",{"$f":"'Local Controller Data - EXIST'!B239","v":"-"},null,null,null,null,null,null,null,null,null,null,"FO ADD INI GRN",{"$f":"'Local Controller Data - PROP'!B239","v":"-"}]
["MULTISYNC",{"$f":"'Local Controller Data - EXIST'!B240","v":"-"},null,null,null,null,null,null,null,"EXISTING TIMING",null,null,"MULTISYNC",{"$f":"'Local Controller Data - PROP'!B240","v":"-"},null,null,null,null,null,null,null,"PROPOSED TIMING"]
[]
[{"$f":"'Project Name'!$C$2","v":0},null,null,null,null,null,null,null,null,null,null,null,{"$f":"'Project Name'!$C$2","v":0}]
["Existing Local Controller Data",null,null,null,null,null,null,null,null,null,null,null,"Proposed Local Controller Data"]
["INTERSECTION:",null,null,null,null,null,null,null,null,null,null,null,"INTERSECTION:"]
["MAINTAINING AGENCY:",null,null,null,null,null,null,null,null,null,null,null,"MAINTAINING AGENCY:"]
["START UP",null,null,"DUAL ENTRY: ",null,"-","PHASES:",null,"-",null,null,null,"START UP",null,null,"DUAL ENTRY: ",null,"-","PHASES:",null,"-"]
[null,null,null,"REST IN RED: ",null,null,"RING 1","-",null,"RING 2","-",null,null,null,null,"REST IN RED: ",null,null,"RING 1","-",null,"RING 2","-"]
["START IN: ",{"$f":"'Local Controller Data - EXIST'!B249:C249","v":"-"},null,"OVERLAP",null,null,null,"A","B","C","D",null,"START IN: ","-",null,"OVERLAP",null,null,null,"A","B","C","D"]
["TIME FOR FLASH / ALL RED (SEC.):   ",null,"9, 6",null,null,null,null,null,null,null,null,null,"TIME FOR FLASH / ALL RED (SEC.):   ",null,"9, 6"]
["FIRST PHASE(S):",{"$f":"'Local Controller Data - EXIST'!B251:C251","v":"-"},null,"PHASES",null,null,null,{"$f":"'Local Controller Data - EXIST'!H251","v":"-"},{"$f":"'Local Controller Data - EXIST'!I251","v":"-"},{"$f":"'Local Controller Data - EXIST'!J251","v":"-"},{"$f":"'Local Controller Data - EXIST'!K251","v":"-"},null,"FIRST PHASE(S):",{"$f":"'Local Controller Data - PROP'!B251:C251","v":{"$error":"#VALUE!"}},null,"PHASES",null,null,null,{"$f":"'Local Controller Data - PROP'!H251","v":"-"},{"$f":"'Local Controller Data - PROP'!I251","v":"-"},{"$f":"'Local Controller Data - PROP'!J251","v":"-"},{"$f":"'Local Controller Data - PROP'!K251","v":"-"}]
["COLOR DISPLAYED:","-",null,null,null,null,null,null,null,null,null,null,"COLOR DISPLAYED:","-"]
["INTERVAL OR FEATURE",null,null,"CONTROLLER MOVEMENT NO.",null,null,null,null,null,null,null,null,"INTERVAL OR FEATURE",null,null,"CONTROLLER MOVEMENT NO."]
["INTERSECTION MOVEMENT (PHASE)",null,null,1,2,3,4,5,6,7,8,null,"INTERSECTION MOVEMENT (PHASE)",null,null,1,2,3,4,5,6,7,8]
["DIRECTION",null,null,{"$f":"'Local Controller Data - EXIST'!D256","v":"-"},{"$f":"'Local Controller Data - EXIST'!E256","v":"-"},{"$f":"'Local Controller Data - EXIST'!F256","v":"-"},{"$f":"'Local Controller Data - EXIST'!G256","v":"-"},{"$f":"'Local Controller Data - EXIST'!H256","v":"-"},{"$f":"'Local Controller Data - EXIST'!I256","v":"-"},{"$f":"'Local Controller Data - EXIST'!J256","v":"-"},{"$f":"'Local Controller Data - EXIST'!K256","v":"-"},null,"DIRECTION",null,null,{"$f":"'Local Controller Data - PROP'!D256","v":"-"},{"$f":"'Local Controller Data - PROP'!E256","v":"-"},{"$f":"'Local Controller Data - PROP'!F256","v":"-"},{"$f":"'Local Controller Data - PROP'!G256","v":"-"},{"$f":"'Local Controller Data - PROP'!H256","v":"-"},{"$f":"'Local Controller Data - PROP'!I256","v":"-"},{"$f":"'Local Controller Data - PROP'!J256","v":"-"},{"$f":"'Local Controller Data - PROP'!K256","v":"-"}]
["MINIMUM GREEN (INITIAL) ",null,"(SEC.)",{"$f":"'Local Controller Data - EXIST'!D257","v":"-"},{"$f":"'Local Controller Data - EXIST'!E257","v":"-"},{"$f":"'Local Controller Data - EXIST'!F257","v":"-"},{"$f":"'Local Controller Data - EXIST'!G257","v":"-"},{"$f":"'Local Controller Data - EXIST'!H257","v":"-"},{"$f":"'Local Controller Data - EXIST'!I257","v":"-"},{"$f":"'Local Controller Data - EXIST'!J257","v":"-"},{"$f":"'Local Controller Data - EXIST'!K257","v":"-"},null,"MINIMUM GREEN (INITIAL) ",null,"(SEC.)",{"$f":"'Local Controller Data - PROP'!D257","v":"-"},{"$f":"'Local Controller Data - PROP'!E257","v":"-"},{"$f":"'Local Controller Data - PROP'!F257","v":"-"},{"$f":"'Local Controller Data - PROP'!G257","v":"-"},{"$f":"'Local Controller Data - PROP'!H257","v":"-"},{"$f":"'Local Controller Data - PROP'!I257","v":"-"},{"$f":"'Local Controller Data - PROP'!J257","v":"-"},{"$f":"'Local Controller Data - PROP'!K257","v":"-"}]
["ADDED INITIAL","*(SEC./ACTUATION)",null,{"$f":"'Local Controller Data - EXIST'!D258","v":"-"},{"$f":"'Local Controller Data - EXIST'!E258","v":"-"},{"$f":"'Local Controller Data - EXIST'!F258","v":"-"},{"$f":"'Local Controller Data - EXIST'!G258","v":"-"},{"$f":"'Local Controller Data - EXIST'!H258","v":"-"},{"$f":"'Local Controller Data - EXIST'!I258","v":"-"},{"$f":"'Local Controller Data - EXIST'!J258","v":"-"},{"$f":"'Local Controller Data - EXIST'!K258","v":"-"},null,"ADDED INITIAL","*(SEC./ACTUATION)",null,{"$f":"'Local Controller Data - PROP'!D258","v":"-"},{"$f":"'Local Controller Data - PROP'!E258","v":"-"},{"$f":"'Local Controller Data - PROP'!F258","v":"-"},{"$f":"'Local Controller Data - PROP'!G258","v":"-"},{"$f":"'Local Controller Data - PROP'!H258","v":"-"},{"$f":"'Local Controller Data - PROP'!I258","v":"-"},{"$f":"'Local Controller Data - PROP'!J258","v":"-"},{"$f":"'Local Controller Data - PROP'!K258","v":"-"}]
["MAXIMUM INITIAL",null,"*(SEC.)",{"$f":"'Local Controller Data - EXIST'!D259","v":"-"},{"$f":"'Local Controller Data - EXIST'!E259","v":"-"},{"$f":"'Local Controller Data - EXIST'!F259","v":"-"},{"$f":"'Local Controller Data - EXIST'!G259","v":"-"},{"$f":"'Local Controller Data - EXIST'!H259","v":"-"},{"$f":"'Local Controller Data - EXIST'!I259","v":"-"},{"$f":"'Local Controller Data - EXIST'!J259","v":"-"},{"$f":"'Local Controller Data - EXIST'!K259","v":"-"},null,"MAXIMUM INITIAL",null,"*(SEC.)",{"$f":"'Local Controller Data - PROP'!D259","v":"-"},{"$f":"'Local Controller Data - PROP'!E259","v":"-"},{"$f":"'Local Controller Data - PROP'!F259","v":"-"},{"$f":"'Local Controller Data - PROP'!G259","v":"-"},{"$f":"'Local Controller Data - PROP'!H259","v":"-"},{"$f":"'Local Controller Data - PROP'!I259","v":"-"},{"$f":"'Local Controller Data - PROP'!J259","v":"-"},{"$f":"'Local Controller Data - PROP'!K259","v":"-"}]
["PASSAGE TIME (PRESET GAP)",null,"(SEC.)",{"$f":"'Local Controller Data - EXIST'!D260","v":"-"},{"$f":"'Local Controller Data - EXIST'!E260","v":"-"},{"$f":"'Local Controller Data - EXIST'!F260","v":"-"},{"$f":"'Local Controller Data - EXIST'!G260","v":"-"},{"$f":"'Local Controller Data - EXIST'!H260","v":"-"},{"$f":"'Local Controller Data - EXIST'!I260","v":"-"},{"$f":"'Local Controller Data - EXIST'!J260","v":"-"},{"$f":"'Local Controller Data - EXIST'!K260","v":"-"},null,"PASSAGE TIME (PRESET GAP)",null,"(SEC.)",{"$f":"'Local Controller Data - PROP'!D260","v":"-"},{"$f":"'Local Controller Data - PROP'!E260","v":"-"},{"$f":"'Local Controller Data - PROP'!F260","v":"-"},{"$f":"'Local Controller Data - PROP'!G260","v":"-"},{"$f":"'Local Controller Data - PROP'!H260","v":"-"},{"$f":"'Local Controller Data - PROP'!I260","v":"-"},{"$f":"'Local Controller Data - PROP'!J260","v":"-"},{"$f":"'Local Controller Data - PROP'!K260","v":"-"}]
["TIME BEFORE REDUCTION",null,"*(SEC.)",{"$f":"'Local Controller Data - EXIST'!D261","v":"-"},{"$f":"'Local Controller Data - EXIST'!E261","v":"-"},{"$f":"'Local Controller Data - EXIST'!F261","v":"-"},{"$f":"'Local Controller Data - EXIST'!G261","v":"-"},{"$f":"'Local Controller Data - EXIST'!H261","v":"-"},{"$f":"'Local Controller Data - EXIST'!I261","v":"-"},{"$f":"'Local Controller Data - EXIST'!J261","v":"-"},{"$f":"'Local Controller Data - EXIST'!K261","v":"-"},null,"TIME BEFORE REDUCTION",null,"*(SEC.)",{"$f":"'Local Controller Data - PROP'!D261","v":"-"},{"$f":"'Local Controller Data - PROP'!E261","v":"-"},{"$f":"'Local Controller Data - PROP'!F261","v":"-"},{"$f":"'Local Controller Data - PROP'!G261","v":"-"},{"$f":"'Local Controller Data - PROP'!H261","v":"-"},{"$f":"'Local Controller Data - PROP'!I261","v":"-"},{"$f":"'Local Controller Data - PROP'!J261","v":"-"},{"$f":"'Local Controller Data - PROP'!K261","v":"-"}]
["MINIMUM GAP",null,"*(SEC.)",{"$f":"'Local Controller Data - EXIST'!D262","v":"-"},{"$f":"'Local Controller Data - EXIST'!E262","v":"-"},{"$f":"'Local Controller Data - EXIST'!F262","v":"-"},{"$f":"'Local Controller Data - EXIST'!G262","v":"-"},{"$f":"'Local Controller Data - EXIST'!H262","v":"-"},{"$f":"'Local Controller Data - EXIST'!I262","v":"-"},{"$f":"'Local Controller Data - EXIST'!J262","v":"-"},{"$f":"'Local Controller Data - EXIST'!K262","v":"-"},null,"MINIMUM GAP",null,"*(SEC.)",{"$f":"'Local Controller Data - PROP'!D262","v":"-"},{"$f":"'Local Controller Data - PROP'!E262","v":"-"},{"$f":"'Local Controller Data - PROP'!F262","v":"-"},{"$f":"'Local Controller Data - PROP'!G262","v":"-"},{"$f":"'Local Controller Data - PROP'!H262","v":"-"},{"$f":"'Local Controller Data - PROP'!I262","v":"-"},{"$f":"'Local Controller Data - PROP'!J262","v":"-"},{"$f":"'Local Controller Data - PROP'!K262","v":"-"}]
["TIME TO REDUCE",null,"*(SEC.)",{"$f":"'Local Controller Data - EXIST'!D263","v":"-"},{"$f":"'Local Controller Data - EXIST'!E263","v":"-"},{"$f":"'Local Controller Data - EXIST'!F263","v":"-"},{"$f":"'Local Controller Data - EXIST'!G263","v":"-"},{"$f":"'Local Controller Data - EXIST'!H263","v":"-"},{"$f":"'Local Controller Data - EXIST'!I263","v":"-"},{"$f":"'Local Controller Data - EXIST'!J263","v":"-"},{"$f":"'Local Controller Data - EXIST'!K263","v":"-"},null,"TIME TO REDUCE",null,"*(SEC.)",{"$f":"'Local Controller Data - PROP'!D263","v":"-"},{"$f":"'Local Controller Data - PROP'!E263","v":"-"},{"$f":"'Local Controller Data - PROP'!F263","v":"-"},{"$f":"'Local Controller Data - PROP'!G263","v":"-"},{"$f":"'Local Controller Data - PROP'!H263","v":"-"},{"$f":"'Local Controller Data - PROP'!I263","v":"-"},{"$f":"'Local Controller Data - PROP'!J263","v":"-"},{"$f":"'Local Controller Data - PROP'!K263","v":"-"}]
["MAXIMUM GREEN I",null,"(SEC.)",{"$f":"'Local Controller Data - EXIST'!D264","v":"-"},{"$f":"'Local Controller Data - EXIST'!E264","v":"-"},{"$f":"'Local Controller Data - EXIST'!F264","v":"-"},{"$f":"'Local Controller Data - EXIST'!G264","v":"-"},{"$f":"'Local Controller Data - EXIST'!H264","v":"-"},{"$f":"'Local Controller Data - EXIST'!I264","v":"-"},{"$f":"'Local Controller Data - EXIST'!J264","v":"-"},{"$f":"'Local Controller Data - EXIST'!K264","v":"-"},null,"MAXIMUM GREEN I",null,"(SEC.)",{"$f":"'Local Controller Data - PROP'!D264","v":"-"},{"$f":"'Local Controller Data - PROP'!E264","v":"-"},{"$f":"'Local Controller Data - PROP'!F264","v":"-"},{"$f":"'Local Controller Data - PROP'!G264","v":"-"},{"$f":"'Local Controller Data - PROP'!H264","v":"-"},{"$f":"'Local Controller Data - PROP'!I264","v":"-"},{"$f":"'Local Controller Data - PROP'!J264","v":"-"},{"$f":"'Local Controller Data - PROP'!K264","v":"-"}]
["MAXIMUM GREEN II",null,"(SEC.)",{"$f":"'Local Controller Data - EXIST'!D265","v":"-"},{"$f":"'Local Controller Data - EXIST'!E265","v":"-"},{"$f":"'Local Controller Data - EXIST'!F265","v":"-"},{"$f":"'Local Controller Data - EXIST'!G265","v":"-"},{"$f":"'Local Controller Data - EXIST'!H265","v":"-"},{"$f":"'Local Controller Data - EXIST'!I265","v":"-"},{"$f":"'Local Controller Data - EXIST'!J265","v":"-"},{"$f":"'Local Controller Data - EXIST'!K265","v":"-"},null,"MAXIMUM GREEN II",null,"(SEC.)",{"$f":"'Local Controller Data - PROP'!D265","v":"-"},{"$f":"'Local Controller Data - PROP'!E265","v":"-"},{"$f":"'Local Controller Data - PROP'!F265","v":"-"},{"$f":"'Local Controller Data - PROP'!G265","v":"-"},{"$f":"'Local Controller Data - PROP'!H265","v":"-"},{"$f":"'Local Controller Data - PROP'!I265","v":"-"},{"$f":"'Local Controller Data - PROP'!J265","v":"-"},{"$f":"'Local Controller Data - PROP'!K265","v":"-"}]
["YELLOW CHANGE",null,"(SEC.)",{"$f":"'Local Controller Data - EXIST'!D266","v":"-"},{"$f":"'Local Controller Data - EXIST'!E266","v":"-"},{"$f":"'Local Controller Data - EXIST'!F266","v":"-"},{"$f":"'Local Controller Data - EXIST'!G266","v":"-"},{"$f":"'Local Controller Data - EXIST'!H266","v":"-"},{"$f":"'Local Controller Data - EXIST'!I266","v":"-"},{"$f":"'Local Controller Data - EXIST'!J266","v":"-"},{"$f":"'Local Controller Data - EXIST'!K266","v":"-"},null,"YELLOW CHANGE",null,"(SEC.)",{"$f":"'Local Controller Data - PROP'!D266","v":"-"},{"$f":"'Local Controller Data - PROP'!E266","v":"-"},{"$f":"'Local Controller Data - PROP'!F266","v":"-"},{"$f":"'Local Controller Data - PROP'!G266","v":"-"},{"$f":"'Local Controller Data - PROP'!H266","v":"-"},{"$f":"'Local Controller Data - PROP'!I266","v":"-"},{"$f":"'Local Controller Data - PROP'!J266","v":"-"},{"$f":"'Local Controller Data - PROP'!K266","v":"-"}]
["ALL RED CLEARANCE",null,"(SEC.)",{"$f":"'Local Controller Data - EXIST'!D267","v":"-"},{"$f":"'Local Controller Data - EXIST'!E267","v":"-"},{"$f":"'Local Controller Data - EXIST'!F267","v":"-"},{"$f":"'Local Controller Data - EXIST'!G267","v":"-"},{"$f":"'Local Controller Data - EXIST'!H267","v":"-"},{"$f":"'Local Controller Data - EXIST'!I267","v":"-"},{"$f":"'Local Controller Data - EXIST'!J267","v":"-"},{"$f":"'Local Controller Data - EXIST'!K267","v":"-"},null,"ALL RED CLEARANCE",null,"(SEC.)",{"$f":"'Local Controller Data - PROP'!D267","v":"-"},{"$f":"'Local Controller Data - PROP'!E267","v":"-"},{"$f":"'Local Controller Data - PROP'!F267","v":"-"},{"$f":"'Local Controller Data - PROP'!G267","v":"-"},{"$f":"'Local Controller Data - PROP'!H267","v":"-"},{"$f":"'Local Controller Data - PROP'!I267","v":"-"},{"$f":"'Local Controller Data - PROP'!J267","v":"-"},{"$f":"'Local Controller Data - PROP'!K267","v":"-"}]
["DELAYED GREEN (LPI) #",null,"(SEC.)",{"$f":"'Local Controller Data - EXIST'!D268","v":"-"},{"$f":"'Local Controller Data - EXIST'!E268","v":"-"},{"$f":"'Local Controller Data - EXIST'!F268","v":"-"},{"$f":"'Local Controller Data - EXIST'!G268","v":"-"},{"$f":"'Local Controller Data - EXIST'!H268","v":"-"},{"$f":"'Local Controller Data - EXIST'!I268","v":"-"},{"$f":"'Local Controller Data - EXIST'!J268","v":"-"},{"$f":"'Local Controller Data - EXIST'!K268","v":"-"},null,"DELAYED GREEN (LPI) #",null,"(SEC.)",{"$f":"'Local Controller Data - PROP'!D268","v":"-"},{"$f":"'Local Controller Data - PROP'!E268","v":"-"},{"$f":"'Local Controller Data - PROP'!F268","v":"-"},{"$f":"'Local Controller Data - PROP'!G268","v":"-"},{"$f":"'Local Controller Data - PROP'!H268","v":"-"},{"$f":"'Local Controller Data - PROP'!I268","v":"-"},{"$f":"'Local Controller Data - PROP'!J268","v":"-"},{"$f":"'Local Controller Data - PROP'!K268","v":"-"}]
["FLASHING YELLOW ARROW DELAY^",null,"(SEC.)",{"$f":"'Local Controller Data - EXIST'!D269","v":"-"},{"$f":"'Local Controller Data - EXIST'!E269","v":"-"},{"$f":"'Local Controller Data - EXIST'!F269","v":"-"},{"$f":"'Local Controller Data - EXIST'!G269","v":"-"},{"$f":"'Local Controller Data - EXIST'!H269","v":"-"},{"$f":"'Local Controller Data - EXIST'!I269","v":"-"},{"$f":"'Local Controller Data - EXIST'!J269","v":"-"},{"$f":"'Local Controller Data - EXIST'!K269","v":"-"},null,"FLASHING YELLOW ARROW DELAY^",null,"(SEC.)",{"$f":"'Local Controller Data - PROP'!D269","v":"-"},{"$f":"'Local Controller Data - PROP'!E269","v":"-"},{"$f":"'Local Controller Data - PROP'!F269","v":"-"},{"$f":"'Local Controller Data - PROP'!G269","v":"-"},{"$f":"'Local Controller Data - PROP'!H269","v":"-"},{"$f":"'Local Controller Data - PROP'!I269","v":"-"},{"$f":"'Local Controller Data - PROP'!J269","v":"-"},{"$f":"'Local Controller Data - PROP'!K269","v":"-"}]
["WALK",null,"(SEC.)",{"$f":"'Local Controller Data - EXIST'!D270","v":"-"},{"$f":"'Local Controller Data - EXIST'!E270","v":"-"},{"$f":"'Local Controller Data - EXIST'!F270","v":"-"},{"$f":"'Local Controller Data - EXIST'!G270","v":"-"},{"$f":"'Local Controller Data - EXIST'!H270","v":"-"},{"$f":"'Local Controller Data - EXIST'!I270","v":"-"},{"$f":"'Local Controller Data - EXIST'!J270","v":"-"},{"$f":"'Local Controller Data - EXIST'!K270","v":"-"},null,"WALK",null,"(SEC.)",{"$f":"'Local Controller Data - PROP'!D270","v":"-"},{"$f":"'Local Controller Data - PROP'!E270","v":"-"},{"$f":"'Local Controller Data - PROP'!F270","v":"-"},{"$f":"'Local Controller Data - PROP'!G270","v":"-"},{"$f":"'Local Controller Data - PROP'!H270","v":"-"},{"$f":"'Local Controller Data - PROP'!I270","v":"-"},{"$f":"'Local Controller Data - PROP'!J270","v":"-"},{"$f":"'Local Controller Data - PROP'!K270","v":"-"}]
["PEDESTRIAN CLEARANCE",null,"(SEC.)",{"$f":"'Local Controller Data - EXIST'!D271","v":"-"},{"$f":"'Local Controller Data - EXIST'!E271","v":"-"},{"$f":"'Local Controller Data - EXIST'!F271","v":"-"},{"$f":"'Local Controller Data - EXIST'!G271","v":"-"},{"$f":"'Local Controller Data - EXIST'!H271","v":"-"},{"$f":"'Local Controller Data - EXIST'!I271","v":"-"},{"$f":"'Local Controller Data - EXIST'!J271","v":"-"},{"$f":"'Local Controller Data - EXIST'!K271","v":"-"},null,"PEDESTRIAN CLEARANCE",null,"(SEC.)",{"$f":"'Local Controller Data - PROP'!D271","v":"-"},{"$f":"'Local Controller Data - PROP'!E271","v":"-"},{"$f":"'Local Controller Data - PROP'!F271","v":"-"},{"$f":"'Local Controller Data - PROP'!G271","v":"-"},{"$f":"'Local Controller Data - PROP'!H271","v":"-"},{"$f":"'Local Controller Data - PROP'!I271","v":"-"},{"$f":"'Local Controller Data - PROP'!J271","v":"-"},{"$f":"'Local Controller Data - PROP'!K271","v":"-"}]
["RECALL","MAXIMUM","(ON/OFF)",{"$f":"'Local Controller Data - EXIST'!D272","v":"-"},{"$f":"'Local Controller Data - EXIST'!E272","v":"-"},{"$f":"'Local Controller Data - EXIST'!F272","v":"-"},{"$f":"'Local Controller Data - EXIST'!G272","v":"-"},{"$f":"'Local Controller Data - EXIST'!H272","v":"-"},{"$f":"'Local Controller Data - EXIST'!I272","v":"-"},{"$f":"'Local Controller Data - EXIST'!J272","v":"-"},{"$f":"'Local Controller Data - EXIST'!K272","v":"-"},null,"RECALL","MAXIMUM","(ON/OFF)",{"$f":"'Local Controller Data - PROP'!D272","v":"-"},{"$f":"'Local Controller Data - PROP'!E272","v":"-"},{"$f":"'Local Controller Data - PROP'!F272","v":"-"},{"$f":"'Local Controller Data - PROP'!G272","v":"-"},{"$f":"'Local Controller Data - PROP'!H272","v":"-"},{"$f":"'Local Controller Data - PROP'!I272","v":"-"},{"$f":"'Local Controller Data - PROP'!J272","v":"-"},{"$f":"'Local Controller Data - PROP'!K272","v":"-"}]
[null,"MINIMUM","(ON/OFF)",{"$f":"'Local Controller Data - EXIST'!D273","v":"-"},{"$f":"'Local Controller Data - EXIST'!E273","v":"-"},{"$f":"'Local Controller Data - EXIST'!F273","v":"-"},{"$f":"'Local Controller Data - EXIST'!G273","v":"-"},{"$f":"'Local Controller Data - EXIST'!H273","v":"-"},{"$f":"'Local Controller Data - EXIST'!I273","v":"-"},{"$f":"'Local Controller Data - EXIST'!J273","v":"-"},{"$f":"'Local Controller Data - EXIST'!K273","v":"-"},null,null,"MINIMUM","(ON/OFF)",{"$f":"'Local Controller Data - PROP'!D273","v":"-"},{"$f":"'Local Controller Data - PROP'!E273","v":"-"},{"$f":"'Local Controller Data - PROP'!F273","v":"-"},{"$f":"'Local Controller Data - PROP'!G273","v":"-"},{"$f":"'Local Controller Data - PROP'!H273","v":"-"},{"$f":"'Local Controller Data - PROP'!I273","v":"-"},{"$f":"'Local Controller Data - PROP'!J273","v":"-"},{"$f":"'Local Controller Data - PROP'!K273","v":"-"}]
[null,"PEDESTRIAN","(ON/OFF)",{"$f":"'Local Controller Data - EXIST'!D274","v":"-"},{"$f":"'Local Controller Data - EXIST'!E274","v":"-"},{"$f":"'Local Controller Data - EXIST'!F274","v":"-"},{"$f":"'Local Controller Data - EXIST'!G274","v":"-"},{"$f":"'Local Controller Data - EXIST'!H274","v":"-"},{"$f":"'Local Controller Data - EXIST'!I274","v":"-"},{"$f":"'Local Controller Data - EXIST'!J274","v":"-"},{"$f":"'Local Controller Data - EXIST'!K274","v":"-"},null,null,"PEDESTRIAN","(ON/OFF)",{"$f":"'Local Controller Data - PROP'!D274","v":"-"},{"$f":"'Local Controller Data - PROP'!E274","v":"-"},{"$f":"'Local Controller Data - PROP'!F274","v":"-"},{"$f":"'Local Controller Data - PROP'!G274","v":"-"},{"$f":"'Local Controller Data - PROP'!H274","v":"-"},{"$f":"'Local Controller Data - PROP'!I274","v":"-"},{"$f":"'Local Controller Data - PROP'!J274","v":"-"},{"$f":"'Local Controller Data - PROP'!K274","v":"-"}]
["MEMORY    ",null,"(ON/OFF)",{"$f":"'Local Controller Data - EXIST'!D275","v":"-"},{"$f":"'Local Controller Data - EXIST'!E275","v":"-"},{"$f":"'Local Controller Data - EXIST'!F275","v":"-"},{"$f":"'Local Controller Data - EXIST'!G275","v":"-"},{"$f":"'Local Controller Data - EXIST'!H275","v":"-"},{"$f":"'Local Controller Data - EXIST'!I275","v":"-"},{"$f":"'Local Controller Data - EXIST'!J275","v":"-"},{"$f":"'Local Controller Data - EXIST'!K275","v":"-"},null,"MEMORY    ",null,"(ON/OFF)",{"$f":"'Local Controller Data - PROP'!D275","v":"-"},{"$f":"'Local Controller Data - PROP'!E275","v":"-"},{"$f":"'Local Controller Data - PROP'!F275","v":"-"},{"$f":"'Local Controller Data - PROP'!G275","v":"-"},{"$f":"'Local Controller Data - PROP'!H275","v":"-"},{"$f":"'Local Controller Data - PROP'!I275","v":"-"},{"$f":"'Local Controller Data - PROP'!J275","v":"-"},{"$f":"'Local Controller Data - PROP'!K275","v":"-"}]
["*VOLUME DENSITY CONTROLS",null,null,null,null,null,null,null,null,null,null,null,"*VOLUME DENSITY CONTROLS"]
["# FOR CROSSINGS WITH PEDESTRIAN PUSHBUTTONS, LPI'S (LEADING PEDESTRIAN INTERVALS) MAY BE IMPLEMENTED (3-6 SEC.) IN ACCORDANCE WITH LPI DURATION TIME PER THE ODOT SIGNAL CALCULATIONS - CLEARANCE INTERVALS SPREADSHEET",null,null,null,null,null,null,null,null,null,null,null,"# FOR CROSSINGS WITH PEDESTRIAN PUSHBUTTONS, LPI'S (LEADING PEDESTRIAN INTERVALS) MAY BE IMPLEMENTED (3-6 SEC.) IN ACCORDANCE WITH LPI DURATION TIME PER THE ODOT SIGNAL CALCULATIONS - CLEARANCE INTERVALS SPREADSHEET"]
["^ WHEN IMPLEMENTING FYA, A MINIMUM 3 SEC. DELAY SHALL BE PROGRAMMED PER FYA PHASE. ",null,null,null,null,null,null,null,null,null,null,null,"^ WHEN IMPLEMENTING FYA, A MINIMUM 3 SEC. DELAY SHALL BE PROGRAMMED PER FYA PHASE. "]
[]
["ECONOLITE COORD SETTINGS",null,null,"SIEMENS COORD SETTINGS",null,null,null,null,null,null,null,null,"ECONOLITE COORD SETTINGS",null,null,"SIEMENS COORD SETTINGS"]
["MANUAL PATTERN",{"$f":"'Local Controller Data - EXIST'!B283","v":"-"},null,"OPERATION",null,null,null,"-",null,null,null,null,"MANUAL PATTERN",{"$f":"'Local Controller Data - PROP'!B283","v":"-"},null,"OPERATION",null,null,null,"-"]
["SYSTEM SOURCE",{"$f":"'Local Controller Data - EXIST'!B284","v":"-"},null,"MODE (NORMAL)",null,null,null,"-",null,null,null,null,"SYSTEM SOURCE",{"$f":"'Local Controller Data - PROP'!B284","v":"-"},null,"MODE (NORMAL)",null,null,null,"-"]
["SPLITS IN",{"$f":"'Local Controller Data - EXIST'!B285","v":"-"},null,"MAXIMUM",null,null,null,"-",null,null,null,null,"SPLITS IN",{"$f":"'Local Controller Data - PROP'!B285","v":"-"},null,"MAXIMUM",null,null,null,"-"]
["TRANSITION",{"$f":"'Local Controller Data - EXIST'!B286","v":"-"},null,"CORRECTION",null,null,null,"-",null,null,null,null,"TRANSITION",{"$f":"'Local Controller Data - PROP'!B286","v":"-"},null,"CORRECTION",null,null,null,"-"]
["DWELL/ADD TIME",{"$f":"'Local Controller Data - EXIST'!B287","v":"-"},null,"OFFSET MODE",null,null,null,"-",null,null,null,null,"DWELL/ADD TIME",{"$f":"'Local Controller Data - PROP'!B287","v":"-"},null,"OFFSET MODE",null,null,null,"-"]
["OFFSET REFERENCE",{"$f":"'Local Controller Data - EXIST'!B288","v":"-"},null,"FORCE MODE",null,null,null,"-",null,null,null,null,"OFFSET REFERENCE",{"$f":"'Local Controller Data - PROP'!B288","v":"-"},null,"FORCE MODE",null,null,null,"-"]
["PED RECALL",{"$f":"'Local Controller Data - EXIST'!B289","v":"-"},null,"MAX DWELL TIME",null,null,null,"-",null,null,null,null,"PED RECALL",{"$f":"'Local Controller Data - PROP'!B289","v":"-"},null,"MAX DWELL TIME",null,null,null,"-"]
["LOCAL ZERO OVERRIDE",{"$f":"'Local Controller Data - EXIST'!B290","v":"-"},null,"YIELD PERIOD",null,null,null,"-",null,null,null,null,"LOCAL ZERO OVERRIDE",{"$f":"'Local Controller Data - PROP'!B290","v":"-"},null,"YIELD PERIOD",null,null,null,"-"]
["RE-SYNC COUNT",{"$f":"'Local Controller Data - EXIST'!B291","v":"-"},null,"MANUAL CONTROL: DIAL",null,null,null,"-",null,null,null,null,"RE-SYNC COUNT",{"$f":"'Local Controller Data - PROP'!B291","v":"-"},null,"MANUAL CONTROL: DIAL",null,null,null,"-"]
["ECPI COORD",{"$f":"'Local Controller Data - EXIST'!B292","v":"-"},null,"MANUAL CONTROL: SPLIT",null,null,null,"-",null,null,null,null,"ECPI COORD",{"$f":"'Local Controller Data - PROP'!B292","v":"-"},null,"MANUAL CONTROL: SPLIT",null,null,null,"-"]
["SYSTEM FORMAT ",{"$f":"'Local Controller Data - EXIST'!B293","v":"-"},null,"MANUAL CONTROL: OFFSET",null,null,null,"-",null,null,null,null,"SYSTEM FORMAT ",{"$f":"'Local Controller Data - PROP'!B293","v":"-"},null,"MANUAL CONTROL: OFFSET",null,null,null,"-"]
["OFFSET IN",{"$f":"'Local Controller Data - EXIST'!B294","v":"-"},null,null,null,null,null,null,null,null,null,null,"OFFSET IN",{"$f":"'Local Controller Data - PROP'!B294","v":"-"}]
["MAX SELECT",{"$f":"'Local Controller Data - EXIST'!B295","v":"-"},null,null,null,null,null,null,null,null,null,null,"MAX SELECT",{"$f":"'Local Controller Data - PROP'!B295","v":"-"}]
["FORCE OFF",{"$f":"'Local Controller Data - EXIST'!B296","v":"-"},null,null,null,null,null,null,null,null,null,null,"FORCE OFF",{"$f":"'Local Controller Data - PROP'!B296","v":"-"}]
["USE PED TIME",{"$f":"'Local Controller Data - EXIST'!B297","v":"-"},null,null,null,null,null,null,null,null,null,null,"USE PED TIME",{"$f":"'Local Controller Data - PROP'!B297","v":"-"}]
["PED RESERVICE",{"$f":"'Local Controller Data - EXIST'!B298","v":"-"},null,null,null,null,null,null,null,null,null,null,"PED RESERVICE",{"$f":"'Local Controller Data - PROP'!B298","v":"-"}]
["FO ADD INI GRN",{"$f":"'Local Controller Data - EXIST'!B299","v":"-"},null,null,null,null,null,null,null,null,null,null,"FO ADD INI GRN",{"$f":"'Local Controller Data - PROP'!B299","v":"-"}]
["MULTISYNC",{"$f":"'Local Controller Data - EXIST'!B300","v":"-"},null,null,null,null,null,null,null,"EXISTING TIMING",null,null,"MULTISYNC",{"$f":"'Local Controller Data - PROP'!B300","v":"-"},null,null,null,null,null,null,null,"PROPOSED TIMING"]
[]
[{"$f":"'Project Name'!$C$2","v":0},null,null,null,null,null,null,null,null,null,null,null,{"$f":"'Project Name'!$C$2","v":0}]
["Existing Local Controller Data",null,null,null,null,null,null,null,null,null,null,null,"Proposed Local Controller Data"]
["INTERSECTION:",null,null,null,null,null,null,null,null,null,null,null,"INTERSECTION:"]
["MAINTAINING AGENCY:",null,null,null,null,null,null,null,null,null,null,null,"MAINTAINING AGENCY:"]
["START UP",null,null,"DUAL ENTRY: ",null,"-","PHASES:",null,"-",null,null,null,"START UP",null,null,"DUAL ENTRY: ",null,"-","PHASES:",null,"-"]
[null,null,null,"REST IN RED: ",null,null,"RING 1","-",null,"RING 2","-",null,null,null,null,"REST IN RED: ",null,null,"RING 1","-",null,"RING 2","-"]
["START IN: ",{"$f":"'Local Controller Data - EXIST'!B309:C309","v":"-"},null,"OVERLAP",null,null,null,"A","B","C","D",null,"START IN: ","-",null,"OVERLAP",null,null,null,"A","B","C","D"]
["TIME FOR FLASH / ALL RED (SEC.):   ",null,"9, 6",null,null,null,null,null,null,null,null,null,"TIME FOR FLASH / ALL RED (SEC.):   ",null,"9, 6"]
["FIRST PHASE(S):",{"$f":"'Local Controller Data - EXIST'!B311:C311","v":"-"},null,"PHASES",null,null,null,{"$f":"'Local Controller Data - EXIST'!H311","v":"-"},{"$f":"'Local Controller Data - EXIST'!I311","v":"-"},{"$f":"'Local Controller Data - EXIST'!J311","v":"-"},{"$f":"'Local Controller Data - EXIST'!K311","v":"-"},null,"FIRST PHASE(S):",{"$f":"'Local Controller Data - PROP'!B311:C311","v":{"$error":"#VALUE!"}},null,"PHASES",null,null,null,{"$f":"'Local Controller Data - PROP'!H311","v":"-"},{"$f":"'Local Controller Data - PROP'!I311","v":"-"},{"$f":"'Local Controller Data - PROP'!J311","v":"-"},{"$f":"'Local Controller Data - PROP'!K311","v":"-"}]
["COLOR DISPLAYED:","-",null,null,null,null,null,null,null,null,null,null,"COLOR DISPLAYED:","-"]
["INTERVAL OR FEATURE",null,null,"CONTROLLER MOVEMENT NO.",null,null,null,null,null,null,null,null,"INTERVAL OR FEATURE",null,null,"CONTROLLER MOVEMENT NO."]
["INTERSECTION MOVEMENT (PHASE)",null,null,1,2,3,4,5,6,7,8,null,"INTERSECTION MOVEMENT (PHASE)",null,null,1,2,3,4,5,6,7,8]
["DIRECTION",null,null,{"$f":"'Local Controller Data - EXIST'!D316","v":"-"},{"$f":"'Local Controller Data - EXIST'!E316","v":"-"},{"$f":"'Local Controller Data - EXIST'!F316","v":"-"},{"$f":"'Local Controller Data - EXIST'!G316","v":"-"},{"$f":"'Local Controller Data - EXIST'!H316","v":"-"},{"$f":"'Local Controller Data - EXIST'!I316","v":"-"},{"$f":"'Local Controller Data - EXIST'!J316","v":"-"},{"$f":"'Local Controller Data - EXIST'!K316","v":"-"},null,"DIRECTION",null,null,{"$f":"'Local Controller Data - PROP'!D316","v":"-"},{"$f":"'Local Controller Data - PROP'!E316","v":"-"},{"$f":"'Local Controller Data - PROP'!F316","v":"-"},{"$f":"'Local Controller Data - PROP'!G316","v":"-"},{"$f":"'Local Controller Data - PROP'!H316","v":"-"},{"$f":"'Local Controller Data - PROP'!I316","v":"-"},{"$f":"'Local Controller Data - PROP'!J316","v":"-"},{"$f":"'Local Controller Data - PROP'!K316","v":"-"}]
["MINIMUM GREEN (INITIAL) ",null,"(SEC.)",{"$f":"'Local Controller Data - EXIST'!D317","v":"-"},{"$f":"'Local Controller Data - EXIST'!E317","v":"-"},{"$f":"'Local Controller Data - EXIST'!F317","v":"-"},{"$f":"'Local Controller Data - EXIST'!G317","v":"-"},{"$f":"'Local Controller Data - EXIST'!H317","v":"-"},{"$f":"'Local Controller Data - EXIST'!I317","v":"-"},{"$f":"'Local Controller Data - EXIST'!J317","v":"-"},{"$f":"'Local Controller Data - EXIST'!K317","v":"-"},null,"MINIMUM GREEN (INITIAL) ",null,"(SEC.)",{"$f":"'Local Controller Data - PROP'!D317","v":"-"},{"$f":"'Local Controller Data - PROP'!E317","v":"-"},{"$f":"'Local Controller Data - PROP'!F317","v":"-"},{"$f":"'Local Controller Data - PROP'!G317","v":"-"},{"$f":"'Local Controller Data - PROP'!H317","v":"-"},{"$f":"'Local Controller Data - PROP'!I317","v":"-"},{"$f":"'Local Controller Data - PROP'!J317","v":"-"},{"$f":"'Local Controller Data - PROP'!K317","v":"-"}]
["ADDED INITIAL","*(SEC./ACTUATION)",null,{"$f":"'Local Controller Data - EXIST'!D318","v":"-"},{"$f":"'Local Controller Data - EXIST'!E318","v":"-"},{"$f":"'Local Controller Data - EXIST'!F318","v":"-"},{"$f":"'Local Controller Data - EXIST'!G318","v":"-"},{"$f":"'Local Controller Data - EXIST'!H318","v":"-"},{"$f":"'Local Controller Data - EXIST'!I318","v":"-"},{"$f":"'Local Controller Data - EXIST'!J318","v":"-"},{"$f":"'Local Controller Data - EXIST'!K318","v":"-"},null,"ADDED INITIAL","*(SEC./ACTUATION)",null,{"$f":"'Local Controller Data - PROP'!D318","v":"-"},{"$f":"'Local Controller Data - PROP'!E318","v":"-"},{"$f":"'Local Controller Data - PROP'!F318","v":"-"},{"$f":"'Local Controller Data - PROP'!G318","v":"-"},{"$f":"'Local Controller Data - PROP'!H318","v":"-"},{"$f":"'Local Controller Data - PROP'!I318","v":"-"},{"$f":"'Local Controller Data - PROP'!J318","v":"-"},{"$f":"'Local Controller Data - PROP'!K318","v":"-"}]
["MAXIMUM INITIAL",null,"*(SEC.)",{"$f":"'Local Controller Data - EXIST'!D319","v":"-"},{"$f":"'Local Controller Data - EXIST'!E319","v":"-"},{"$f":"'Local Controller Data - EXIST'!F319","v":"-"},{"$f":"'Local Controller Data - EXIST'!G319","v":"-"},{"$f":"'Local Controller Data - EXIST'!H319","v":"-"},{"$f":"'Local Controller Data - EXIST'!I319","v":"-"},{"$f":"'Local Controller Data - EXIST'!J319","v":"-"},{"$f":"'Local Controller Data - EXIST'!K319","v":"-"},null,"MAXIMUM INITIAL",null,"*(SEC.)",{"$f":"'Local Controller Data - PROP'!D319","v":"-"},{"$f":"'Local Controller Data - PROP'!E319","v":"-"},{"$f":"'Local Controller Data - PROP'!F319","v":"-"},{"$f":"'Local Controller Data - PROP'!G319","v":"-"},{"$f":"'Local Controller Data - PROP'!H319","v":"-"},{"$f":"'Local Controller Data - PROP'!I319","v":"-"},{"$f":"'Local Controller Data - PROP'!J319","v":"-"},{"$f":"'Local Controller Data - PROP'!K319","v":"-"}]
["PASSAGE TIME (PRESET GAP)",null,"(SEC.)",{"$f":"'Local Controller Data - EXIST'!D320","v":"-"},{"$f":"'Local Controller Data - EXIST'!E320","v":"-"},{"$f":"'Local Controller Data - EXIST'!F320","v":"-"},{"$f":"'Local Controller Data - EXIST'!G320","v":"-"},{"$f":"'Local Controller Data - EXIST'!H320","v":"-"},{"$f":"'Local Controller Data - EXIST'!I320","v":"-"},{"$f":"'Local Controller Data - EXIST'!J320","v":"-"},{"$f":"'Local Controller Data - EXIST'!K320","v":"-"},null,"PASSAGE TIME (PRESET GAP)",null,"(SEC.)",{"$f":"'Local Controller Data - PROP'!D320","v":"-"},{"$f":"'Local Controller Data - PROP'!E320","v":"-"},{"$f":"'Local Controller Data - PROP'!F320","v":"-"},{"$f":"'Local Controller Data - PROP'!G320","v":"-"},{"$f":"'Local Controller Data - PROP'!H320","v":"-"},{"$f":"'Local Controller Data - PROP'!I320","v":"-"},{"$f":"'Local Controller Data - PROP'!J320","v":"-"},{"$f":"'Local Controller Data - PROP'!K320","v":"-"}]
["TIME BEFORE REDUCTION",null,"*(SEC.)",{"$f":"'Local Controller Data - EXIST'!D321","v":"-"},{"$f":"'Local Controller Data - EXIST'!E321","v":"-"},{"$f":"'Local Controller Data - EXIST'!F321","v":"-"},{"$f":"'Local Controller Data - EXIST'!G321","v":"-"},{"$f":"'Local Controller Data - EXIST'!H321","v":"-"},{"$f":"'Local Controller Data - EXIST'!I321","v":"-"},{"$f":"'Local Controller Data - EXIST'!J321","v":"-"},{"$f":"'Local Controller Data - EXIST'!K321","v":"-"},null,"TIME BEFORE REDUCTION",null,"*(SEC.)",{"$f":"'Local Controller Data - PROP'!D321","v":"-"},{"$f":"'Local Controller Data - PROP'!E321","v":"-"},{"$f":"'Local Controller Data - PROP'!F321","v":"-"},{"$f":"'Local Controller Data - PROP'!G321","v":"-"},{"$f":"'Local Controller Data - PROP'!H321","v":"-"},{"$f":"'Local Controller Data - PROP'!I321","v":"-"},{"$f":"'Local Controller Data - PROP'!J321","v":"-"},{"$f":"'Local Controller Data - PROP'!K321","v":"-"}]
["MINIMUM GAP",null,"*(SEC.)",{"$f":"'Local Controller Data - EXIST'!D322","v":"-"},{"$f":"'Local Controller Data - EXIST'!E322","v":"-"},{"$f":"'Local Controller Data - EXIST'!F322","v":"-"},{"$f":"'Local Controller Data - EXIST'!G322","v":"-"},{"$f":"'Local Controller Data - EXIST'!H322","v":"-"},{"$f":"'Local Controller Data - EXIST'!I322","v":"-"},{"$f":"'Local Controller Data - EXIST'!J322","v":"-"},{"$f":"'Local Controller Data - EXIST'!K322","v":"-"},null,"MINIMUM GAP",null,"*(SEC.)",{"$f":"'Local Controller Data - PROP'!D322","v":"-"},{"$f":"'Local Controller Data - PROP'!E322","v":"-"},{"$f":"'Local Controller Data - PROP'!F322","v":"-"},{"$f":"'Local Controller Data - PROP'!G322","v":"-"},{"$f":"'Local Controller Data - PROP'!H322","v":"-"},{"$f":"'Local Controller Data - PROP'!I322","v":"-"},{"$f":"'Local Controller Data - PROP'!J322","v":"-"},{"$f":"'Local Controller Data - PROP'!K322","v":"-"}]
["TIME TO REDUCE",null,"*(SEC.)",{"$f":"'Local Controller Data - EXIST'!D323","v":"-"},{"$f":"'Local Controller Data - EXIST'!E323","v":"-"},{"$f":"'Local Controller Data - EXIST'!F323","v":"-"},{"$f":"'Local Controller Data - EXIST'!G323","v":"-"},{"$f":"'Local Controller Data - EXIST'!H323","v":"-"},{"$f":"'Local Controller Data - EXIST'!I323","v":"-"},{"$f":"'Local Controller Data - EXIST'!J323","v":"-"},{"$f":"'Local Controller Data - EXIST'!K323","v":"-"},null,"TIME TO REDUCE",null,"*(SEC.)",{"$f":"'Local Controller Data - PROP'!D323","v":"-"},{"$f":"'Local Controller Data - PROP'!E323","v":"-"},{"$f":"'Local Controller Data - PROP'!F323","v":"-"},{"$f":"'Local Controller Data - PROP'!G323","v":"-"},{"$f":"'Local Controller Data - PROP'!H323","v":"-"},{"$f":"'Local Controller Data - PROP'!I323","v":"-"},{"$f":"'Local Controller Data - PROP'!J323","v":"-"},{"$f":"'Local Controller Data - PROP'!K323","v":"-"}]
["MAXIMUM GREEN I",null,"(SEC.)",{"$f":"'Local Controller Data - EXIST'!D324","v":"-"},{"$f":"'Local Controller Data - EXIST'!E324","v":"-"},{"$f":"'Local Controller Data - EXIST'!F324","v":"-"},{"$f":"'Local Controller Data - EXIST'!G324","v":"-"},{"$f":"'Local Controller Data - EXIST'!H324","v":"-"},{"$f":"'Local Controller Data - EXIST'!I324","v":"-"},{"$f":"'Local Controller Data - EXIST'!J324","v":"-"},{"$f":"'Local Controller Data - EXIST'!K324","v":"-"},null,"MAXIMUM GREEN I",null,"(SEC.)",{"$f":"'Local Controller Data - PROP'!D324","v":"-"},{"$f":"'Local Controller Data - PROP'!E324","v":"-"},{"$f":"'Local Controller Data - PROP'!F324","v":"-"},{"$f":"'Local Controller Data - PROP'!G324","v":"-"},{"$f":"'Local Controller Data - PROP'!H324","v":"-"},{"$f":"'Local Controller Data - PROP'!I324","v":"-"},{"$f":"'Local Controller Data - PROP'!J324","v":"-"},{"$f":"'Local Controller Data - PROP'!K324","v":"-"}]
["MAXIMUM GREEN II",null,"(SEC.)",{"$f":"'Local Controller Data - EXIST'!D325","v":"-"},{"$f":"'Local Controller Data - EXIST'!E325","v":"-"},{"$f":"'Local Controller Data - EXIST'!F325","v":"-"},{"$f":"'Local Controller Data - EXIST'!G325","v":"-"},{"$f":"'Local Controller Data - EXIST'!H325","v":"-"},{"$f":"'Local Controller Data - EXIST'!I325","v":"-"},{"$f":"'Local Controller Data - EXIST'!J325","v":"-"},{"$f":"'Local Controller Data - EXIST'!K325","v":"-"},null,"MAXIMUM GREEN II",null,"(SEC.)",{"$f":"'Local Controller Data - PROP'!D325","v":"-"},{"$f":"'Local Controller Data - PROP'!E325","v":"-"},{"$f":"'Local Controller Data - PROP'!F325","v":"-"},{"$f":"'Local Controller Data - PROP'!G325","v":"-"},{"$f":"'Local Controller Data - PROP'!H325","v":"-"},{"$f":"'Local Controller Data - PROP'!I325","v":"-"},{"$f":"'Local Controller Data - PROP'!J325","v":"-"},{"$f":"'Local Controller Data - PROP'!K325","v":"-"}]
["YELLOW CHANGE",null,"(SEC.)",{"$f":"'Local Controller Data - EXIST'!D326","v":"-"},{"$f":"'Local Controller Data - EXIST'!E326","v":"-"},{"$f":"'Local Controller Data - EXIST'!F326","v":"-"},{"$f":"'Local Controller Data - EXIST'!G326","v":"-"},{"$f":"'Local Controller Data - EXIST'!H326","v":"-"},{"$f":"'Local Controller Data - EXIST'!I326","v":"-"},{"$f":"'Local Controller Data - EXIST'!J326","v":"-"},{"$f":"'Local Controller Data - EXIST'!K326","v":"-"},null,"YELLOW CHANGE",null,"(SEC.)",{"$f":"'Local Controller Data - PROP'!D326","v":"-"},{"$f":"'Local Controller Data - PROP'!E326","v":"-"},{"$f":"'Local Controller Data - PROP'!F326","v":"-"},{"$f":"'Local Controller Data - PROP'!G326","v":"-"},{"$f":"'Local Controller Data - PROP'!H326","v":"-"},{"$f":"'Local Controller Data - PROP'!I326","v":"-"},{"$f":"'Local Controller Data - PROP'!J326","v":"-"},{"$f":"'Local Controller Data - PROP'!K326","v":"-"}]
["ALL RED CLEARANCE",null,"(SEC.)",{"$f":"'Local Controller Data - EXIST'!D327","v":"-"},{"$f":"'Local Controller Data - EXIST'!E327","v":"-"},{"$f":"'Local Controller Data - EXIST'!F327","v":"-"},{"$f":"'Local Controller Data - EXIST'!G327","v":"-"},{"$f":"'Local Controller Data - EXIST'!H327","v":"-"},{"$f":"'Local Controller Data - EXIST'!I327","v":"-"},{"$f":"'Local Controller Data - EXIST'!J327","v":"-"},{"$f":"'Local Controller Data - EXIST'!K327","v":"-"},null,"ALL RED CLEARANCE",null,"(SEC.)",{"$f":"'Local Controller Data - PROP'!D327","v":"-"},{"$f":"'Local Controller Data - PROP'!E327","v":"-"},{"$f":"'Local Controller Data - PROP'!F327","v":"-"},{"$f":"'Local Controller Data - PROP'!G327","v":"-"},{"$f":"'Local Controller Data - PROP'!H327","v":"-"},{"$f":"'Local Controller Data - PROP'!I327","v":"-"},{"$f":"'Local Controller Data - PROP'!J327","v":"-"},{"$f":"'Local Controller Data - PROP'!K327","v":"-"}]
["DELAYED GREEN (LPI) #",null,"(SEC.)",{"$f":"'Local Controller Data - EXIST'!D328","v":"-"},{"$f":"'Local Controller Data - EXIST'!E328","v":"-"},{"$f":"'Local Controller Data - EXIST'!F328","v":"-"},{"$f":"'Local Controller Data - EXIST'!G328","v":"-"},{"$f":"'Local Controller Data - EXIST'!H328","v":"-"},{"$f":"'Local Controller Data - EXIST'!I328","v":"-"},{"$f":"'Local Controller Data - EXIST'!J328","v":"-"},{"$f":"'Local Controller Data - EXIST'!K328","v":"-"},null,"DELAYED GREEN (LPI) #",null,"(SEC.)",{"$f":"'Local Controller Data - PROP'!D328","v":"-"},{"$f":"'Local Controller Data - PROP'!E328","v":"-"},{"$f":"'Local Controller Data - PROP'!F328","v":"-"},{"$f":"'Local Controller Data - PROP'!G328","v":"-"},{"$f":"'Local Controller Data - PROP'!H328","v":"-"},{"$f":"'Local Controller Data - PROP'!I328","v":"-"},{"$f":"'Local Controller Data - PROP'!J328","v":"-"},{"$f":"'Local Controller Data - PROP'!K328","v":"-"}]
["FLASHING YELLOW ARROW DELAY^",null,"(SEC.)",{"$f":"'Local Controller Data - EXIST'!D329","v":"-"},{"$f":"'Local Controller Data - EXIST'!E329","v":"-"},{"$f":"'Local Controller Data - EXIST'!F329","v":"-"},{"$f":"'Local Controller Data - EXIST'!G329","v":"-"},{"$f":"'Local Controller Data - EXIST'!H329","v":"-"},{"$f":"'Local Controller Data - EXIST'!I329","v":"-"},{"$f":"'Local Controller Data - EXIST'!J329","v":"-"},{"$f":"'Local Controller Data - EXIST'!K329","v":"-"},null,"FLASHING YELLOW ARROW DELAY^",null,"(SEC.)",{"$f":"'Local Controller Data - PROP'!D329","v":"-"},{"$f":"'Local Controller Data - PROP'!E329","v":"-"},{"$f":"'Local Controller Data - PROP'!F329","v":"-"},{"$f":"'Local Controller Data - PROP'!G329","v":"-"},{"$f":"'Local Controller Data - PROP'!H329","v":"-"},{"$f":"'Local Controller Data - PROP'!I329","v":"-"},{"$f":"'Local Controller Data - PROP'!J329","v":"-"},{"$f":"'Local Controller Data - PROP'!K329","v":"-"}]
["WALK",null,"(SEC.)",{"$f":"'Local Controller Data - EXIST'!D330","v":"-"},{"$f":"'Local Controller Data - EXIST'!E330","v":"-"},{"$f":"'Local Controller Data - EXIST'!F330","v":"-"},{"$f":"'Local Controller Data - EXIST'!G330","v":"-"},{"$f":"'Local Controller Data - EXIST'!H330","v":"-"},{"$f":"'Local Controller Data - EXIST'!I330","v":"-"},{"$f":"'Local Controller Data - EXIST'!J330","v":"-"},{"$f":"'Local Controller Data - EXIST'!K330","v":"-"},null,"WALK",null,"(SEC.)",{"$f":"'Local Controller Data - PROP'!D330","v":"-"},{"$f":"'Local Controller Data - PROP'!E330","v":"-"},{"$f":"'Local Controller Data - PROP'!F330","v":"-"},{"$f":"'Local Controller Data - PROP'!G330","v":"-"},{"$f":"'Local Controller Data - PROP'!H330","v":"-"},{"$f":"'Local Controller Data - PROP'!I330","v":"-"},{"$f":"'Local Controller Data - PROP'!J330","v":"-"},{"$f":"'Local Controller Data - PROP'!K330","v":"-"}]
["PEDESTRIAN CLEARANCE",null,"(SEC.)",{"$f":"'Local Controller Data - EXIST'!D331","v":"-"},{"$f":"'Local Controller Data - EXIST'!E331","v":"-"},{"$f":"'Local Controller Data - EXIST'!F331","v":"-"},{"$f":"'Local Controller Data - EXIST'!G331","v":"-"},{"$f":"'Local Controller Data - EXIST'!H331","v":"-"},{"$f":"'Local Controller Data - EXIST'!I331","v":"-"},{"$f":"'Local Controller Data - EXIST'!J331","v":"-"},{"$f":"'Local Controller Data - EXIST'!K331","v":"-"},null,"PEDESTRIAN CLEARANCE",null,"(SEC.)",{"$f":"'Local Controller Data - PROP'!D331","v":"-"},{"$f":"'Local Controller Data - PROP'!E331","v":"-"},{"$f":"'Local Controller Data - PROP'!F331","v":"-"},{"$f":"'Local Controller Data - PROP'!G331","v":"-"},{"$f":"'Local Controller Data - PROP'!H331","v":"-"},{"$f":"'Local Controller Data - PROP'!I331","v":"-"},{"$f":"'Local Controller Data - PROP'!J331","v":"-"},{"$f":"'Local Controller Data - PROP'!K331","v":"-"}]
["RECALL","MAXIMUM","(ON/OFF)",{"$f":"'Local Controller Data - EXIST'!D332","v":"-"},{"$f":"'Local Controller Data - EXIST'!E332","v":"-"},{"$f":"'Local Controller Data - EXIST'!F332","v":"-"},{"$f":"'Local Controller Data - EXIST'!G332","v":"-"},{"$f":"'Local Controller Data - EXIST'!H332","v":"-"},{"$f":"'Local Controller Data - EXIST'!I332","v":"-"},{"$f":"'Local Controller Data - EXIST'!J332","v":"-"},{"$f":"'Local Controller Data - EXIST'!K332","v":"-"},null,"RECALL","MAXIMUM","(ON/OFF)",{"$f":"'Local Controller Data - PROP'!D332","v":"-"},{"$f":"'Local Controller Data - PROP'!E332","v":"-"},{"$f":"'Local Controller Data - PROP'!F332","v":"-"},{"$f":"'Local Controller Data - PROP'!G332","v":"-"},{"$f":"'Local Controller Data - PROP'!H332","v":"-"},{"$f":"'Local Controller Data - PROP'!I332","v":"-"},{"$f":"'Local Controller Data - PROP'!J332","v":"-"},{"$f":"'Local Controller Data - PROP'!K332","v":"-"}]
[null,"MINIMUM","(ON/OFF)",{"$f":"'Local Controller Data - EXIST'!D333","v":"-"},{"$f":"'Local Controller Data - EXIST'!E333","v":"-"},{"$f":"'Local Controller Data - EXIST'!F333","v":"-"},{"$f":"'Local Controller Data - EXIST'!G333","v":"-"},{"$f":"'Local Controller Data - EXIST'!H333","v":"-"},{"$f":"'Local Controller Data - EXIST'!I333","v":"-"},{"$f":"'Local Controller Data - EXIST'!J333","v":"-"},{"$f":"'Local Controller Data - EXIST'!K333","v":"-"},null,null,"MINIMUM","(ON/OFF)",{"$f":"'Local Controller Data - PROP'!D333","v":"-"},{"$f":"'Local Controller Data - PROP'!E333","v":"-"},{"$f":"'Local Controller Data - PROP'!F333","v":"-"},{"$f":"'Local Controller Data - PROP'!G333","v":"-"},{"$f":"'Local Controller Data - PROP'!H333","v":"-"},{"$f":"'Local Controller Data - PROP'!I333","v":"-"},{"$f":"'Local Controller Data - PROP'!J333","v":"-"},{"$f":"'Local Controller Data - PROP'!K333","v":"-"}]
[null,"PEDESTRIAN","(ON/OFF)",{"$f":"'Local Controller Data - EXIST'!D334","v":"-"},{"$f":"'Local Controller Data - EXIST'!E334","v":"-"},{"$f":"'Local Controller Data - EXIST'!F334","v":"-"},{"$f":"'Local Controller Data - EXIST'!G334","v":"-"},{"$f":"'Local Controller Data - EXIST'!H334","v":"-"},{"$f":"'Local Controller Data - EXIST'!I334","v":"-"},{"$f":"'Local Controller Data - EXIST'!J334","v":"-"},{"$f":"'Local Controller Data - EXIST'!K334","v":"-"},null,null,"PEDESTRIAN","(ON/OFF)",{"$f":"'Local Controller Data - PROP'!D334","v":"-"},{"$f":"'Local Controller Data - PROP'!E334","v":"-"},{"$f":"'Local Controller Data - PROP'!F334","v":"-"},{"$f":"'Local Controller Data - PROP'!G334","v":"-"},{"$f":"'Local Controller Data - PROP'!H334","v":"-"},{"$f":"'Local Controller Data - PROP'!I334","v":"-"},{"$f":"'Local Controller Data - PROP'!J334","v":"-"},{"$f":"'Local Controller Data - PROP'!K334","v":"-"}]
["MEMORY    ",null,"(ON/OFF)",{"$f":"'Local Controller Data - EXIST'!D335","v":"-"},{"$f":"'Local Controller Data - EXIST'!E335","v":"-"},{"$f":"'Local Controller Data - EXIST'!F335","v":"-"},{"$f":"'Local Controller Data - EXIST'!G335","v":"-"},{"$f":"'Local Controller Data - EXIST'!H335","v":"-"},{"$f":"'Local Controller Data - EXIST'!I335","v":"-"},{"$f":"'Local Controller Data - EXIST'!J335","v":"-"},{"$f":"'Local Controller Data - EXIST'!K335","v":"-"},null,"MEMORY    ",null,"(ON/OFF)",{"$f":"'Local Controller Data - PROP'!D335","v":"-"},{"$f":"'Local Controller Data - PROP'!E335","v":"-"},{"$f":"'Local Controller Data - PROP'!F335","v":"-"},{"$f":"'Local Controller Data - PROP'!G335","v":"-"},{"$f":"'Local Controller Data - PROP'!H335","v":"-"},{"$f":"'Local Controller Data - PROP'!I335","v":"-"},{"$f":"'Local Controller Data - PROP'!J335","v":"-"},{"$f":"'Local Controller Data - PROP'!K335","v":"-"}]
["*VOLUME DENSITY CONTROLS",null,null,null,null,null,null,null,null,null,null,null,"*VOLUME DENSITY CONTROLS"]
["# FOR CROSSINGS WITH PEDESTRIAN PUSHBUTTONS, LPI'S (LEADING PEDESTRIAN INTERVALS) MAY BE IMPLEMENTED (3-6 SEC.) IN ACCORDANCE WITH LPI DURATION TIME PER THE ODOT SIGNAL CALCULATIONS - CLEARANCE INTERVALS SPREADSHEET",null,null,null,null,null,null,null,null,null,null,null,"# FOR CROSSINGS WITH PEDESTRIAN PUSHBUTTONS, LPI'S (LEADING PEDESTRIAN INTERVALS) MAY BE IMPLEMENTED (3-6 SEC.) IN ACCORDANCE WITH LPI DURATION TIME PER THE ODOT SIGNAL CALCULATIONS - CLEARANCE INTERVALS SPREADSHEET"]
["^ WHEN IMPLEMENTING FYA, A MINIMUM 3 SEC. DELAY SHALL BE PROGRAMMED PER FYA PHASE. ",null,null,null,null,null,null,null,null,null,null,null,"^ WHEN IMPLEMENTING FYA, A MINIMUM 3 SEC. DELAY SHALL BE PROGRAMMED PER FYA PHASE. "]
[]
["ECONOLITE COORD SETTINGS",null,null,"SIEMENS COORD SETTINGS",null,null,null,null,null,null,null,null,"ECONOLITE COORD SETTINGS",null,null,"SIEMENS COORD SETTINGS"]
["MANUAL PATTERN",{"$f":"'Local Controller Data - EXIST'!B343","v":"-"},null,"OPERATION",null,null,null,"-",null,null,null,null,"MANUAL PATTERN",{"$f":"'Local Controller Data - PROP'!B343","v":"-"},null,"OPERATION",null,null,null,"-"]
["SYSTEM SOURCE",{"$f":"'Local Controller Data - EXIST'!B344","v":"-"},null,"MODE (NORMAL)",null,null,null,"-",null,null,null,null,"SYSTEM SOURCE",{"$f":"'Local Controller Data - PROP'!B344","v":"-"},null,"MODE (NORMAL)",null,null,null,"-"]
["SPLITS IN",{"$f":"'Local Controller Data - EXIST'!B345","v":"-"},null,"MAXIMUM",null,null,null,"-",null,null,null,null,"SPLITS IN",{"$f":"'Local Controller Data - PROP'!B345","v":"-"},null,"MAXIMUM",null,null,null,"-"]
["TRANSITION",{"$f":"'Local Controller Data - EXIST'!B346","v":"-"},null,"CORRECTION",null,null,null,"-",null,null,null,null,"TRANSITION",{"$f":"'Local Controller Data - PROP'!B346","v":"-"},null,"CORRECTION",null,null,null,"-"]
["DWELL/ADD TIME",{"$f":"'Local Controller Data - EXIST'!B347","v":"-"},null,"OFFSET MODE",null,null,null,"-",null,null,null,null,"DWELL/ADD TIME",{"$f":"'Local Controller Data - PROP'!B347","v":"-"},null,"OFFSET MODE",null,null,null,"-"]
["OFFSET REFERENCE",{"$f":"'Local Controller Data - EXIST'!B348","v":"-"},null,"FORCE MODE",null,null,null,"-",null,null,null,null,"OFFSET REFERENCE",{"$f":"'Local Controller Data - PROP'!B348","v":"-"},null,"FORCE MODE",null,null,null,"-"]
["PED RECALL",{"$f":"'Local Controller Data - EXIST'!B349","v":"-"},null,"MAX DWELL TIME",null,null,null,"-",null,null,null,null,"PED RECALL",{"$f":"'Local Controller Data - PROP'!B349","v":"-"},null,"MAX DWELL TIME",null,null,null,"-"]
["LOCAL ZERO OVERRIDE",{"$f":"'Local Controller Data - EXIST'!B350","v":"-"},null,"YIELD PERIOD",null,null,null,"-",null,null,null,null,"LOCAL ZERO OVERRIDE",{"$f":"'Local Controller Data - PROP'!B350","v":"-"},null,"YIELD PERIOD",null,null,null,"-"]
["RE-SYNC COUNT",{"$f":"'Local Controller Data - EXIST'!B351","v":"-"},null,"MANUAL CONTROL: DIAL",null,null,null,"-",null,null,null,null,"RE-SYNC COUNT",{"$f":"'Local Controller Data - PROP'!B351","v":"-"},null,"MANUAL CONTROL: DIAL",null,null,null,"-"]
["ECPI COORD",{"$f":"'Local Controller Data - EXIST'!B352","v":"-"},null,"MANUAL CONTROL: SPLIT",null,null,null,"-",null,null,null,null,"ECPI COORD",{"$f":"'Local Controller Data - PROP'!B352","v":"-"},null,"MANUAL CONTROL: SPLIT",null,null,null,"-"]
["SYSTEM FORMAT ",{"$f":"'Local Controller Data - EXIST'!B353","v":"-"},null,"MANUAL CONTROL: OFFSET",null,null,null,"-",null,null,null,null,"SYSTEM FORMAT ",{"$f":"'Local Controller Data - PROP'!B353","v":"-"},null,"MANUAL CONTROL: OFFSET",null,null,null,"-"]
["OFFSET IN",{"$f":"'Local Controller Data - EXIST'!B354","v":"-"},null,null,null,null,null,null,null,null,null,null,"OFFSET IN",{"$f":"'Local Controller Data - PROP'!B354","v":"-"}]
["MAX SELECT",{"$f":"'Local Controller Data - EXIST'!B355","v":"-"},null,null,null,null,null,null,null,null,null,null,"MAX SELECT",{"$f":"'Local Controller Data - PROP'!B355","v":"-"}]
["FORCE OFF",{"$f":"'Local Controller Data - EXIST'!B356","v":"-"},null,null,null,null,null,null,null,null,null,null,"FORCE OFF",{"$f":"'Local Controller Data - PROP'!B356","v":"-"}]
["USE PED TIME",{"$f":"'Local Controller Data - EXIST'!B357","v":"-"},null,null,null,null,null,null,null,null,null,null,"USE PED TIME",{"$f":"'Local Controller Data - PROP'!B357","v":"-"}]
["PED RESERVICE",{"$f":"'Local Controller Data - EXIST'!B358","v":"-"},null,null,null,null,null,null,null,null,null,null,"PED RESERVICE",{"$f":"'Local Controller Data - PROP'!B358","v":"-"}]
["FO ADD INI GRN",{"$f":"'Local Controller Data - EXIST'!B359","v":"-"},null,null,null,null,null,null,null,null,null,null,"FO ADD INI GRN",{"$f":"'Local Controller Data - PROP'!B359","v":"-"}]
["MULTISYNC",{"$f":"'Local Controller Data - EXIST'!B360","v":"-"},null,null,null,null,null,null,null,"EXISTING TIMING",null,null,"MULTISYNC",{"$f":"'Local Controller Data - PROP'!B360","v":"-"},null,null,null,null,null,null,null,"PROPOSED TIMING"]
[]
[{"$f":"'Project Name'!$C$2","v":0},null,null,null,null,null,null,null,null,null,null,null,{"$f":"'Project Name'!$C$2","v":0}]
["Existing Local Controller Data",null,null,null,null,null,null,null,null,null,null,null,"Proposed Local Controller Data"]
["INTERSECTION:",null,null,null,null,null,null,null,null,null,null,null,"INTERSECTION:"]
["MAINTAINING AGENCY:",null,null,null,null,null,null,null,null,null,null,null,"MAINTAINING AGENCY:"]
["START UP",null,null,"DUAL ENTRY: ",null,"-","PHASES:",null,"-",null,null,null,"START UP",null,null,"DUAL ENTRY: ",null,"-","PHASES:",null,"-"]
[null,null,null,"REST IN RED: ",null,null,"RING 1","-",null,"RING 2","-",null,null,null,null,"REST IN RED: ",null,null,"RING 1","-",null,"RING 2","-"]
["START IN: ",{"$f":"'Local Controller Data - EXIST'!B369:C369","v":"-"},null,"OVERLAP",null,null,null,"A","B","C","D",null,"START IN: ","-",null,"OVERLAP",null,null,null,"A","B","C","D"]
["TIME FOR FLASH / ALL RED (SEC.):   ",null,"9, 6",null,null,null,null,null,null,null,null,null,"TIME FOR FLASH / ALL RED (SEC.):   ",null,"9, 6"]
["FIRST PHASE(S):",{"$f":"'Local Controller Data - EXIST'!B371:C371","v":"-"},null,"PHASES",null,null,null,{"$f":"'Local Controller Data - EXIST'!H371","v":"-"},{"$f":"'Local Controller Data - EXIST'!I371","v":"-"},{"$f":"'Local Controller Data - EXIST'!J371","v":"-"},{"$f":"'Local Controller Data - EXIST'!K371","v":"-"},null,"FIRST PHASE(S):",{"$f":"'Local Controller Data - PROP'!B371:C371","v":{"$error":"#VALUE!"}},null,"PHASES",null,null,null,{"$f":"'Local Controller Data - PROP'!H371","v":"-"},{"$f":"'Local Controller Data - PROP'!I371","v":"-"},{"$f":"'Local Controller Data - PROP'!J371","v":"-"},{"$f":"'Local Controller Data - PROP'!K371","v":"-"}]
["COLOR DISPLAYED:","-",null,null,null,null,null,null,null,null,null,null,"COLOR DISPLAYED:","-"]
["INTERVAL OR FEATURE",null,null,"CONTROLLER MOVEMENT NO.",null,null,null,null,null,null,null,null,"INTERVAL OR FEATURE",null,null,"CONTROLLER MOVEMENT NO."]
["INTERSECTION MOVEMENT (PHASE)",null,null,1,2,3,4,5,6,7,8,null,"INTERSECTION MOVEMENT (PHASE)",null,null,1,2,3,4,5,6,7,8]
["DIRECTION",null,null,{"$f":"'Local Controller Data - EXIST'!D376","v":"-"},{"$f":"'Local Controller Data - EXIST'!E376","v":"-"},{"$f":"'Local Controller Data - EXIST'!F376","v":"-"},{"$f":"'Local Controller Data - EXIST'!G376","v":"-"},{"$f":"'Local Controller Data - EXIST'!H376","v":"-"},{"$f":"'Local Controller Data - EXIST'!I376","v":"-"},{"$f":"'Local Controller Data - EXIST'!J376","v":"-"},{"$f":"'Local Controller Data - EXIST'!K376","v":"-"},null,"DIRECTION",null,null,{"$f":"'Local Controller Data - PROP'!D376","v":"-"},{"$f":"'Local Controller Data - PROP'!E376","v":"-"},{"$f":"'Local Controller Data - PROP'!F376","v":"-"},{"$f":"'Local Controller Data - PROP'!G376","v":"-"},{"$f":"'Local Controller Data - PROP'!H376","v":"-"},{"$f":"'Local Controller Data - PROP'!I376","v":"-"},{"$f":"'Local Controller Data - PROP'!J376","v":"-"},{"$f":"'Local Controller Data - PROP'!K376","v":"-"}]
["MINIMUM GREEN (INITIAL) ",null,"(SEC.)",{"$f":"'Local Controller Data - EXIST'!D377","v":"-"},{"$f":"'Local Controller Data - EXIST'!E377","v":"-"},{"$f":"'Local Controller Data - EXIST'!F377","v":"-"},{"$f":"'Local Controller Data - EXIST'!G377","v":"-"},{"$f":"'Local Controller Data - EXIST'!H377","v":"-"},{"$f":"'Local Controller Data - EXIST'!I377","v":"-"},{"$f":"'Local Controller Data - EXIST'!J377","v":"-"},{"$f":"'Local Controller Data - EXIST'!K377","v":"-"},null,"MINIMUM GREEN (INITIAL) ",null,"(SEC.)",{"$f":"'Local Controller Data - PROP'!D377","v":"-"},{"$f":"'Local Controller Data - PROP'!E377","v":"-"},{"$f":"'Local Controller Data - PROP'!F377","v":"-"},{"$f":"'Local Controller Data - PROP'!G377","v":"-"},{"$f":"'Local Controller Data - PROP'!H377","v":"-"},{"$f":"'Local Controller Data - PROP'!I377","v":"-"},{"$f":"'Local Controller Data - PROP'!J377","v":"-"},{"$f":"'Local Controller Data - PROP'!K377","v":"-"}]
["ADDED INITIAL","*(SEC./ACTUATION)",null,{"$f":"'Local Controller Data - EXIST'!D378","v":"-"},{"$f":"'Local Controller Data - EXIST'!E378","v":"-"},{"$f":"'Local Controller Data - EXIST'!F378","v":"-"},{"$f":"'Local Controller Data - EXIST'!G378","v":"-"},{"$f":"'Local Controller Data - EXIST'!H378","v":"-"},{"$f":"'Local Controller Data - EXIST'!I378","v":"-"},{"$f":"'Local Controller Data - EXIST'!J378","v":"-"},{"$f":"'Local Controller Data - EXIST'!K378","v":"-"},null,"ADDED INITIAL","*(SEC./ACTUATION)",null,{"$f":"'Local Controller Data - PROP'!D378","v":"-"},{"$f":"'Local Controller Data - PROP'!E378","v":"-"},{"$f":"'Local Controller Data - PROP'!F378","v":"-"},{"$f":"'Local Controller Data - PROP'!G378","v":"-"},{"$f":"'Local Controller Data - PROP'!H378","v":"-"},{"$f":"'Local Controller Data - PROP'!I378","v":"-"},{"$f":"'Local Controller Data - PROP'!J378","v":"-"},{"$f":"'Local Controller Data - PROP'!K378","v":"-"}]
["MAXIMUM INITIAL",null,"*(SEC.)",{"$f":"'Local Controller Data - EXIST'!D379","v":"-"},{"$f":"'Local Controller Data - EXIST'!E379","v":"-"},{"$f":"'Local Controller Data - EXIST'!F379","v":"-"},{"$f":"'Local Controller Data - EXIST'!G379","v":"-"},{"$f":"'Local Controller Data - EXIST'!H379","v":"-"},{"$f":"'Local Controller Data - EXIST'!I379","v":"-"},{"$f":"'Local Controller Data - EXIST'!J379","v":"-"},{"$f":"'Local Controller Data - EXIST'!K379","v":"-"},null,"MAXIMUM INITIAL",null,"*(SEC.)",{"$f":"'Local Controller Data - PROP'!D379","v":"-"},{"$f":"'Local Controller Data - PROP'!E379","v":"-"},{"$f":"'Local Controller Data - PROP'!F379","v":"-"},{"$f":"'Local Controller Data - PROP'!G379","v":"-"},{"$f":"'Local Controller Data - PROP'!H379","v":"-"},{"$f":"'Local Controller Data - PROP'!I379","v":"-"},{"$f":"'Local Controller Data - PROP'!J379","v":"-"},{"$f":"'Local Controller Data - PROP'!K379","v":"-"}]
["PASSAGE TIME (PRESET GAP)",null,"(SEC.)",{"$f":"'Local Controller Data - EXIST'!D380","v":"-"},{"$f":"'Local Controller Data - EXIST'!E380","v":"-"},{"$f":"'Local Controller Data - EXIST'!F380","v":"-"},{"$f":"'Local Controller Data - EXIST'!G380","v":"-"},{"$f":"'Local Controller Data - EXIST'!H380","v":"-"},{"$f":"'Local Controller Data - EXIST'!I380","v":"-"},{"$f":"'Local Controller Data - EXIST'!J380","v":"-"},{"$f":"'Local Controller Data - EXIST'!K380","v":"-"},null,"PASSAGE TIME (PRESET GAP)",null,"(SEC.)",{"$f":"'Local Controller Data - PROP'!D380","v":"-"},{"$f":"'Local Controller Data - PROP'!E380","v":"-"},{"$f":"'Local Controller Data - PROP'!F380","v":"-"},{"$f":"'Local Controller Data - PROP'!G380","v":"-"},{"$f":"'Local Controller Data - PROP'!H380","v":"-"},{"$f":"'Local Controller Data - PROP'!I380","v":"-"},{"$f":"'Local Controller Data - PROP'!J380","v":"-"},{"$f":"'Local Controller Data - PROP'!K380","v":"-"}]
["TIME BEFORE REDUCTION",null,"*(SEC.)",{"$f":"'Local Controller Data - EXIST'!D381","v":"-"},{"$f":"'Local Controller Data - EXIST'!E381","v":"-"},{"$f":"'Local Controller Data - EXIST'!F381","v":"-"},{"$f":"'Local Controller Data - EXIST'!G381","v":"-"},{"$f":"'Local Controller Data - EXIST'!H381","v":"-"},{"$f":"'Local Controller Data - EXIST'!I381","v":"-"},{"$f":"'Local Controller Data - EXIST'!J381","v":"-"},{"$f":"'Local Controller Data - EXIST'!K381","v":"-"},null,"TIME BEFORE REDUCTION",null,"*(SEC.)",{"$f":"'Local Controller Data - PROP'!D381","v":"-"},{"$f":"'Local Controller Data - PROP'!E381","v":"-"},{"$f":"'Local Controller Data - PROP'!F381","v":"-"},{"$f":"'Local Controller Data - PROP'!G381","v":"-"},{"$f":"'Local Controller Data - PROP'!H381","v":"-"},{"$f":"'Local Controller Data - PROP'!I381","v":"-"},{"$f":"'Local Controller Data - PROP'!J381","v":"-"},{"$f":"'Local Controller Data - PROP'!K381","v":"-"}]
["MINIMUM GAP",null,"*(SEC.)",{"$f":"'Local Controller Data - EXIST'!D382","v":"-"},{"$f":"'Local Controller Data - EXIST'!E382","v":"-"},{"$f":"'Local Controller Data - EXIST'!F382","v":"-"},{"$f":"'Local Controller Data - EXIST'!G382","v":"-"},{"$f":"'Local Controller Data - EXIST'!H382","v":"-"},{"$f":"'Local Controller Data - EXIST'!I382","v":"-"},{"$f":"'Local Controller Data - EXIST'!J382","v":"-"},{"$f":"'Local Controller Data - EXIST'!K382","v":"-"},null,"MINIMUM GAP",null,"*(SEC.)",{"$f":"'Local Controller Data - PROP'!D382","v":"-"},{"$f":"'Local Controller Data - PROP'!E382","v":"-"},{"$f":"'Local Controller Data - PROP'!F382","v":"-"},{"$f":"'Local Controller Data - PROP'!G382","v":"-"},{"$f":"'Local Controller Data - PROP'!H382","v":"-"},{"$f":"'Local Controller Data - PROP'!I382","v":"-"},{"$f":"'Local Controller Data - PROP'!J382","v":"-"},{"$f":"'Local Controller Data - PROP'!K382","v":"-"}]
["TIME TO REDUCE",null,"*(SEC.)",{"$f":"'Local Controller Data - EXIST'!D383","v":"-"},{"$f":"'Local Controller Data - EXIST'!E383","v":"-"},{"$f":"'Local Controller Data - EXIST'!F383","v":"-"},{"$f":"'Local Controller Data - EXIST'!G383","v":"-"},{"$f":"'Local Controller Data - EXIST'!H383","v":"-"},{"$f":"'Local Controller Data - EXIST'!I383","v":"-"},{"$f":"'Local Controller Data - EXIST'!J383","v":"-"},{"$f":"'Local Controller Data - EXIST'!K383","v":"-"},null,"TIME TO REDUCE",null,"*(SEC.)",{"$f":"'Local Controller Data - PROP'!D383","v":"-"},{"$f":"'Local Controller Data - PROP'!E383","v":"-"},{"$f":"'Local Controller Data - PROP'!F383","v":"-"},{"$f":"'Local Controller Data - PROP'!G383","v":"-"},{"$f":"'Local Controller Data - PROP'!H383","v":"-"},{"$f":"'Local Controller Data - PROP'!I383","v":"-"},{"$f":"'Local Controller Data - PROP'!J383","v":"-"},{"$f":"'Local Controller Data - PROP'!K383","v":"-"}]
["MAXIMUM GREEN I",null,"(SEC.)",{"$f":"'Local Controller Data - EXIST'!D384","v":"-"},{"$f":"'Local Controller Data - EXIST'!E384","v":"-"},{"$f":"'Local Controller Data - EXIST'!F384","v":"-"},{"$f":"'Local Controller Data - EXIST'!G384","v":"-"},{"$f":"'Local Controller Data - EXIST'!H384","v":"-"},{"$f":"'Local Controller Data - EXIST'!I384","v":"-"},{"$f":"'Local Controller Data - EXIST'!J384","v":"-"},{"$f":"'Local Controller Data - EXIST'!K384","v":"-"},null,"MAXIMUM GREEN I",null,"(SEC.)",{"$f":"'Local Controller Data - PROP'!D384","v":"-"},{"$f":"'Local Controller Data - PROP'!E384","v":"-"},{"$f":"'Local Controller Data - PROP'!F384","v":"-"},{"$f":"'Local Controller Data - PROP'!G384","v":"-"},{"$f":"'Local Controller Data - PROP'!H384","v":"-"},{"$f":"'Local Controller Data - PROP'!I384","v":"-"},{"$f":"'Local Controller Data - PROP'!J384","v":"-"},{"$f":"'Local Controller Data - PROP'!K384","v":"-"}]
["MAXIMUM GREEN II",null,"(SEC.)",{"$f":"'Local Controller Data - EXIST'!D385","v":"-"},{"$f":"'Local Controller Data - EXIST'!E385","v":"-"},{"$f":"'Local Controller Data - EXIST'!F385","v":"-"},{"$f":"'Local Controller Data - EXIST'!G385","v":"-"},{"$f":"'Local Controller Data - EXIST'!H385","v":"-"},{"$f":"'Local Controller Data - EXIST'!I385","v":"-"},{"$f":"'Local Controller Data - EXIST'!J385","v":"-"},{"$f":"'Local Controller Data - EXIST'!K385","v":"-"},null,"MAXIMUM GREEN II",null,"(SEC.)",{"$f":"'Local Controller Data - PROP'!D385","v":"-"},{"$f":"'Local Controller Data - PROP'!E385","v":"-"},{"$f":"'Local Controller Data - PROP'!F385","v":"-"},{"$f":"'Local Controller Data - PROP'!G385","v":"-"},{"$f":"'Local Controller Data - PROP'!H385","v":"-"},{"$f":"'Local Controller Data - PROP'!I385","v":"-"},{"$f":"'Local Controller Data - PROP'!J385","v":"-"},{"$f":"'Local Controller Data - PROP'!K385","v":"-"}]
["YELLOW CHANGE",null,"(SEC.)",{"$f":"'Local Controller Data - EXIST'!D386","v":"-"},{"$f":"'Local Controller Data - EXIST'!E386","v":"-"},{"$f":"'Local Controller Data - EXIST'!F386","v":"-"},{"$f":"'Local Controller Data - EXIST'!G386","v":"-"},{"$f":"'Local Controller Data - EXIST'!H386","v":"-"},{"$f":"'Local Controller Data - EXIST'!I386","v":"-"},{"$f":"'Local Controller Data - EXIST'!J386","v":"-"},{"$f":"'Local Controller Data - EXIST'!K386","v":"-"},null,"YELLOW CHANGE",null,"(SEC.)",{"$f":"'Local Controller Data - PROP'!D386","v":"-"},{"$f":"'Local Controller Data - PROP'!E386","v":"-"},{"$f":"'Local Controller Data - PROP'!F386","v":"-"},{"$f":"'Local Controller Data - PROP'!G386","v":"-"},{"$f":"'Local Controller Data - PROP'!H386","v":"-"},{"$f":"'Local Controller Data - PROP'!I386","v":"-"},{"$f":"'Local Controller Data - PROP'!J386","v":"-"},{"$f":"'Local Controller Data - PROP'!K386","v":"-"}]
["ALL RED CLEARANCE",null,"(SEC.)",{"$f":"'Local Controller Data - EXIST'!D387","v":"-"},{"$f":"'Local Controller Data - EXIST'!E387","v":"-"},{"$f":"'Local Controller Data - EXIST'!F387","v":"-"},{"$f":"'Local Controller Data - EXIST'!G387","v":"-"},{"$f":"'Local Controller Data - EXIST'!H387","v":"-"},{"$f":"'Local Controller Data - EXIST'!I387","v":"-"},{"$f":"'Local Controller Data - EXIST'!J387","v":"-"},{"$f":"'Local Controller Data - EXIST'!K387","v":"-"},null,"ALL RED CLEARANCE",null,"(SEC.)",{"$f":"'Local Controller Data - PROP'!D387","v":"-"},{"$f":"'Local Controller Data - PROP'!E387","v":"-"},{"$f":"'Local Controller Data - PROP'!F387","v":"-"},{"$f":"'Local Controller Data - PROP'!G387","v":"-"},{"$f":"'Local Controller Data - PROP'!H387","v":"-"},{"$f":"'Local Controller Data - PROP'!I387","v":"-"},{"$f":"'Local Controller Data - PROP'!J387","v":"-"},{"$f":"'Local Controller Data - PROP'!K387","v":"-"}]
["DELAYED GREEN (LPI) #",null,"(SEC.)",{"$f":"'Local Controller Data - EXIST'!D388","v":"-"},{"$f":"'Local Controller Data - EXIST'!E388","v":"-"},{"$f":"'Local Controller Data - EXIST'!F388","v":"-"},{"$f":"'Local Controller Data - EXIST'!G388","v":"-"},{"$f":"'Local Controller Data - EXIST'!H388","v":"-"},{"$f":"'Local Controller Data - EXIST'!I388","v":"-"},{"$f":"'Local Controller Data - EXIST'!J388","v":"-"},{"$f":"'Local Controller Data - EXIST'!K388","v":"-"},null,"DELAYED GREEN (LPI) #",null,"(SEC.)",{"$f":"'Local Controller Data - PROP'!D388","v":"-"},{"$f":"'Local Controller Data - PROP'!E388","v":"-"},{"$f":"'Local Controller Data - PROP'!F388","v":"-"},{"$f":"'Local Controller Data - PROP'!G388","v":"-"},{"$f":"'Local Controller Data - PROP'!H388","v":"-"},{"$f":"'Local Controller Data - PROP'!I388","v":"-"},{"$f":"'Local Controller Data - PROP'!J388","v":"-"},{"$f":"'Local Controller Data - PROP'!K388","v":"-"}]
["FLASHING YELLOW ARROW DELAY^",null,"(SEC.)",{"$f":"'Local Controller Data - EXIST'!D389","v":"-"},{"$f":"'Local Controller Data - EXIST'!E389","v":"-"},{"$f":"'Local Controller Data - EXIST'!F389","v":"-"},{"$f":"'Local Controller Data - EXIST'!G389","v":"-"},{"$f":"'Local Controller Data - EXIST'!H389","v":"-"},{"$f":"'Local Controller Data - EXIST'!I389","v":"-"},{"$f":"'Local Controller Data - EXIST'!J389","v":"-"},{"$f":"'Local Controller Data - EXIST'!K389","v":"-"},null,"FLASHING YELLOW ARROW DELAY^",null,"(SEC.)",{"$f":"'Local Controller Data - PROP'!D389","v":"-"},{"$f":"'Local Controller Data - PROP'!E389","v":"-"},{"$f":"'Local Controller Data - PROP'!F389","v":"-"},{"$f":"'Local Controller Data - PROP'!G389","v":"-"},{"$f":"'Local Controller Data - PROP'!H389","v":"-"},{"$f":"'Local Controller Data - PROP'!I389","v":"-"},{"$f":"'Local Controller Data - PROP'!J389","v":"-"},{"$f":"'Local Controller Data - PROP'!K389","v":"-"}]
["WALK",null,"(SEC.)",{"$f":"'Local Controller Data - EXIST'!D390","v":"-"},{"$f":"'Local Controller Data - EXIST'!E390","v":"-"},{"$f":"'Local Controller Data - EXIST'!F390","v":"-"},{"$f":"'Local Controller Data - EXIST'!G390","v":"-"},{"$f":"'Local Controller Data - EXIST'!H390","v":"-"},{"$f":"'Local Controller Data - EXIST'!I390","v":"-"},{"$f":"'Local Controller Data - EXIST'!J390","v":"-"},{"$f":"'Local Controller Data - EXIST'!K390","v":"-"},null,"WALK",null,"(SEC.)",{"$f":"'Local Controller Data - PROP'!D390","v":"-"},{"$f":"'Local Controller Data - PROP'!E390","v":"-"},{"$f":"'Local Controller Data - PROP'!F390","v":"-"},{"$f":"'Local Controller Data - PROP'!G390","v":"-"},{"$f":"'Local Controller Data - PROP'!H390","v":"-"},{"$f":"'Local Controller Data - PROP'!I390","v":"-"},{"$f":"'Local Controller Data - PROP'!J390","v":"-"},{"$f":"'Local Controller Data - PROP'!K390","v":"-"}]
["PEDESTRIAN CLEARANCE",null,"(SEC.)",{"$f":"'Local Controller Data - EXIST'!D391","v":"-"},{"$f":"'Local Controller Data - EXIST'!E391","v":"-"},{"$f":"'Local Controller Data - EXIST'!F391","v":"-"},{"$f":"'Local Controller Data - EXIST'!G391","v":"-"},{"$f":"'Local Controller Data - EXIST'!H391","v":"-"},{"$f":"'Local Controller Data - EXIST'!I391","v":"-"},{"$f":"'Local Controller Data - EXIST'!J391","v":"-"},{"$f":"'Local Controller Data - EXIST'!K391","v":"-"},null,"PEDESTRIAN CLEARANCE",null,"(SEC.)",{"$f":"'Local Controller Data - PROP'!D391","v":"-"},{"$f":"'Local Controller Data - PROP'!E391","v":"-"},{"$f":"'Local Controller Data - PROP'!F391","v":"-"},{"$f":"'Local Controller Data - PROP'!G391","v":"-"},{"$f":"'Local Controller Data - PROP'!H391","v":"-"},{"$f":"'Local Controller Data - PROP'!I391","v":"-"},{"$f":"'Local Controller Data - PROP'!J391","v":"-"},{"$f":"'Local Controller Data - PROP'!K391","v":"-"}]
["RECALL","MAXIMUM","(ON/OFF)",{"$f":"'Local Controller Data - EXIST'!D392","v":"-"},{"$f":"'Local Controller Data - EXIST'!E392","v":"-"},{"$f":"'Local Controller Data - EXIST'!F392","v":"-"},{"$f":"'Local Controller Data - EXIST'!G392","v":"-"},{"$f":"'Local Controller Data - EXIST'!H392","v":"-"},{"$f":"'Local Controller Data - EXIST'!I392","v":"-"},{"$f":"'Local Controller Data - EXIST'!J392","v":"-"},{"$f":"'Local Controller Data - EXIST'!K392","v":"-"},null,"RECALL","MAXIMUM","(ON/OFF)",{"$f":"'Local Controller Data - PROP'!D392","v":"-"},{"$f":"'Local Controller Data - PROP'!E392","v":"-"},{"$f":"'Local Controller Data - PROP'!F392","v":"-"},{"$f":"'Local Controller Data - PROP'!G392","v":"-"},{"$f":"'Local Controller Data - PROP'!H392","v":"-"},{"$f":"'Local Controller Data - PROP'!I392","v":"-"},{"$f":"'Local Controller Data - PROP'!J392","v":"-"},{"$f":"'Local Controller Data - PROP'!K392","v":"-"}]
[null,"MINIMUM","(ON/OFF)",{"$f":"'Local Controller Data - EXIST'!D393","v":"-"},{"$f":"'Local Controller Data - EXIST'!E393","v":"-"},{"$f":"'Local Controller Data - EXIST'!F393","v":"-"},{"$f":"'Local Controller Data - EXIST'!G393","v":"-"},{"$f":"'Local Controller Data - EXIST'!H393","v":"-"},{"$f":"'Local Controller Data - EXIST'!I393","v":"-"},{"$f":"'Local Controller Data - EXIST'!J393","v":"-"},{"$f":"'Local Controller Data - EXIST'!K393","v":"-"},null,null,"MINIMUM","(ON/OFF)",{"$f":"'Local Controller Data - PROP'!D393","v":"-"},{"$f":"'Local Controller Data - PROP'!E393","v":"-"},{"$f":"'Local Controller Data - PROP'!F393","v":"-"},{"$f":"'Local Controller Data - PROP'!G393","v":"-"},{"$f":"'Local Controller Data - PROP'!H393","v":"-"},{"$f":"'Local Controller Data - PROP'!I393","v":"-"},{"$f":"'Local Controller Data - PROP'!J393","v":"-"},{"$f":"'Local Controller Data - PROP'!K393","v":"-"}]
[null,"PEDESTRIAN","(ON/OFF)",{"$f":"'Local Controller Data - EXIST'!D394","v":"-"},{"$f":"'Local Controller Data - EXIST'!E394","v":"-"},{"$f":"'Local Controller Data - EXIST'!F394","v":"-"},{"$f":"'Local Controller Data - EXIST'!G394","v":"-"},{"$f":"'Local Controller Data - EXIST'!H394","v":"-"},{"$f":"'Local Controller Data - EXIST'!I394","v":"-"},{"$f":"'Local Controller Data - EXIST'!J394","v":"-"},{"$f":"'Local Controller Data - EXIST'!K394","v":"-"},null,null,"PEDESTRIAN","(ON/OFF)",{"$f":"'Local Controller Data - PROP'!D394","v":"-"},{"$f":"'Local Controller Data - PROP'!E394","v":"-"},{"$f":"'Local Controller Data - PROP'!F394","v":"-"},{"$f":"'Local Controller Data - PROP'!G394","v":"-"},{"$f":"'Local Controller Data - PROP'!H394","v":"-"},{"$f":"'Local Controller Data - PROP'!I394","v":"-"},{"$f":"'Local Controller Data - PROP'!J394","v":"-"},{"$f":"'Local Controller Data - PROP'!K394","v":"-"}]
["MEMORY    ",null,"(ON/OFF)",{"$f":"'Local Controller Data - EXIST'!D395","v":"-"},{"$f":"'Local Controller Data - EXIST'!E395","v":"-"},{"$f":"'Local Controller Data - EXIST'!F395","v":"-"},{"$f":"'Local Controller Data - EXIST'!G395","v":"-"},{"$f":"'Local Controller Data - EXIST'!H395","v":"-"},{"$f":"'Local Controller Data - EXIST'!I395","v":"-"},{"$f":"'Local Controller Data - EXIST'!J395","v":"-"},{"$f":"'Local Controller Data - EXIST'!K395","v":"-"},null,"MEMORY    ",null,"(ON/OFF)",{"$f":"'Local Controller Data - PROP'!D395","v":"-"},{"$f":"'Local Controller Data - PROP'!E395","v":"-"},{"$f":"'Local Controller Data - PROP'!F395","v":"-"},{"$f":"'Local Controller Data - PROP'!G395","v":"-"},{"$f":"'Local Controller Data - PROP'!H395","v":"-"},{"$f":"'Local Controller Data - PROP'!I395","v":"-"},{"$f":"'Local Controller Data - PROP'!J395","v":"-"},{"$f":"'Local Controller Data - PROP'!K395","v":"-"}]
["*VOLUME DENSITY CONTROLS",null,null,null,null,null,null,null,null,null,null,null,"*VOLUME DENSITY CONTROLS"]
["# FOR CROSSINGS WITH PEDESTRIAN PUSHBUTTONS, LPI'S (LEADING PEDESTRIAN INTERVALS) MAY BE IMPLEMENTED (3-6 SEC.) IN ACCORDANCE WITH LPI DURATION TIME PER THE ODOT SIGNAL CALCULATIONS - CLEARANCE INTERVALS SPREADSHEET",null,null,null,null,null,null,null,null,null,null,null,"# FOR CROSSINGS WITH PEDESTRIAN PUSHBUTTONS, LPI'S (LEADING PEDESTRIAN INTERVALS) MAY BE IMPLEMENTED (3-6 SEC.) IN ACCORDANCE WITH LPI DURATION TIME PER THE ODOT SIGNAL CALCULATIONS - CLEARANCE INTERVALS SPREADSHEET"]
["^ WHEN IMPLEMENTING FYA, A MINIMUM 3 SEC. DELAY SHALL BE PROGRAMMED PER FYA PHASE. ",null,null,null,null,null,null,null,null,null,null,null,"^ WHEN IMPLEMENTING FYA, A MINIMUM 3 SEC. DELAY SHALL BE PROGRAMMED PER FYA PHASE. "]
[]
["ECONOLITE COORD SETTINGS",null,null,"SIEMENS COORD SETTINGS",null,null,null,null,null,null,null,null,"ECONOLITE COORD SETTINGS",null,null,"SIEMENS COORD SETTINGS"]
["MANUAL PATTERN",{"$f":"'Local Controller Data - EXIST'!B403","v":"-"},null,"OPERATION",null,null,null,"-",null,null,null,null,"MANUAL PATTERN",{"$f":"'Local Controller Data - PROP'!B403","v":"-"},null,"OPERATION",null,null,null,"-"]
["SYSTEM SOURCE",{"$f":"'Local Controller Data - EXIST'!B404","v":"-"},null,"MODE (NORMAL)",null,null,null,"-",null,null,null,null,"SYSTEM SOURCE",{"$f":"'Local Controller Data - PROP'!B404","v":"-"},null,"MODE (NORMAL)",null,null,null,"-"]
["SPLITS IN",{"$f":"'Local Controller Data - EXIST'!B405","v":"-"},null,"MAXIMUM",null,null,null,"-",null,null,null,null,"SPLITS IN",{"$f":"'Local Controller Data - PROP'!B405","v":"-"},null,"MAXIMUM",null,null,null,"-"]
["TRANSITION",{"$f":"'Local Controller Data - EXIST'!B406","v":"-"},null,"CORRECTION",null,null,null,"-",null,null,null,null,"TRANSITION",{"$f":"'Local Controller Data - PROP'!B406","v":"-"},null,"CORRECTION",null,null,null,"-"]
["DWELL/ADD TIME",{"$f":"'Local Controller Data - EXIST'!B407","v":"-"},null,"OFFSET MODE",null,null,null,"-",null,null,null,null,"DWELL/ADD TIME",{"$f":"'Local Controller Data - PROP'!B407","v":"-"},null,"OFFSET MODE",null,null,null,"-"]
["OFFSET REFERENCE",{"$f":"'Local Controller Data - EXIST'!B408","v":"-"},null,"FORCE MODE",null,null,null,"-",null,null,null,null,"OFFSET REFERENCE",{"$f":"'Local Controller Data - PROP'!B408","v":"-"},null,"FORCE MODE",null,null,null,"-"]
["PED RECALL",{"$f":"'Local Controller Data - EXIST'!B409","v":"-"},null,"MAX DWELL TIME",null,null,null,"-",null,null,null,null,"PED RECALL",{"$f":"'Local Controller Data - PROP'!B409","v":"-"},null,"MAX DWELL TIME",null,null,null,"-"]
["LOCAL ZERO OVERRIDE",{"$f":"'Local Controller Data - EXIST'!B410","v":"-"},null,"YIELD PERIOD",null,null,null,"-",null,null,null,null,"LOCAL ZERO OVERRIDE",{"$f":"'Local Controller Data - PROP'!B410","v":"-"},null,"YIELD PERIOD",null,null,null,"-"]
["RE-SYNC COUNT",{"$f":"'Local Controller Data - EXIST'!B411","v":"-"},null,"MANUAL CONTROL: DIAL",null,null,null,"-",null,null,null,null,"RE-SYNC COUNT",{"$f":"'Local Controller Data - PROP'!B411","v":"-"},null,"MANUAL CONTROL: DIAL",null,null,null,"-"]
["ECPI COORD",{"$f":"'Local Controller Data - EXIST'!B412","v":"-"},null,"MANUAL CONTROL: SPLIT",null,null,null,"-",null,null,null,null,"ECPI COORD",{"$f":"'Local Controller Data - PROP'!B412","v":"-"},null,"MANUAL CONTROL: SPLIT",null,null,null,"-"]
["SYSTEM FORMAT ",{"$f":"'Local Controller Data - EXIST'!B413","v":"-"},null,"MANUAL CONTROL: OFFSET",null,null,null,"-",null,null,null,null,"SYSTEM FORMAT ",{"$f":"'Local Controller Data - PROP'!B413","v":"-"},null,"MANUAL CONTROL: OFFSET",null,null,null,"-"]
["OFFSET IN",{"$f":"'Local Controller Data - EXIST'!B414","v":"-"},null,null,null,null,null,null,null,null,null,null,"OFFSET IN",{"$f":"'Local Controller Data - PROP'!B414","v":"-"}]
["MAX SELECT",{"$f":"'Local Controller Data - EXIST'!B415","v":"-"},null,null,null,null,null,null,null,null,null,null,"MAX SELECT",{"$f":"'Local Controller Data - PROP'!B415","v":"-"}]
["FORCE OFF",{"$f":"'Local Controller Data - EXIST'!B416","v":"-"},null,null,null,null,null,null,null,null,null,null,"FORCE OFF",{"$f":"'Local Controller Data - PROP'!B416","v":"-"}]
["USE PED TIME",{"$f":"'Local Controller Data - EXIST'!B417","v":"-"},null,null,null,null,null,null,null,null,null,null,"USE PED TIME",{"$f":"'Local Controller Data - PROP'!B417","v":"-"}]
["PED RESERVICE",{"$f":"'Local Controller Data - EXIST'!B418","v":"-"},null,null,null,null,null,null,null,null,null,null,"PED RESERVICE",{"$f":"'Local Controller Data - PROP'!B418","v":"-"}]
["FO ADD INI GRN",{"$f":"'Local Controller Data - EXIST'!B419","v":"-"},null,null,null,null,null,null,null,null,null,null,"FO ADD INI GRN",{"$f":"'Local Controller Data - PROP'!B419","v":"-"}]
["MULTISYNC",{"$f":"'Local Controller Data - EXIST'!B420","v":"-"},null,null,null,null,null,null,null,"EXISTING TIMING",null,null,"MULTISYNC",{"$f":"'Local Controller Data - PROP'!B420","v":"-"},null,null,null,null,null,null,null,"PROPOSED TIMING"]
[]
[{"$f":"'Project Name'!$C$2","v":0},null,null,null,null,null,null,null,null,null,null,null,{"$f":"'Project Name'!$C$2","v":0}]
["Existing Local Controller Data",null,null,null,null,null,null,null,null,null,null,null,"Proposed Local Controller Data"]
["INTERSECTION:",null,null,null,null,null,null,null,null,null,null,null,"INTERSECTION:"]
["MAINTAINING AGENCY:",null,null,null,null,null,null,null,null,null,null,null,"MAINTAINING AGENCY:"]
["START UP",null,null,"DUAL ENTRY: ",null,"-","PHASES:",null,"-",null,null,null,"START UP",null,null,"DUAL ENTRY: ",null,"-","PHASES:",null,"-"]
[null,null,null,"REST IN RED: ",null,null,"RING 1","-",null,"RING 2","-",null,null,null,null,"REST IN RED: ",null,null,"RING 1","-",null,"RING 2","-"]
["START IN: ",{"$f":"'Local Controller Data - EXIST'!B429:C429","v":"-"},null,"OVERLAP",null,null,null,"A","B","C","D",null,"START IN: ","-",null,"OVERLAP",null,null,null,"A","B","C","D"]
["TIME FOR FLASH / ALL RED (SEC.):   ",null,"9, 6",null,null,null,null,null,null,null,null,null,"TIME FOR FLASH / ALL RED (SEC.):   ",null,"9, 6"]
["FIRST PHASE(S):",{"$f":"'Local Controller Data - EXIST'!B431:C431","v":"-"},null,"PHASES",null,null,null,{"$f":"'Local Controller Data - EXIST'!H431","v":"-"},{"$f":"'Local Controller Data - EXIST'!I431","v":"-"},{"$f":"'Local Controller Data - EXIST'!J431","v":"-"},{"$f":"'Local Controller Data - EXIST'!K431","v":"-"},null,"FIRST PHASE(S):",{"$f":"'Local Controller Data - PROP'!B431:C431","v":{"$error":"#VALUE!"}},null,"PHASES",null,null,null,{"$f":"'Local Controller Data - PROP'!H431","v":"-"},{"$f":"'Local Controller Data - PROP'!I431","v":"-"},{"$f":"'Local Controller Data - PROP'!J431","v":"-"},{"$f":"'Local Controller Data - PROP'!K431","v":"-"}]
["COLOR DISPLAYED:","-",null,null,null,null,null,null,null,null,null,null,"COLOR DISPLAYED:","-"]
["INTERVAL OR FEATURE",null,null,"CONTROLLER MOVEMENT NO.",null,null,null,null,null,null,null,null,"INTERVAL OR FEATURE",null,null,"CONTROLLER MOVEMENT NO."]
["INTERSECTION MOVEMENT (PHASE)",null,null,1,2,3,4,5,6,7,8,null,"INTERSECTION MOVEMENT (PHASE)",null,null,1,2,3,4,5,6,7,8]
["DIRECTION",null,null,{"$f":"'Local Controller Data - EXIST'!D436","v":"-"},{"$f":"'Local Controller Data - EXIST'!E436","v":"-"},{"$f":"'Local Controller Data - EXIST'!F436","v":"-"},{"$f":"'Local Controller Data - EXIST'!G436","v":"-"},{"$f":"'Local Controller Data - EXIST'!H436","v":"-"},{"$f":"'Local Controller Data - EXIST'!I436","v":"-"},{"$f":"'Local Controller Data - EXIST'!J436","v":"-"},{"$f":"'Local Controller Data - EXIST'!K436","v":"-"},null,"DIRECTION",null,null,{"$f":"'Local Controller Data - PROP'!D436","v":"-"},{"$f":"'Local Controller Data - PROP'!E436","v":"-"},{"$f":"'Local Controller Data - PROP'!F436","v":"-"},{"$f":"'Local Controller Data - PROP'!G436","v":"-"},{"$f":"'Local Controller Data - PROP'!H436","v":"-"},{"$f":"'Local Controller Data - PROP'!I436","v":"-"},{"$f":"'Local Controller Data - PROP'!J436","v":"-"},{"$f":"'Local Controller Data - PROP'!K436","v":"-"}]
["MINIMUM GREEN (INITIAL) ",null,"(SEC.)",{"$f":"'Local Controller Data - EXIST'!D437","v":"-"},{"$f":"'Local Controller Data - EXIST'!E437","v":"-"},{"$f":"'Local Controller Data - EXIST'!F437","v":"-"},{"$f":"'Local Controller Data - EXIST'!G437","v":"-"},{"$f":"'Local Controller Data - EXIST'!H437","v":"-"},{"$f":"'Local Controller Data - EXIST'!I437","v":"-"},{"$f":"'Local Controller Data - EXIST'!J437","v":"-"},{"$f":"'Local Controller Data - EXIST'!K437","v":"-"},null,"MINIMUM GREEN (INITIAL) ",null,"(SEC.)",{"$f":"'Local Controller Data - PROP'!D437","v":"-"},{"$f":"'Local Controller Data - PROP'!E437","v":"-"},{"$f":"'Local Controller Data - PROP'!F437","v":"-"},{"$f":"'Local Controller Data - PROP'!G437","v":"-"},{"$f":"'Local Controller Data - PROP'!H437","v":"-"},{"$f":"'Local Controller Data - PROP'!I437","v":"-"},{"$f":"'Local Controller Data - PROP'!J437","v":"-"},{"$f":"'Local Controller Data - PROP'!K437","v":"-"}]
["ADDED INITIAL","*(SEC./ACTUATION)",null,{"$f":"'Local Controller Data - EXIST'!D438","v":"-"},{"$f":"'Local Controller Data - EXIST'!E438","v":"-"},{"$f":"'Local Controller Data - EXIST'!F438","v":"-"},{"$f":"'Local Controller Data - EXIST'!G438","v":"-"},{"$f":"'Local Controller Data - EXIST'!H438","v":"-"},{"$f":"'Local Controller Data - EXIST'!I438","v":"-"},{"$f":"'Local Controller Data - EXIST'!J438","v":"-"},{"$f":"'Local Controller Data - EXIST'!K438","v":"-"},null,"ADDED INITIAL","*(SEC./ACTUATION)",null,{"$f":"'Local Controller Data - PROP'!D438","v":"-"},{"$f":"'Local Controller Data - PROP'!E438","v":"-"},{"$f":"'Local Controller Data - PROP'!F438","v":"-"},{"$f":"'Local Controller Data - PROP'!G438","v":"-"},{"$f":"'Local Controller Data - PROP'!H438","v":"-"},{"$f":"'Local Controller Data - PROP'!I438","v":"-"},{"$f":"'Local Controller Data - PROP'!J438","v":"-"},{"$f":"'Local Controller Data - PROP'!K438","v":"-"}]
["MAXIMUM INITIAL",null,"*(SEC.)",{"$f":"'Local Controller Data - EXIST'!D439","v":"-"},{"$f":"'Local Controller Data - EXIST'!E439","v":"-"},{"$f":"'Local Controller Data - EXIST'!F439","v":"-"},{"$f":"'Local Controller Data - EXIST'!G439","v":"-"},{"$f":"'Local Controller Data - EXIST'!H439","v":"-"},{"$f":"'Local Controller Data - EXIST'!I439","v":"-"},{"$f":"'Local Controller Data - EXIST'!J439","v":"-"},{"$f":"'Local Controller Data - EXIST'!K439","v":"-"},null,"MAXIMUM INITIAL",null,"*(SEC.)",{"$f":"'Local Controller Data - PROP'!D439","v":"-"},{"$f":"'Local Controller Data - PROP'!E439","v":"-"},{"$f":"'Local Controller Data - PROP'!F439","v":"-"},{"$f":"'Local Controller Data - PROP'!G439","v":"-"},{"$f":"'Local Controller Data - PROP'!H439","v":"-"},{"$f":"'Local Controller Data - PROP'!I439","v":"-"},{"$f":"'Local Controller Data - PROP'!J439","v":"-"},{"$f":"'Local Controller Data - PROP'!K439","v":"-"}]
["PASSAGE TIME (PRESET GAP)",null,"(SEC.)",{"$f":"'Local Controller Data - EXIST'!D440","v":"-"},{"$f":"'Local Controller Data - EXIST'!E440","v":"-"},{"$f":"'Local Controller Data - EXIST'!F440","v":"-"},{"$f":"'Local Controller Data - EXIST'!G440","v":"-"},{"$f":"'Local Controller Data - EXIST'!H440","v":"-"},{"$f":"'Local Controller Data - EXIST'!I440","v":"-"},{"$f":"'Local Controller Data - EXIST'!J440","v":"-"},{"$f":"'Local Controller Data - EXIST'!K440","v":"-"},null,"PASSAGE TIME (PRESET GAP)",null,"(SEC.)",{"$f":"'Local Controller Data - PROP'!D440","v":"-"},{"$f":"'Local Controller Data - PROP'!E440","v":"-"},{"$f":"'Local Controller Data - PROP'!F440","v":"-"},{"$f":"'Local Controller Data - PROP'!G440","v":"-"},{"$f":"'Local Controller Data - PROP'!H440","v":"-"},{"$f":"'Local Controller Data - PROP'!I440","v":"-"},{"$f":"'Local Controller Data - PROP'!J440","v":"-"},{"$f":"'Local Controller Data - PROP'!K440","v":"-"}]
["TIME BEFORE REDUCTION",null,"*(SEC.)",{"$f":"'Local Controller Data - EXIST'!D441","v":"-"},{"$f":"'Local Controller Data - EXIST'!E441","v":"-"},{"$f":"'Local Controller Data - EXIST'!F441","v":"-"},{"$f":"'Local Controller Data - EXIST'!G441","v":"-"},{"$f":"'Local Controller Data - EXIST'!H441","v":"-"},{"$f":"'Local Controller Data - EXIST'!I441","v":"-"},{"$f":"'Local Controller Data - EXIST'!J441","v":"-"},{"$f":"'Local Controller Data - EXIST'!K441","v":"-"},null,"TIME BEFORE REDUCTION",null,"*(SEC.)",{"$f":"'Local Controller Data - PROP'!D441","v":"-"},{"$f":"'Local Controller Data - PROP'!E441","v":"-"},{"$f":"'Local Controller Data - PROP'!F441","v":"-"},{"$f":"'Local Controller Data - PROP'!G441","v":"-"},{"$f":"'Local Controller Data - PROP'!H441","v":"-"},{"$f":"'Local Controller Data - PROP'!I441","v":"-"},{"$f":"'Local Controller Data - PROP'!J441","v":"-"},{"$f":"'Local Controller Data - PROP'!K441","v":"-"}]
["MINIMUM GAP",null,"*(SEC.)",{"$f":"'Local Controller Data - EXIST'!D442","v":"-"},{"$f":"'Local Controller Data - EXIST'!E442","v":"-"},{"$f":"'Local Controller Data - EXIST'!F442","v":"-"},{"$f":"'Local Controller Data - EXIST'!G442","v":"-"},{"$f":"'Local Controller Data - EXIST'!H442","v":"-"},{"$f":"'Local Controller Data - EXIST'!I442","v":"-"},{"$f":"'Local Controller Data - EXIST'!J442","v":"-"},{"$f":"'Local Controller Data - EXIST'!K442","v":"-"},null,"MINIMUM GAP",null,"*(SEC.)",{"$f":"'Local Controller Data - PROP'!D442","v":"-"},{"$f":"'Local Controller Data - PROP'!E442","v":"-"},{"$f":"'Local Controller Data - PROP'!F442","v":"-"},{"$f":"'Local Controller Data - PROP'!G442","v":"-"},{"$f":"'Local Controller Data - PROP'!H442","v":"-"},{"$f":"'Local Controller Data - PROP'!I442","v":"-"},{"$f":"'Local Controller Data - PROP'!J442","v":"-"},{"$f":"'Local Controller Data - PROP'!K442","v":"-"}]
["TIME TO REDUCE",null,"*(SEC.)",{"$f":"'Local Controller Data - EXIST'!D443","v":"-"},{"$f":"'Local Controller Data - EXIST'!E443","v":"-"},{"$f":"'Local Controller Data - EXIST'!F443","v":"-"},{"$f":"'Local Controller Data - EXIST'!G443","v":"-"},{"$f":"'Local Controller Data - EXIST'!H443","v":"-"},{"$f":"'Local Controller Data - EXIST'!I443","v":"-"},{"$f":"'Local Controller Data - EXIST'!J443","v":"-"},{"$f":"'Local Controller Data - EXIST'!K443","v":"-"},null,"TIME TO REDUCE",null,"*(SEC.)",{"$f":"'Local Controller Data - PROP'!D443","v":"-"},{"$f":"'Local Controller Data - PROP'!E443","v":"-"},{"$f":"'Local Controller Data - PROP'!F443","v":"-"},{"$f":"'Local Controller Data - PROP'!G443","v":"-"},{"$f":"'Local Controller Data - PROP'!H443","v":"-"},{"$f":"'Local Controller Data - PROP'!I443","v":"-"},{"$f":"'Local Controller Data - PROP'!J443","v":"-"},{"$f":"'Local Controller Data - PROP'!K443","v":"-"}]
["MAXIMUM GREEN I",null,"(SEC.)",{"$f":"'Local Controller Data - EXIST'!D444","v":"-"},{"$f":"'Local Controller Data - EXIST'!E444","v":"-"},{"$f":"'Local Controller Data - EXIST'!F444","v":"-"},{"$f":"'Local Controller Data - EXIST'!G444","v":"-"},{"$f":"'Local Controller Data - EXIST'!H444","v":"-"},{"$f":"'Local Controller Data - EXIST'!I444","v":"-"},{"$f":"'Local Controller Data - EXIST'!J444","v":"-"},{"$f":"'Local Controller Data - EXIST'!K444","v":"-"},null,"MAXIMUM GREEN I",null,"(SEC.)",{"$f":"'Local Controller Data - PROP'!D444","v":"-"},{"$f":"'Local Controller Data - PROP'!E444","v":"-"},{"$f":"'Local Controller Data - PROP'!F444","v":"-"},{"$f":"'Local Controller Data - PROP'!G444","v":"-"},{"$f":"'Local Controller Data - PROP'!H444","v":"-"},{"$f":"'Local Controller Data - PROP'!I444","v":"-"},{"$f":"'Local Controller Data - PROP'!J444","v":"-"},{"$f":"'Local Controller Data - PROP'!K444","v":"-"}]
["MAXIMUM GREEN II",null,"(SEC.)",{"$f":"'Local Controller Data - EXIST'!D445","v":"-"},{"$f":"'Local Controller Data - EXIST'!E445","v":"-"},{"$f":"'Local Controller Data - EXIST'!F445","v":"-"},{"$f":"'Local Controller Data - EXIST'!G445","v":"-"},{"$f":"'Local Controller Data - EXIST'!H445","v":"-"},{"$f":"'Local Controller Data - EXIST'!I445","v":"-"},{"$f":"'Local Controller Data - EXIST'!J445","v":"-"},{"$f":"'Local Controller Data - EXIST'!K445","v":"-"},null,"MAXIMUM GREEN II",null,"(SEC.)",{"$f":"'Local Controller Data - PROP'!D445","v":"-"},{"$f":"'Local Controller Data - PROP'!E445","v":"-"},{"$f":"'Local Controller Data - PROP'!F445","v":"-"},{"$f":"'Local Controller Data - PROP'!G445","v":"-"},{"$f":"'Local Controller Data - PROP'!H445","v":"-"},{"$f":"'Local Controller Data - PROP'!I445","v":"-"},{"$f":"'Local Controller Data - PROP'!J445","v":"-"},{"$f":"'Local Controller Data - PROP'!K445","v":"-"}]
["YELLOW CHANGE",null,"(SEC.)",{"$f":"'Local Controller Data - EXIST'!D446","v":"-"},{"$f":"'Local Controller Data - EXIST'!E446","v":"-"},{"$f":"'Local Controller Data - EXIST'!F446","v":"-"},{"$f":"'Local Controller Data - EXIST'!G446","v":"-"},{"$f":"'Local Controller Data - EXIST'!H446","v":"-"},{"$f":"'Local Controller Data - EXIST'!I446","v":"-"},{"$f":"'Local Controller Data - EXIST'!J446","v":"-"},{"$f":"'Local Controller Data - EXIST'!K446","v":"-"},null,"YELLOW CHANGE",null,"(SEC.)",{"$f":"'Local Controller Data - PROP'!D446","v":"-"},{"$f":"'Local Controller Data - PROP'!E446","v":"-"},{"$f":"'Local Controller Data - PROP'!F446","v":"-"},{"$f":"'Local Controller Data - PROP'!G446","v":"-"},{"$f":"'Local Controller Data - PROP'!H446","v":"-"},{"$f":"'Local Controller Data - PROP'!I446","v":"-"},{"$f":"'Local Controller Data - PROP'!J446","v":"-"},{"$f":"'Local Controller Data - PROP'!K446","v":"-"}]
["ALL RED CLEARANCE",null,"(SEC.)",{"$f":"'Local Controller Data - EXIST'!D447","v":"-"},{"$f":"'Local Controller Data - EXIST'!E447","v":"-"},{"$f":"'Local Controller Data - EXIST'!F447","v":"-"},{"$f":"'Local Controller Data - EXIST'!G447","v":"-"},{"$f":"'Local Controller Data - EXIST'!H447","v":"-"},{"$f":"'Local Controller Data - EXIST'!I447","v":"-"},{"$f":"'Local Controller Data - EXIST'!J447","v":"-"},{"$f":"'Local Controller Data - EXIST'!K447","v":"-"},null,"ALL RED CLEARANCE",null,"(SEC.)",{"$f":"'Local Controller Data - PROP'!D447","v":"-"},{"$f":"'Local Controller Data - PROP'!E447","v":"-"},{"$f":"'Local Controller Data - PROP'!F447","v":"-"},{"$f":"'Local Controller Data - PROP'!G447","v":"-"},{"$f":"'Local Controller Data - PROP'!H447","v":"-"},{"$f":"'Local Controller Data - PROP'!I447","v":"-"},{"$f":"'Local Controller Data - PROP'!J447","v":"-"},{"$f":"'Local Controller Data - PROP'!K447","v":"-"}]
["DELAYED GREEN (LPI) #",null,"(SEC.)",{"$f":"'Local Controller Data - EXIST'!D448","v":"-"},{"$f":"'Local Controller Data - EXIST'!E448","v":"-"},{"$f":"'Local Controller Data - EXIST'!F448","v":"-"},{"$f":"'Local Controller Data - EXIST'!G448","v":"-"},{"$f":"'Local Controller Data - EXIST'!H448","v":"-"},{"$f":"'Local Controller Data - EXIST'!I448","v":"-"},{"$f":"'Local Controller Data - EXIST'!J448","v":"-"},{"$f":"'Local Controller Data - EXIST'!K448","v":"-"},null,"DELAYED GREEN (LPI) #",null,"(SEC.)",{"$f":"'Local Controller Data - PROP'!D448","v":"-"},{"$f":"'Local Controller Data - PROP'!E448","v":"-"},{"$f":"'Local Controller Data - PROP'!F448","v":"-"},{"$f":"'Local Controller Data - PROP'!G448","v":"-"},{"$f":"'Local Controller Data - PROP'!H448","v":"-"},{"$f":"'Local Controller Data - PROP'!I448","v":"-"},{"$f":"'Local Controller Data - PROP'!J448","v":"-"},{"$f":"'Local Controller Data - PROP'!K448","v":"-"}]
["FLASHING YELLOW ARROW DELAY^",null,"(SEC.)",{"$f":"'Local Controller Data - EXIST'!D449","v":"-"},{"$f":"'Local Controller Data - EXIST'!E449","v":"-"},{"$f":"'Local Controller Data - EXIST'!F449","v":"-"},{"$f":"'Local Controller Data - EXIST'!G449","v":"-"},{"$f":"'Local Controller Data - EXIST'!H449","v":"-"},{"$f":"'Local Controller Data - EXIST'!I449","v":"-"},{"$f":"'Local Controller Data - EXIST'!J449","v":"-"},{"$f":"'Local Controller Data - EXIST'!K449","v":"-"},null,"FLASHING YELLOW ARROW DELAY^",null,"(SEC.)",{"$f":"'Local Controller Data - PROP'!D449","v":"-"},{"$f":"'Local Controller Data - PROP'!E449","v":"-"},{"$f":"'Local Controller Data - PROP'!F449","v":"-"},{"$f":"'Local Controller Data - PROP'!G449","v":"-"},{"$f":"'Local Controller Data - PROP'!H449","v":"-"},{"$f":"'Local Controller Data - PROP'!I449","v":"-"},{"$f":"'Local Controller Data - PROP'!J449","v":"-"},{"$f":"'Local Controller Data - PROP'!K449","v":"-"}]
["WALK",null,"(SEC.)",{"$f":"'Local Controller Data - EXIST'!D450","v":"-"},{"$f":"'Local Controller Data - EXIST'!E450","v":"-"},{"$f":"'Local Controller Data - EXIST'!F450","v":"-"},{"$f":"'Local Controller Data - EXIST'!G450","v":"-"},{"$f":"'Local Controller Data - EXIST'!H450","v":"-"},{"$f":"'Local Controller Data - EXIST'!I450","v":"-"},{"$f":"'Local Controller Data - EXIST'!J450","v":"-"},{"$f":"'Local Controller Data - EXIST'!K450","v":"-"},null,"WALK",null,"(SEC.)",{"$f":"'Local Controller Data - PROP'!D450","v":"-"},{"$f":"'Local Controller Data - PROP'!E450","v":"-"},{"$f":"'Local Controller Data - PROP'!F450","v":"-"},{"$f":"'Local Controller Data - PROP'!G450","v":"-"},{"$f":"'Local Controller Data - PROP'!H450","v":"-"},{"$f":"'Local Controller Data - PROP'!I450","v":"-"},{"$f":"'Local Controller Data - PROP'!J450","v":"-"},{"$f":"'Local Controller Data - PROP'!K450","v":"-"}]
["PEDESTRIAN CLEARANCE",null,"(SEC.)",{"$f":"'Local Controller Data - EXIST'!D451","v":"-"},{"$f":"'Local Controller Data - EXIST'!E451","v":"-"},{"$f":"'Local Controller Data - EXIST'!F451","v":"-"},{"$f":"'Local Controller Data - EXIST'!G451","v":"-"},{"$f":"'Local Controller Data - EXIST'!H451","v":"-"},{"$f":"'Local Controller Data - EXIST'!I451","v":"-"},{"$f":"'Local Controller Data - EXIST'!J451","v":"-"},{"$f":"'Local Controller Data - EXIST'!K451","v":"-"},null,"PEDESTRIAN CLEARANCE",null,"(SEC.)",{"$f":"'Local Controller Data - PROP'!D451","v":"-"},{"$f":"'Local Controller Data - PROP'!E451","v":"-"},{"$f":"'Local Controller Data - PROP'!F451","v":"-"},{"$f":"'Local Controller Data - PROP'!G451","v":"-"},{"$f":"'Local Controller Data - PROP'!H451","v":"-"},{"$f":"'Local Controller Data - PROP'!I451","v":"-"},{"$f":"'Local Controller Data - PROP'!J451","v":"-"},{"$f":"'Local Controller Data - PROP'!K451","v":"-"}]
["RECALL","MAXIMUM","(ON/OFF)",{"$f":"'Local Controller Data - EXIST'!D452","v":"-"},{"$f":"'Local Controller Data - EXIST'!E452","v":"-"},{"$f":"'Local Controller Data - EXIST'!F452","v":"-"},{"$f":"'Local Controller Data - EXIST'!G452","v":"-"},{"$f":"'Local Controller Data - EXIST'!H452","v":"-"},{"$f":"'Local Controller Data - EXIST'!I452","v":"-"},{"$f":"'Local Controller Data - EXIST'!J452","v":"-"},{"$f":"'Local Controller Data - EXIST'!K452","v":"-"},null,"RECALL","MAXIMUM","(ON/OFF)",{"$f":"'Local Controller Data - PROP'!D452","v":"-"},{"$f":"'Local Controller Data - PROP'!E452","v":"-"},{"$f":"'Local Controller Data - PROP'!F452","v":"-"},{"$f":"'Local Controller Data - PROP'!G452","v":"-"},{"$f":"'Local Controller Data - PROP'!H452","v":"-"},{"$f":"'Local Controller Data - PROP'!I452","v":"-"},{"$f":"'Local Controller Data - PROP'!J452","v":"-"},{"$f":"'Local Controller Data - PROP'!K452","v":"-"}]
[null,"MINIMUM","(ON/OFF)",{"$f":"'Local Controller Data - EXIST'!D453","v":"-"},{"$f":"'Local Controller Data - EXIST'!E453","v":"-"},{"$f":"'Local Controller Data - EXIST'!F453","v":"-"},{"$f":"'Local Controller Data - EXIST'!G453","v":"-"},{"$f":"'Local Controller Data - EXIST'!H453","v":"-"},{"$f":"'Local Controller Data - EXIST'!I453","v":"-"},{"$f":"'Local Controller Data - EXIST'!J453","v":"-"},{"$f":"'Local Controller Data - EXIST'!K453","v":"-"},null,null,"MINIMUM","(ON/OFF)",{"$f":"'Local Controller Data - PROP'!D453","v":"-"},{"$f":"'Local Controller Data - PROP'!E453","v":"-"},{"$f":"'Local Controller Data - PROP'!F453","v":"-"},{"$f":"'Local Controller Data - PROP'!G453","v":"-"},{"$f":"'Local Controller Data - PROP'!H453","v":"-"},{"$f":"'Local Controller Data - PROP'!I453","v":"-"},{"$f":"'Local Controller Data - PROP'!J453","v":"-"},{"$f":"'Local Controller Data - PROP'!K453","v":"-"}]
[null,"PEDESTRIAN","(ON/OFF)",{"$f":"'Local Controller Data - EXIST'!D454","v":"-"},{"$f":"'Local Controller Data - EXIST'!E454","v":"-"},{"$f":"'Local Controller Data - EXIST'!F454","v":"-"},{"$f":"'Local Controller Data - EXIST'!G454","v":"-"},{"$f":"'Local Controller Data - EXIST'!H454","v":"-"},{"$f":"'Local Controller Data - EXIST'!I454","v":"-"},{"$f":"'Local Controller Data - EXIST'!J454","v":"-"},{"$f":"'Local Controller Data - EXIST'!K454","v":"-"},null,null,"PEDESTRIAN","(ON/OFF)",{"$f":"'Local Controller Data - PROP'!D454","v":"-"},{"$f":"'Local Controller Data - PROP'!E454","v":"-"},{"$f":"'Local Controller Data - PROP'!F454","v":"-"},{"$f":"'Local Controller Data - PROP'!G454","v":"-"},{"$f":"'Local Controller Data - PROP'!H454","v":"-"},{"$f":"'Local Controller Data - PROP'!I454","v":"-"},{"$f":"'Local Controller Data - PROP'!J454","v":"-"},{"$f":"'Local Controller Data - PROP'!K454","v":"-"}]
["MEMORY    ",null,"(ON/OFF)",{"$f":"'Local Controller Data - EXIST'!D455","v":"-"},{"$f":"'Local Controller Data - EXIST'!E455","v":"-"},{"$f":"'Local Controller Data - EXIST'!F455","v":"-"},{"$f":"'Local Controller Data - EXIST'!G455","v":"-"},{"$f":"'Local Controller Data - EXIST'!H455","v":"-"},{"$f":"'Local Controller Data - EXIST'!I455","v":"-"},{"$f":"'Local Controller Data - EXIST'!J455","v":"-"},{"$f":"'Local Controller Data - EXIST'!K455","v":"-"},null,"MEMORY    ",null,"(ON/OFF)",{"$f":"'Local Controller Data - PROP'!D455","v":"-"},{"$f":"'Local Controller Data - PROP'!E455","v":"-"},{"$f":"'Local Controller Data - PROP'!F455","v":"-"},{"$f":"'Local Controller Data - PROP'!G455","v":"-"},{"$f":"'Local Controller Data - PROP'!H455","v":"-"},{"$f":"'Local Controller Data - PROP'!I455","v":"-"},{"$f":"'Local Controller Data - PROP'!J455","v":"-"},{"$f":"'Local Controller Data - PROP'!K455","v":"-"}]
["*VOLUME DENSITY CONTROLS",null,null,null,null,null,null,null,null,null,null,null,"*VOLUME DENSITY CONTROLS"]
["# FOR CROSSINGS WITH PEDESTRIAN PUSHBUTTONS, LPI'S (LEADING PEDESTRIAN INTERVALS) MAY BE IMPLEMENTED (3-6 SEC.) IN ACCORDANCE WITH LPI DURATION TIME PER THE ODOT SIGNAL CALCULATIONS - CLEARANCE INTERVALS SPREADSHEET",null,null,null,null,null,null,null,null,null,null,null,"# FOR CROSSINGS WITH PEDESTRIAN PUSHBUTTONS, LPI'S (LEADING PEDESTRIAN INTERVALS) MAY BE IMPLEMENTED (3-6 SEC.) IN ACCORDANCE WITH LPI DURATION TIME PER THE ODOT SIGNAL CALCULATIONS - CLEARANCE INTERVALS SPREADSHEET"]
["^ WHEN IMPLEMENTING FYA, A MINIMUM 3 SEC. DELAY SHALL BE PROGRAMMED PER FYA PHASE. ",null,null,null,null,null,null,null,null,null,null,null,"^ WHEN IMPLEMENTING FYA, A MINIMUM 3 SEC. DELAY SHALL BE PROGRAMMED PER FYA PHASE. "]
[]
["ECONOLITE COORD SETTINGS",null,null,"SIEMENS COORD SETTINGS",null,null,null,null,null,null,null,null,"ECONOLITE COORD SETTINGS",null,null,"SIEMENS COORD SETTINGS"]
["MANUAL PATTERN",{"$f":"'Local Controller Data - EXIST'!B463","v":"-"},null,"OPERATION",null,null,null,"-",null,null,null,null,"MANUAL PATTERN",{"$f":"'Local Controller Data - PROP'!B463","v":"-"},null,"OPERATION",null,null,null,"-"]
["SYSTEM SOURCE",{"$f":"'Local Controller Data - EXIST'!B464","v":"-"},null,"MODE (NORMAL)",null,null,null,"-",null,null,null,null,"SYSTEM SOURCE",{"$f":"'Local Controller Data - PROP'!B464","v":"-"},null,"MODE (NORMAL)",null,null,null,"-"]
["SPLITS IN",{"$f":"'Local Controller Data - EXIST'!B465","v":"-"},null,"MAXIMUM",null,null,null,"-",null,null,null,null,"SPLITS IN",{"$f":"'Local Controller Data - PROP'!B465","v":"-"},null,"MAXIMUM",null,null,null,"-"]
["TRANSITION",{"$f":"'Local Controller Data - EXIST'!B466","v":"-"},null,"CORRECTION",null,null,null,"-",null,null,null,null,"TRANSITION",{"$f":"'Local Controller Data - PROP'!B466","v":"-"},null,"CORRECTION",null,null,null,"-"]
["DWELL/ADD TIME",{"$f":"'Local Controller Data - EXIST'!B467","v":"-"},null,"OFFSET MODE",null,null,null,"-",null,null,null,null,"DWELL/ADD TIME",{"$f":"'Local Controller Data - PROP'!B467","v":"-"},null,"OFFSET MODE",null,null,null,"-"]
["OFFSET REFERENCE",{"$f":"'Local Controller Data - EXIST'!B468","v":"-"},null,"FORCE MODE",null,null,null,"-",null,null,null,null,"OFFSET REFERENCE",{"$f":"'Local Controller Data - PROP'!B468","v":"-"},null,"FORCE MODE",null,null,null,"-"]
["PED RECALL",{"$f":"'Local Controller Data - EXIST'!B469","v":"-"},null,"MAX DWELL TIME",null,null,null,"-",null,null,null,null,"PED RECALL",{"$f":"'Local Controller Data - PROP'!B469","v":"-"},null,"MAX DWELL TIME",null,null,null,"-"]
["LOCAL ZERO OVERRIDE",{"$f":"'Local Controller Data - EXIST'!B470","v":"-"},null,"YIELD PERIOD",null,null,null,"-",null,null,null,null,"LOCAL ZERO OVERRIDE",{"$f":"'Local Controller Data - PROP'!B470","v":"-"},null,"YIELD PERIOD",null,null,null,"-"]
["RE-SYNC COUNT",{"$f":"'Local Controller Data - EXIST'!B471","v":"-"},null,"MANUAL CONTROL: DIAL",null,null,null,"-",null,null,null,null,"RE-SYNC COUNT",{"$f":"'Local Controller Data - PROP'!B471","v":"-"},null,"MANUAL CONTROL: DIAL",null,null,null,"-"]
["ECPI COORD",{"$f":"'Local Controller Data - EXIST'!B472","v":"-"},null,"MANUAL CONTROL: SPLIT",null,null,null,"-",null,null,null,null,"ECPI COORD",{"$f":"'Local Controller Data - PROP'!B472","v":"-"},null,"MANUAL CONTROL: SPLIT",null,null,null,"-"]
["SYSTEM FORMAT ",{"$f":"'Local Controller Data - EXIST'!B473","v":"-"},null,"MANUAL CONTROL: OFFSET",null,null,null,"-",null,null,null,null,"SYSTEM FORMAT ",{"$f":"'Local Controller Data - PROP'!B473","v":"-"},null,"MANUAL CONTROL: OFFSET",null,null,null,"-"]
["OFFSET IN",{"$f":"'Local Controller Data - EXIST'!B474","v":"-"},null,null,null,null,null,null,null,null,null,null,"OFFSET IN",{"$f":"'Local Controller Data - PROP'!B474","v":"-"}]
["MAX SELECT",{"$f":"'Local Controller Data - EXIST'!B475","v":"-"},null,null,null,null,null,null,null,null,null,null,"MAX SELECT",{"$f":"'Local Controller Data - PROP'!B475","v":"-"}]
["FORCE OFF",{"$f":"'Local Controller Data - EXIST'!B476","v":"-"},null,null,null,null,null,null,null,null,null,null,"FORCE OFF",{"$f":"'Local Controller Data - PROP'!B476","v":"-"}]
["USE PED TIME",{"$f":"'Local Controller Data - EXIST'!B477","v":"-"},null,null,null,null,null,null,null,null,null,null,"USE PED TIME",{"$f":"'Local Controller Data - PROP'!B477","v":"-"}]
["PED RESERVICE",{"$f":"'Local Controller Data - EXIST'!B478","v":"-"},null,null,null,null,null,null,null,null,null,null,"PED RESERVICE",{"$f":"'Local Controller Data - PROP'!B478","v":"-"}]
["FO ADD INI GRN",{"$f":"'Local Controller Data - EXIST'!B479","v":"-"},null,null,null,null,null,null,null,null,null,null,"FO ADD INI GRN",{"$f":"'Local Controller Data - PROP'!B479","v":"-"}]
["MULTISYNC",{"$f":"'Local Controller Data - EXIST'!B480","v":"-"},null,null,null,null,null,null,null,"EXISTING TIMING",null,null,"MULTISYNC",{"$f":"'Local Controller Data - PROP'!B480","v":"-"},null,null,null,null,null,null,null,"PROPOSED TIMING"]
[]
[{"$f":"'Project Name'!$C$2","v":0},null,null,null,null,null,null,null,null,null,null,null,{"$f":"'Project Name'!$C$2","v":0}]
["Existing Local Controller Data",null,null,null,null,null,null,null,null,null,null,null,"Proposed Local Controller Data"]
["INTERSECTION:",null,null,null,null,null,null,null,null,null,null,null,"INTERSECTION:"]
["MAINTAINING AGENCY:",null,null,null,null,null,null,null,null,null,null,null,"MAINTAINING AGENCY:"]
["START UP",null,null,"DUAL ENTRY: ",null,"-","PHASES:",null,"-",null,null,null,"START UP",null,null,"DUAL ENTRY: ",null,"-","PHASES:",null,"-"]
[null,null,null,"REST IN RED: ",null,null,"RING 1","-",null,"RING 2","-",null,null,null,null,"REST IN RED: ",null,null,"RING 1","-",null,"RING 2","-"]
["START IN: ",{"$f":"'Local Controller Data - EXIST'!B489:C489","v":"-"},null,"OVERLAP",null,null,null,"A","B","C","D",null,"START IN: ","-",null,"OVERLAP",null,null,null,"A","B","C","D"]
["TIME FOR FLASH / ALL RED (SEC.):   ",null,"9, 6",null,null,null,null,null,null,null,null,null,"TIME FOR FLASH / ALL RED (SEC.):   ",null,"9, 6"]
["FIRST PHASE(S):",{"$f":"'Local Controller Data - EXIST'!B491:C491","v":"-"},null,"PHASES",null,null,null,{"$f":"'Local Controller Data - EXIST'!H491","v":"-"},{"$f":"'Local Controller Data - EXIST'!I491","v":"-"},{"$f":"'Local Controller Data - EXIST'!J491","v":"-"},{"$f":"'Local Controller Data - EXIST'!K491","v":"-"},null,"FIRST PHASE(S):",{"$f":"'Local Controller Data - PROP'!B491:C491","v":{"$error":"#VALUE!"}},null,"PHASES",null,null,null,{"$f":"'Local Controller Data - PROP'!H491","v":"-"},{"$f":"'Local Controller Data - PROP'!I491","v":"-"},{"$f":"'Local Controller Data - PROP'!J491","v":"-"},{"$f":"'Local Controller Data - PROP'!K491","v":"-"}]
["COLOR DISPLAYED:","-",null,null,null,null,null,null,null,null,null,null,"COLOR DISPLAYED:","-"]
["INTERVAL OR FEATURE",null,null,"CONTROLLER MOVEMENT NO.",null,null,null,null,null,null,null,null,"INTERVAL OR FEATURE",null,null,"CONTROLLER MOVEMENT NO."]
["INTERSECTION MOVEMENT (PHASE)",null,null,1,2,3,4,5,6,7,8,null,"INTERSECTION MOVEMENT (PHASE)",null,null,1,2,3,4,5,6,7,8]
["DIRECTION",null,null,{"$f":"'Local Controller Data - EXIST'!D496","v":"-"},{"$f":"'Local Controller Data - EXIST'!E496","v":"-"},{"$f":"'Local Controller Data - EXIST'!F496","v":"-"},{"$f":"'Local Controller Data - EXIST'!G496","v":"-"},{"$f":"'Local Controller Data - EXIST'!H496","v":"-"},{"$f":"'Local Controller Data - EXIST'!I496","v":"-"},{"$f":"'Local Controller Data - EXIST'!J496","v":"-"},{"$f":"'Local Controller Data - EXIST'!K496","v":"-"},null,"DIRECTION",null,null,{"$f":"'Local Controller Data - PROP'!D496","v":"-"},{"$f":"'Local Controller Data - PROP'!E496","v":"-"},{"$f":"'Local Controller Data - PROP'!F496","v":"-"},{"$f":"'Local Controller Data - PROP'!G496","v":"-"},{"$f":"'Local Controller Data - PROP'!H496","v":"-"},{"$f":"'Local Controller Data - PROP'!I496","v":"-"},{"$f":"'Local Controller Data - PROP'!J496","v":"-"},{"$f":"'Local Controller Data - PROP'!K496","v":"-"}]
["MINIMUM GREEN (INITIAL) ",null,"(SEC.)",{"$f":"'Local Controller Data - EXIST'!D497","v":"-"},{"$f":"'Local Controller Data - EXIST'!E497","v":"-"},{"$f":"'Local Controller Data - EXIST'!F497","v":"-"},{"$f":"'Local Controller Data - EXIST'!G497","v":"-"},{"$f":"'Local Controller Data - EXIST'!H497","v":"-"},{"$f":"'Local Controller Data - EXIST'!I497","v":"-"},{"$f":"'Local Controller Data - EXIST'!J497","v":"-"},{"$f":"'Local Controller Data - EXIST'!K497","v":"-"},null,"MINIMUM GREEN (INITIAL) ",null,"(SEC.)",{"$f":"'Local Controller Data - PROP'!D497","v":"-"},{"$f":"'Local Controller Data - PROP'!E497","v":"-"},{"$f":"'Local Controller Data - PROP'!F497","v":"-"},{"$f":"'Local Controller Data - PROP'!G497","v":"-"},{"$f":"'Local Controller Data - PROP'!H497","v":"-"},{"$f":"'Local Controller Data - PROP'!I497","v":"-"},{"$f":"'Local Controller Data - PROP'!J497","v":"-"},{"$f":"'Local Controller Data - PROP'!K497","v":"-"}]
["ADDED INITIAL","*(SEC./ACTUATION)",null,{"$f":"'Local Controller Data - EXIST'!D498","v":"-"},{"$f":"'Local Controller Data - EXIST'!E498","v":"-"},{"$f":"'Local Controller Data - EXIST'!F498","v":"-"},{"$f":"'Local Controller Data - EXIST'!G498","v":"-"},{"$f":"'Local Controller Data - EXIST'!H498","v":"-"},{"$f":"'Local Controller Data - EXIST'!I498","v":"-"},{"$f":"'Local Controller Data - EXIST'!J498","v":"-"},{"$f":"'Local Controller Data - EXIST'!K498","v":"-"},null,"ADDED INITIAL","*(SEC./ACTUATION)",null,{"$f":"'Local Controller Data - PROP'!D498","v":"-"},{"$f":"'Local Controller Data - PROP'!E498","v":"-"},{"$f":"'Local Controller Data - PROP'!F498","v":"-"},{"$f":"'Local Controller Data - PROP'!G498","v":"-"},{"$f":"'Local Controller Data - PROP'!H498","v":"-"},{"$f":"'Local Controller Data - PROP'!I498","v":"-"},{"$f":"'Local Controller Data - PROP'!J498","v":"-"},{"$f":"'Local Controller Data - PROP'!K498","v":"-"}]
["MAXIMUM INITIAL",null,"*(SEC.)",{"$f":"'Local Controller Data - EXIST'!D499","v":"-"},{"$f":"'Local Controller Data - EXIST'!E499","v":"-"},{"$f":"'Local Controller Data - EXIST'!F499","v":"-"},{"$f":"'Local Controller Data - EXIST'!G499","v":"-"},{"$f":"'Local Controller Data - EXIST'!H499","v":"-"},{"$f":"'Local Controller Data - EXIST'!I499","v":"-"},{"$f":"'Local Controller Data - EXIST'!J499","v":"-"},{"$f":"'Local Controller Data - EXIST'!K499","v":"-"},null,"MAXIMUM INITIAL",null,"*(SEC.)",{"$f":"'Local Controller Data - PROP'!D499","v":"-"},{"$f":"'Local Controller Data - PROP'!E499","v":"-"},{"$f":"'Local Controller Data - PROP'!F499","v":"-"},{"$f":"'Local Controller Data - PROP'!G499","v":"-"},{"$f":"'Local Controller Data - PROP'!H499","v":"-"},{"$f":"'Local Controller Data - PROP'!I499","v":"-"},{"$f":"'Local Controller Data - PROP'!J499","v":"-"},{"$f":"'Local Controller Data - PROP'!K499","v":"-"}]
["PASSAGE TIME (PRESET GAP)",null,"(SEC.)",{"$f":"'Local Controller Data - EXIST'!D500","v":"-"},{"$f":"'Local Controller Data - EXIST'!E500","v":"-"},{"$f":"'Local Controller Data - EXIST'!F500","v":"-"},{"$f":"'Local Controller Data - EXIST'!G500","v":"-"},{"$f":"'Local Controller Data - EXIST'!H500","v":"-"},{"$f":"'Local Controller Data - EXIST'!I500","v":"-"},{"$f":"'Local Controller Data - EXIST'!J500","v":"-"},{"$f":"'Local Controller Data - EXIST'!K500","v":"-"},null,"PASSAGE TIME (PRESET GAP)",null,"(SEC.)",{"$f":"'Local Controller Data - PROP'!D500","v":"-"},{"$f":"'Local Controller Data - PROP'!E500","v":"-"},{"$f":"'Local Controller Data - PROP'!F500","v":"-"},{"$f":"'Local Controller Data - PROP'!G500","v":"-"},{"$f":"'Local Controller Data - PROP'!H500","v":"-"},{"$f":"'Local Controller Data - PROP'!I500","v":"-"},{"$f":"'Local Controller Data - PROP'!J500","v":"-"},{"$f":"'Local Controller Data - PROP'!K500","v":"-"}]
["TIME BEFORE REDUCTION",null,"*(SEC.)",{"$f":"'Local Controller Data - EXIST'!D501","v":"-"},{"$f":"'Local Controller Data - EXIST'!E501","v":"-"},{"$f":"'Local Controller Data - EXIST'!F501","v":"-"},{"$f":"'Local Controller Data - EXIST'!G501","v":"-"},{"$f":"'Local Controller Data - EXIST'!H501","v":"-"},{"$f":"'Local Controller Data - EXIST'!I501","v":"-"},{"$f":"'Local Controller Data - EXIST'!J501","v":"-"},{"$f":"'Local Controller Data - EXIST'!K501","v":"-"},null,"TIME BEFORE REDUCTION",null,"*(SEC.)",{"$f":"'Local Controller Data - PROP'!D501","v":"-"},{"$f":"'Local Controller Data - PROP'!E501","v":"-"},{"$f":"'Local Controller Data - PROP'!F501","v":"-"},{"$f":"'Local Controller Data - PROP'!G501","v":"-"},{"$f":"'Local Controller Data - PROP'!H501","v":"-"},{"$f":"'Local Controller Data - PROP'!I501","v":"-"},{"$f":"'Local Controller Data - PROP'!J501","v":"-"},{"$f":"'Local Controller Data - PROP'!K501","v":"-"}]
["MINIMUM GAP",null,"*(SEC.)",{"$f":"'Local Controller Data - EXIST'!D502","v":"-"},{"$f":"'Local Controller Data - EXIST'!E502","v":"-"},{"$f":"'Local Controller Data - EXIST'!F502","v":"-"},{"$f":"'Local Controller Data - EXIST'!G502","v":"-"},{"$f":"'Local Controller Data - EXIST'!H502","v":"-"},{"$f":"'Local Controller Data - EXIST'!I502","v":"-"},{"$f":"'Local Controller Data - EXIST'!J502","v":"-"},{"$f":"'Local Controller Data - EXIST'!K502","v":"-"},null,"MINIMUM GAP",null,"*(SEC.)",{"$f":"'Local Controller Data - PROP'!D502","v":"-"},{"$f":"'Local Controller Data - PROP'!E502","v":"-"},{"$f":"'Local Controller Data - PROP'!F502","v":"-"},{"$f":"'Local Controller Data - PROP'!G502","v":"-"},{"$f":"'Local Controller Data - PROP'!H502","v":"-"},{"$f":"'Local Controller Data - PROP'!I502","v":"-"},{"$f":"'Local Controller Data - PROP'!J502","v":"-"},{"$f":"'Local Controller Data - PROP'!K502","v":"-"}]
["TIME TO REDUCE",null,"*(SEC.)",{"$f":"'Local Controller Data - EXIST'!D503","v":"-"},{"$f":"'Local Controller Data - EXIST'!E503","v":"-"},{"$f":"'Local Controller Data - EXIST'!F503","v":"-"},{"$f":"'Local Controller Data - EXIST'!G503","v":"-"},{"$f":"'Local Controller Data - EXIST'!H503","v":"-"},{"$f":"'Local Controller Data - EXIST'!I503","v":"-"},{"$f":"'Local Controller Data - EXIST'!J503","v":"-"},{"$f":"'Local Controller Data - EXIST'!K503","v":"-"},null,"TIME TO REDUCE",null,"*(SEC.)",{"$f":"'Local Controller Data - PROP'!D503","v":"-"},{"$f":"'Local Controller Data - PROP'!E503","v":"-"},{"$f":"'Local Controller Data - PROP'!F503","v":"-"},{"$f":"'Local Controller Data - PROP'!G503","v":"-"},{"$f":"'Local Controller Data - PROP'!H503","v":"-"},{"$f":"'Local Controller Data - PROP'!I503","v":"-"},{"$f":"'Local Controller Data - PROP'!J503","v":"-"},{"$f":"'Local Controller Data - PROP'!K503","v":"-"}]
["MAXIMUM GREEN I",null,"(SEC.)",{"$f":"'Local Controller Data - EXIST'!D504","v":"-"},{"$f":"'Local Controller Data - EXIST'!E504","v":"-"},{"$f":"'Local Controller Data - EXIST'!F504","v":"-"},{"$f":"'Local Controller Data - EXIST'!G504","v":"-"},{"$f":"'Local Controller Data - EXIST'!H504","v":"-"},{"$f":"'Local Controller Data - EXIST'!I504","v":"-"},{"$f":"'Local Controller Data - EXIST'!J504","v":"-"},{"$f":"'Local Controller Data - EXIST'!K504","v":"-"},null,"MAXIMUM GREEN I",null,"(SEC.)",{"$f":"'Local Controller Data - PROP'!D504","v":"-"},{"$f":"'Local Controller Data - PROP'!E504","v":"-"},{"$f":"'Local Controller Data - PROP'!F504","v":"-"},{"$f":"'Local Controller Data - PROP'!G504","v":"-"},{"$f":"'Local Controller Data - PROP'!H504","v":"-"},{"$f":"'Local Controller Data - PROP'!I504","v":"-"},{"$f":"'Local Controller Data - PROP'!J504","v":"-"},{"$f":"'Local Controller Data - PROP'!K504","v":"-"}]
["MAXIMUM GREEN II",null,"(SEC.)",{"$f":"'Local Controller Data - EXIST'!D505","v":"-"},{"$f":"'Local Controller Data - EXIST'!E505","v":"-"},{"$f":"'Local Controller Data - EXIST'!F505","v":"-"},{"$f":"'Local Controller Data - EXIST'!G505","v":"-"},{"$f":"'Local Controller Data - EXIST'!H505","v":"-"},{"$f":"'Local Controller Data - EXIST'!I505","v":"-"},{"$f":"'Local Controller Data - EXIST'!J505","v":"-"},{"$f":"'Local Controller Data - EXIST'!K505","v":"-"},null,"MAXIMUM GREEN II",null,"(SEC.)",{"$f":"'Local Controller Data - PROP'!D505","v":"-"},{"$f":"'Local Controller Data - PROP'!E505","v":"-"},{"$f":"'Local Controller Data - PROP'!F505","v":"-"},{"$f":"'Local Controller Data - PROP'!G505","v":"-"},{"$f":"'Local Controller Data - PROP'!H505","v":"-"},{"$f":"'Local Controller Data - PROP'!I505","v":"-"},{"$f":"'Local Controller Data - PROP'!J505","v":"-"},{"$f":"'Local Controller Data - PROP'!K505","v":"-"}]
["YELLOW CHANGE",null,"(SEC.)",{"$f":"'Local Controller Data - EXIST'!D506","v":"-"},{"$f":"'Local Controller Data - EXIST'!E506","v":"-"},{"$f":"'Local Controller Data - EXIST'!F506","v":"-"},{"$f":"'Local Controller Data - EXIST'!G506","v":"-"},{"$f":"'Local Controller Data - EXIST'!H506","v":"-"},{"$f":"'Local Controller Data - EXIST'!I506","v":"-"},{"$f":"'Local Controller Data - EXIST'!J506","v":"-"},{"$f":"'Local Controller Data - EXIST'!K506","v":"-"},null,"YELLOW CHANGE",null,"(SEC.)",{"$f":"'Local Controller Data - PROP'!D506","v":"-"},{"$f":"'Local Controller Data - PROP'!E506","v":"-"},{"$f":"'Local Controller Data - PROP'!F506","v":"-"},{"$f":"'Local Controller Data - PROP'!G506","v":"-"},{"$f":"'Local Controller Data - PROP'!H506","v":"-"},{"$f":"'Local Controller Data - PROP'!I506","v":"-"},{"$f":"'Local Controller Data - PROP'!J506","v":"-"},{"$f":"'Local Controller Data - PROP'!K506","v":"-"}]
["ALL RED CLEARANCE",null,"(SEC.)",{"$f":"'Local Controller Data - EXIST'!D507","v":"-"},{"$f":"'Local Controller Data - EXIST'!E507","v":"-"},{"$f":"'Local Controller Data - EXIST'!F507","v":"-"},{"$f":"'Local Controller Data - EXIST'!G507","v":"-"},{"$f":"'Local Controller Data - EXIST'!H507","v":"-"},{"$f":"'Local Controller Data - EXIST'!I507","v":"-"},{"$f":"'Local Controller Data - EXIST'!J507","v":"-"},{"$f":"'Local Controller Data - EXIST'!K507","v":"-"},null,"ALL RED CLEARANCE",null,"(SEC.)",{"$f":"'Local Controller Data - PROP'!D507","v":"-"},{"$f":"'Local Controller Data - PROP'!E507","v":"-"},{"$f":"'Local Controller Data - PROP'!F507","v":"-"},{"$f":"'Local Controller Data - PROP'!G507","v":"-"},{"$f":"'Local Controller Data - PROP'!H507","v":"-"},{"$f":"'Local Controller Data - PROP'!I507","v":"-"},{"$f":"'Local Controller Data - PROP'!J507","v":"-"},{"$f":"'Local Controller Data - PROP'!K507","v":"-"}]
["DELAYED GREEN (LPI) #",null,"(SEC.)",{"$f":"'Local Controller Data - EXIST'!D508","v":"-"},{"$f":"'Local Controller Data - EXIST'!E508","v":"-"},{"$f":"'Local Controller Data - EXIST'!F508","v":"-"},{"$f":"'Local Controller Data - EXIST'!G508","v":"-"},{"$f":"'Local Controller Data - EXIST'!H508","v":"-"},{"$f":"'Local Controller Data - EXIST'!I508","v":"-"},{"$f":"'Local Controller Data - EXIST'!J508","v":"-"},{"$f":"'Local Controller Data - EXIST'!K508","v":"-"},null,"DELAYED GREEN (LPI) #",null,"(SEC.)",{"$f":"'Local Controller Data - PROP'!D508","v":"-"},{"$f":"'Local Controller Data - PROP'!E508","v":"-"},{"$f":"'Local Controller Data - PROP'!F508","v":"-"},{"$f":"'Local Controller Data - PROP'!G508","v":"-"},{"$f":"'Local Controller Data - PROP'!H508","v":"-"},{"$f":"'Local Controller Data - PROP'!I508","v":"-"},{"$f":"'Local Controller Data - PROP'!J508","v":"-"},{"$f":"'Local Controller Data - PROP'!K508","v":"-"}]
["FLASHING YELLOW ARROW DELAY^",null,"(SEC.)",{"$f":"'Local Controller Data - EXIST'!D509","v":"-"},{"$f":"'Local Controller Data - EXIST'!E509","v":"-"},{"$f":"'Local Controller Data - EXIST'!F509","v":"-"},{"$f":"'Local Controller Data - EXIST'!G509","v":"-"},{"$f":"'Local Controller Data - EXIST'!H509","v":"-"},{"$f":"'Local Controller Data - EXIST'!I509","v":"-"},{"$f":"'Local Controller Data - EXIST'!J509","v":"-"},{"$f":"'Local Controller Data - EXIST'!K509","v":"-"},null,"FLASHING YELLOW ARROW DELAY^",null,"(SEC.)",{"$f":"'Local Controller Data - PROP'!D509","v":"-"},{"$f":"'Local Controller Data - PROP'!E509","v":"-"},{"$f":"'Local Controller Data - PROP'!F509","v":"-"},{"$f":"'Local Controller Data - PROP'!G509","v":"-"},{"$f":"'Local Controller Data - PROP'!H509","v":"-"},{"$f":"'Local Controller Data - PROP'!I509","v":"-"},{"$f":"'Local Controller Data - PROP'!J509","v":"-"},{"$f":"'Local Controller Data - PROP'!K509","v":"-"}]
["WALK",null,"(SEC.)",{"$f":"'Local Controller Data - EXIST'!D510","v":"-"},{"$f":"'Local Controller Data - EXIST'!E510","v":"-"},{"$f":"'Local Controller Data - EXIST'!F510","v":"-"},{"$f":"'Local Controller Data - EXIST'!G510","v":"-"},{"$f":"'Local Controller Data - EXIST'!H510","v":"-"},{"$f":"'Local Controller Data - EXIST'!I510","v":"-"},{"$f":"'Local Controller Data - EXIST'!J510","v":"-"},{"$f":"'Local Controller Data - EXIST'!K510","v":"-"},null,"WALK",null,"(SEC.)",{"$f":"'Local Controller Data - PROP'!D510","v":"-"},{"$f":"'Local Controller Data - PROP'!E510","v":"-"},{"$f":"'Local Controller Data - PROP'!F510","v":"-"},{"$f":"'Local Controller Data - PROP'!G510","v":"-"},{"$f":"'Local Controller Data - PROP'!H510","v":"-"},{"$f":"'Local Controller Data - PROP'!I510","v":"-"},{"$f":"'Local Controller Data - PROP'!J510","v":"-"},{"$f":"'Local Controller Data - PROP'!K510","v":"-"}]
["PEDESTRIAN CLEARANCE",null,"(SEC.)",{"$f":"'Local Controller Data - EXIST'!D511","v":"-"},{"$f":"'Local Controller Data - EXIST'!E511","v":"-"},{"$f":"'Local Controller Data - EXIST'!F511","v":"-"},{"$f":"'Local Controller Data - EXIST'!G511","v":"-"},{"$f":"'Local Controller Data - EXIST'!H511","v":"-"},{"$f":"'Local Controller Data - EXIST'!I511","v":"-"},{"$f":"'Local Controller Data - EXIST'!J511","v":"-"},{"$f":"'Local Controller Data - EXIST'!K511","v":"-"},null,"PEDESTRIAN CLEARANCE",null,"(SEC.)",{"$f":"'Local Controller Data - PROP'!D511","v":"-"},{"$f":"'Local Controller Data - PROP'!E511","v":"-"},{"$f":"'Local Controller Data - PROP'!F511","v":"-"},{"$f":"'Local Controller Data - PROP'!G511","v":"-"},{"$f":"'Local Controller Data - PROP'!H511","v":"-"},{"$f":"'Local Controller Data - PROP'!I511","v":"-"},{"$f":"'Local Controller Data - PROP'!J511","v":"-"},{"$f":"'Local Controller Data - PROP'!K511","v":"-"}]
["RECALL","MAXIMUM","(ON/OFF)",{"$f":"'Local Controller Data - EXIST'!D512","v":"-"},{"$f":"'Local Controller Data - EXIST'!E512","v":"-"},{"$f":"'Local Controller Data - EXIST'!F512","v":"-"},{"$f":"'Local Controller Data - EXIST'!G512","v":"-"},{"$f":"'Local Controller Data - EXIST'!H512","v":"-"},{"$f":"'Local Controller Data - EXIST'!I512","v":"-"},{"$f":"'Local Controller Data - EXIST'!J512","v":"-"},{"$f":"'Local Controller Data - EXIST'!K512","v":"-"},null,"RECALL","MAXIMUM","(ON/OFF)",{"$f":"'Local Controller Data - PROP'!D512","v":"-"},{"$f":"'Local Controller Data - PROP'!E512","v":"-"},{"$f":"'Local Controller Data - PROP'!F512","v":"-"},{"$f":"'Local Controller Data - PROP'!G512","v":"-"},{"$f":"'Local Controller Data - PROP'!H512","v":"-"},{"$f":"'Local Controller Data - PROP'!I512","v":"-"},{"$f":"'Local Controller Data - PROP'!J512","v":"-"},{"$f":"'Local Controller Data - PROP'!K512","v":"-"}]
[null,"MINIMUM","(ON/OFF)",{"$f":"'Local Controller Data - EXIST'!D513","v":"-"},{"$f":"'Local Controller Data - EXIST'!E513","v":"-"},{"$f":"'Local Controller Data - EXIST'!F513","v":"-"},{"$f":"'Local Controller Data - EXIST'!G513","v":"-"},{"$f":"'Local Controller Data - EXIST'!H513","v":"-"},{"$f":"'Local Controller Data - EXIST'!I513","v":"-"},{"$f":"'Local Controller Data - EXIST'!J513","v":"-"},{"$f":"'Local Controller Data - EXIST'!K513","v":"-"},null,null,"MINIMUM","(ON/OFF)",{"$f":"'Local Controller Data - PROP'!D513","v":"-"},{"$f":"'Local Controller Data - PROP'!E513","v":"-"},{"$f":"'Local Controller Data - PROP'!F513","v":"-"},{"$f":"'Local Controller Data - PROP'!G513","v":"-"},{"$f":"'Local Controller Data - PROP'!H513","v":"-"},{"$f":"'Local Controller Data - PROP'!I513","v":"-"},{"$f":"'Local Controller Data - PROP'!J513","v":"-"},{"$f":"'Local Controller Data - PROP'!K513","v":"-"}]
[null,"PEDESTRIAN","(ON/OFF)",{"$f":"'Local Controller Data - EXIST'!D514","v":"-"},{"$f":"'Local Controller Data - EXIST'!E514","v":"-"},{"$f":"'Local Controller Data - EXIST'!F514","v":"-"},{"$f":"'Local Controller Data - EXIST'!G514","v":"-"},{"$f":"'Local Controller Data - EXIST'!H514","v":"-"},{"$f":"'Local Controller Data - EXIST'!I514","v":"-"},{"$f":"'Local Controller Data - EXIST'!J514","v":"-"},{"$f":"'Local Controller Data - EXIST'!K514","v":"-"},null,null,"PEDESTRIAN","(ON/OFF)",{"$f":"'Local Controller Data - PROP'!D514","v":"-"},{"$f":"'Local Controller Data - PROP'!E514","v":"-"},{"$f":"'Local Controller Data - PROP'!F514","v":"-"},{"$f":"'Local Controller Data - PROP'!G514","v":"-"},{"$f":"'Local Controller Data - PROP'!H514","v":"-"},{"$f":"'Local Controller Data - PROP'!I514","v":"-"},{"$f":"'Local Controller Data - PROP'!J514","v":"-"},{"$f":"'Local Controller Data - PROP'!K514","v":"-"}]
["MEMORY    ",null,"(ON/OFF)",{"$f":"'Local Controller Data - EXIST'!D515","v":"-"},{"$f":"'Local Controller Data - EXIST'!E515","v":"-"},{"$f":"'Local Controller Data - EXIST'!F515","v":"-"},{"$f":"'Local Controller Data - EXIST'!G515","v":"-"},{"$f":"'Local Controller Data - EXIST'!H515","v":"-"},{"$f":"'Local Controller Data - EXIST'!I515","v":"-"},{"$f":"'Local Controller Data - EXIST'!J515","v":"-"},{"$f":"'Local Controller Data - EXIST'!K515","v":"-"},null,"MEMORY    ",null,"(ON/OFF)",{"$f":"'Local Controller Data - PROP'!D515","v":"-"},{"$f":"'Local Controller Data - PROP'!E515","v":"-"},{"$f":"'Local Controller Data - PROP'!F515","v":"-"},{"$f":"'Local Controller Data - PROP'!G515","v":"-"},{"$f":"'Local Controller Data - PROP'!H515","v":"-"},{"$f":"'Local Controller Data - PROP'!I515","v":"-"},{"$f":"'Local Controller Data - PROP'!J515","v":"-"},{"$f":"'Local Controller Data - PROP'!K515","v":"-"}]
["*VOLUME DENSITY CONTROLS",null,null,null,null,null,null,null,null,null,null,null,"*VOLUME DENSITY CONTROLS"]
["# FOR CROSSINGS WITH PEDESTRIAN PUSHBUTTONS, LPI'S (LEADING PEDESTRIAN INTERVALS) MAY BE IMPLEMENTED (3-6 SEC.) IN ACCORDANCE WITH LPI DURATION TIME PER THE ODOT SIGNAL CALCULATIONS - CLEARANCE INTERVALS SPREADSHEET",null,null,null,null,null,null,null,null,null,null,null,"# FOR CROSSINGS WITH PEDESTRIAN PUSHBUTTONS, LPI'S (LEADING PEDESTRIAN INTERVALS) MAY BE IMPLEMENTED (3-6 SEC.) IN ACCORDANCE WITH LPI DURATION TIME PER THE ODOT SIGNAL CALCULATIONS - CLEARANCE INTERVALS SPREADSHEET"]
["^ WHEN IMPLEMENTING FYA, A MINIMUM 3 SEC. DELAY SHALL BE PROGRAMMED PER FYA PHASE. ",null,null,null,null,null,null,null,null,null,null,null,"^ WHEN IMPLEMENTING FYA, A MINIMUM 3 SEC. DELAY SHALL BE PROGRAMMED PER FYA PHASE. "]
[]
["ECONOLITE COORD SETTINGS",null,null,"SIEMENS COORD SETTINGS",null,null,null,null,null,null,null,null,"ECONOLITE COORD SETTINGS",null,null,"SIEMENS COORD SETTINGS"]
["MANUAL PATTERN",{"$f":"'Local Controller Data - EXIST'!B523","v":"-"},null,"OPERATION",null,null,null,"-",null,null,null,null,"MANUAL PATTERN",{"$f":"'Local Controller Data - PROP'!B523","v":"-"},null,"OPERATION",null,null,null,"-"]
["SYSTEM SOURCE",{"$f":"'Local Controller Data - EXIST'!B524","v":"-"},null,"MODE (NORMAL)",null,null,null,"-",null,null,null,null,"SYSTEM SOURCE",{"$f":"'Local Controller Data - PROP'!B524","v":"-"},null,"MODE (NORMAL)",null,null,null,"-"]
["SPLITS IN",{"$f":"'Local Controller Data - EXIST'!B525","v":"-"},null,"MAXIMUM",null,null,null,"-",null,null,null,null,"SPLITS IN",{"$f":"'Local Controller Data - PROP'!B525","v":"-"},null,"MAXIMUM",null,null,null,"-"]
["TRANSITION",{"$f":"'Local Controller Data - EXIST'!B526","v":"-"},null,"CORRECTION",null,null,null,"-",null,null,null,null,"TRANSITION",{"$f":"'Local Controller Data - PROP'!B526","v":"-"},null,"CORRECTION",null,null,null,"-"]
["DWELL/ADD TIME",{"$f":"'Local Controller Data - EXIST'!B527","v":"-"},null,"OFFSET MODE",null,null,null,"-",null,null,null,null,"DWELL/ADD TIME",{"$f":"'Local Controller Data - PROP'!B527","v":"-"},null,"OFFSET MODE",null,null,null,"-"]
["OFFSET REFERENCE",{"$f":"'Local Controller Data - EXIST'!B528","v":"-"},null,"FORCE MODE",null,null,null,"-",null,null,null,null,"OFFSET REFERENCE",{"$f":"'Local Controller Data - PROP'!B528","v":"-"},null,"FORCE MODE",null,null,null,"-"]
["PED RECALL",{"$f":"'Local Controller Data - EXIST'!B529","v":"-"},null,"MAX DWELL TIME",null,null,null,"-",null,null,null,null,"PED RECALL",{"$f":"'Local Controller Data - PROP'!B529","v":"-"},null,"MAX DWELL TIME",null,null,null,"-"]
["LOCAL ZERO OVERRIDE",{"$f":"'Local Controller Data - EXIST'!B530","v":"-"},null,"YIELD PERIOD",null,null,null,"-",null,null,null,null,"LOCAL ZERO OVERRIDE",{"$f":"'Local Controller Data - PROP'!B530","v":"-"},null,"YIELD PERIOD",null,null,null,"-"]
["RE-SYNC COUNT",{"$f":"'Local Controller Data - EXIST'!B531","v":"-"},null,"MANUAL CONTROL: DIAL",null,null,null,"-",null,null,null,null,"RE-SYNC COUNT",{"$f":"'Local Controller Data - PROP'!B531","v":"-"},null,"MANUAL CONTROL: DIAL",null,null,null,"-"]
["ECPI COORD",{"$f":"'Local Controller Data - EXIST'!B532","v":"-"},null,"MANUAL CONTROL: SPLIT",null,null,null,"-",null,null,null,null,"ECPI COORD",{"$f":"'Local Controller Data - PROP'!B532","v":"-"},null,"MANUAL CONTROL: SPLIT",null,null,null,"-"]
["SYSTEM FORMAT ",{"$f":"'Local Controller Data - EXIST'!B533","v":"-"},null,"MANUAL CONTROL: OFFSET",null,null,null,"-",null,null,null,null,"SYSTEM FORMAT ",{"$f":"'Local Controller Data - PROP'!B533","v":"-"},null,"MANUAL CONTROL: OFFSET",null,null,null,"-"]
["OFFSET IN",{"$f":"'Local Controller Data - EXIST'!B534","v":"-"},null,null,null,null,null,null,null,null,null,null,"OFFSET IN",{"$f":"'Local Controller Data - PROP'!B534","v":"-"}]
["MAX SELECT",{"$f":"'Local Controller Data - EXIST'!B535","v":"-"},null,null,null,null,null,null,null,null,null,null,"MAX SELECT",{"$f":"'Local Controller Data - PROP'!B535","v":"-"}]
["FORCE OFF",{"$f":"'Local Controller Data - EXIST'!B536","v":"-"},null,null,null,null,null,null,null,null,null,null,"FORCE OFF",{"$f":"'Local Controller Data - PROP'!B536","v":"-"}]
["USE PED TIME",{"$f":"'Local Controller Data - EXIST'!B537","v":"-"},null,null,null,null,null,null,null,null,null,null,"USE PED TIME",{"$f":"'Local Controller Data - PROP'!B537","v":"-"}]
["PED RESERVICE",{"$f":"'Local Controller Data - EXIST'!B538","v":"-"},null,null,null,null,null,null,null,null,null,null,"PED RESERVICE",{"$f":"'Local Controller Data - PROP'!B538","v":"-"}]
["FO ADD INI GRN",{"$f":"'Local Controller Data - EXIST'!B539","v":"-"},null,null,null,null,null,null,null,null,null,null,"FO ADD INI GRN",{"$f":"'Local Controller Data - PROP'!B539","v":"-"}]
["MULTISYNC",{"$f":"'Local Controller Data - EXIST'!B540","v":"-"},null,null,null,null,null,null,null,"EXISTING TIMING",null,null,"MULTISYNC",{"$f":"'Local Controller Data - PROP'!B540","v":"-"},null,null,null,null,null,null,null,"PROPOSED TIMING"]
[]
[{"$f":"'Project Name'!$C$2","v":0},null,null,null,null,null,null,null,null,null,null,null,{"$f":"'Project Name'!$C$2","v":0}]
["Existing Local Controller Data",null,null,null,null,null,null,null,null,null,null,null,"Proposed Local Controller Data"]
["INTERSECTION:",null,null,null,null,null,null,null,null,null,null,null,"INTERSECTION:"]
["MAINTAINING AGENCY:",null,null,null,null,null,null,null,null,null,null,null,"MAINTAINING AGENCY:"]
["START UP",null,null,"DUAL ENTRY: ",null,"-","PHASES:",null,"-",null,null,null,"START UP",null,null,"DUAL ENTRY: ",null,"-","PHASES:",null,"-"]
[null,null,null,"REST IN RED: ",null,null,"RING 1","-",null,"RING 2","-",null,null,null,null,"REST IN RED: ",null,null,"RING 1","-",null,"RING 2","-"]
["START IN: ",{"$f":"'Local Controller Data - EXIST'!B549:C549","v":"-"},null,"OVERLAP",null,null,null,"A","B","C","D",null,"START IN: ","-",null,"OVERLAP",null,null,null,"A","B","C","D"]
["TIME FOR FLASH / ALL RED (SEC.):   ",null,"9, 6",null,null,null,null,null,null,null,null,null,"TIME FOR FLASH / ALL RED (SEC.):   ",null,"9, 6"]
["FIRST PHASE(S):",{"$f":"'Local Controller Data - EXIST'!B551:C551","v":"-"},null,"PHASES",null,null,null,{"$f":"'Local Controller Data - EXIST'!H551","v":"-"},{"$f":"'Local Controller Data - EXIST'!I551","v":"-"},{"$f":"'Local Controller Data - EXIST'!J551","v":"-"},{"$f":"'Local Controller Data - EXIST'!K551","v":"-"},null,"FIRST PHASE(S):",{"$f":"'Local Controller Data - PROP'!B551:C551","v":{"$error":"#VALUE!"}},null,"PHASES",null,null,null,{"$f":"'Local Controller Data - PROP'!H551","v":"-"},{"$f":"'Local Controller Data - PROP'!I551","v":"-"},{"$f":"'Local Controller Data - PROP'!J551","v":"-"},{"$f":"'Local Controller Data - PROP'!K551","v":"-"}]
["COLOR DISPLAYED:","-",null,null,null,null,null,null,null,null,null,null,"COLOR DISPLAYED:","-"]
["INTERVAL OR FEATURE",null,null,"CONTROLLER MOVEMENT NO.",null,null,null,null,null,null,null,null,"INTERVAL OR FEATURE",null,null,"CONTROLLER MOVEMENT NO."]
["INTERSECTION MOVEMENT (PHASE)",null,null,1,2,3,4,5,6,7,8,null,"INTERSECTION MOVEMENT (PHASE)",null,null,1,2,3,4,5,6,7,8]
["DIRECTION",null,null,{"$f":"'Local Controller Data - EXIST'!D556","v":"-"},{"$f":"'Local Controller Data - EXIST'!E556","v":"-"},{"$f":"'Local Controller Data - EXIST'!F556","v":"-"},{"$f":"'Local Controller Data - EXIST'!G556","v":"-"},{"$f":"'Local Controller Data - EXIST'!H556","v":"-"},{"$f":"'Local Controller Data - EXIST'!I556","v":"-"},{"$f":"'Local Controller Data - EXIST'!J556","v":"-"},{"$f":"'Local Controller Data - EXIST'!K556","v":"-"},null,"DIRECTION",null,null,{"$f":"'Local Controller Data - PROP'!D556","v":"-"},{"$f":"'Local Controller Data - PROP'!E556","v":"-"},{"$f":"'Local Controller Data - PROP'!F556","v":"-"},{"$f":"'Local Controller Data - PROP'!G556","v":"-"},{"$f":"'Local Controller Data - PROP'!H556","v":"-"},{"$f":"'Local Controller Data - PROP'!I556","v":"-"},{"$f":"'Local Controller Data - PROP'!J556","v":"-"},{"$f":"'Local Controller Data - PROP'!K556","v":"-"}]
["MINIMUM GREEN (INITIAL) ",null,"(SEC.)",{"$f":"'Local Controller Data - EXIST'!D557","v":"-"},{"$f":"'Local Controller Data - EXIST'!E557","v":"-"},{"$f":"'Local Controller Data - EXIST'!F557","v":"-"},{"$f":"'Local Controller Data - EXIST'!G557","v":"-"},{"$f":"'Local Controller Data - EXIST'!H557","v":"-"},{"$f":"'Local Controller Data - EXIST'!I557","v":"-"},{"$f":"'Local Controller Data - EXIST'!J557","v":"-"},{"$f":"'Local Controller Data - EXIST'!K557","v":"-"},null,"MINIMUM GREEN (INITIAL) ",null,"(SEC.)",{"$f":"'Local Controller Data - PROP'!D557","v":"-"},{"$f":"'Local Controller Data - PROP'!E557","v":"-"},{"$f":"'Local Controller Data - PROP'!F557","v":"-"},{"$f":"'Local Controller Data - PROP'!G557","v":"-"},{"$f":"'Local Controller Data - PROP'!H557","v":"-"},{"$f":"'Local Controller Data - PROP'!I557","v":"-"},{"$f":"'Local Controller Data - PROP'!J557","v":"-"},{"$f":"'Local Controller Data - PROP'!K557","v":"-"}]
["ADDED INITIAL","*(SEC./ACTUATION)",null,{"$f":"'Local Controller Data - EXIST'!D558","v":"-"},{"$f":"'Local Controller Data - EXIST'!E558","v":"-"},{"$f":"'Local Controller Data - EXIST'!F558","v":"-"},{"$f":"'Local Controller Data - EXIST'!G558","v":"-"},{"$f":"'Local Controller Data - EXIST'!H558","v":"-"},{"$f":"'Local Controller Data - EXIST'!I558","v":"-"},{"$f":"'Local Controller Data - EXIST'!J558","v":"-"},{"$f":"'Local Controller Data - EXIST'!K558","v":"-"},null,"ADDED INITIAL","*(SEC./ACTUATION)",null,{"$f":"'Local Controller Data - PROP'!D558","v":"-"},{"$f":"'Local Controller Data - PROP'!E558","v":"-"},{"$f":"'Local Controller Data - PROP'!F558","v":"-"},{"$f":"'Local Controller Data - PROP'!G558","v":"-"},{"$f":"'Local Controller Data - PROP'!H558","v":"-"},{"$f":"'Local Controller Data - PROP'!I558","v":"-"},{"$f":"'Local Controller Data - PROP'!J558","v":"-"},{"$f":"'Local Controller Data - PROP'!K558","v":"-"}]
["MAXIMUM INITIAL",null,"*(SEC.)",{"$f":"'Local Controller Data - EXIST'!D559","v":"-"},{"$f":"'Local Controller Data - EXIST'!E559","v":"-"},{"$f":"'Local Controller Data - EXIST'!F559","v":"-"},{"$f":"'Local Controller Data - EXIST'!G559","v":"-"},{"$f":"'Local Controller Data - EXIST'!H559","v":"-"},{"$f":"'Local Controller Data - EXIST'!I559","v":"-"},{"$f":"'Local Controller Data - EXIST'!J559","v":"-"},{"$f":"'Local Controller Data - EXIST'!K559","v":"-"},null,"MAXIMUM INITIAL",null,"*(SEC.)",{"$f":"'Local Controller Data - PROP'!D559","v":"-"},{"$f":"'Local Controller Data - PROP'!E559","v":"-"},{"$f":"'Local Controller Data - PROP'!F559","v":"-"},{"$f":"'Local Controller Data - PROP'!G559","v":"-"},{"$f":"'Local Controller Data - PROP'!H559","v":"-"},{"$f":"'Local Controller Data - PROP'!I559","v":"-"},{"$f":"'Local Controller Data - PROP'!J559","v":"-"},{"$f":"'Local Controller Data - PROP'!K559","v":"-"}]
["PASSAGE TIME (PRESET GAP)",null,"(SEC.)",{"$f":"'Local Controller Data - EXIST'!D560","v":"-"},{"$f":"'Local Controller Data - EXIST'!E560","v":"-"},{"$f":"'Local Controller Data - EXIST'!F560","v":"-"},{"$f":"'Local Controller Data - EXIST'!G560","v":"-"},{"$f":"'Local Controller Data - EXIST'!H560","v":"-"},{"$f":"'Local Controller Data - EXIST'!I560","v":"-"},{"$f":"'Local Controller Data - EXIST'!J560","v":"-"},{"$f":"'Local Controller Data - EXIST'!K560","v":"-"},null,"PASSAGE TIME (PRESET GAP)",null,"(SEC.)",{"$f":"'Local Controller Data - PROP'!D560","v":"-"},{"$f":"'Local Controller Data - PROP'!E560","v":"-"},{"$f":"'Local Controller Data - PROP'!F560","v":"-"},{"$f":"'Local Controller Data - PROP'!G560","v":"-"},{"$f":"'Local Controller Data - PROP'!H560","v":"-"},{"$f":"'Local Controller Data - PROP'!I560","v":"-"},{"$f":"'Local Controller Data - PROP'!J560","v":"-"},{"$f":"'Local Controller Data - PROP'!K560","v":"-"}]
["TIME BEFORE REDUCTION",null,"*(SEC.)",{"$f":"'Local Controller Data - EXIST'!D561","v":"-"},{"$f":"'Local Controller Data - EXIST'!E561","v":"-"},{"$f":"'Local Controller Data - EXIST'!F561","v":"-"},{"$f":"'Local Controller Data - EXIST'!G561","v":"-"},{"$f":"'Local Controller Data - EXIST'!H561","v":"-"},{"$f":"'Local Controller Data - EXIST'!I561","v":"-"},{"$f":"'Local Controller Data - EXIST'!J561","v":"-"},{"$f":"'Local Controller Data - EXIST'!K561","v":"-"},null,"TIME BEFORE REDUCTION",null,"*(SEC.)",{"$f":"'Local Controller Data - PROP'!D561","v":"-"},{"$f":"'Local Controller Data - PROP'!E561","v":"-"},{"$f":"'Local Controller Data - PROP'!F561","v":"-"},{"$f":"'Local Controller Data - PROP'!G561","v":"-"},{"$f":"'Local Controller Data - PROP'!H561","v":"-"},{"$f":"'Local Controller Data - PROP'!I561","v":"-"},{"$f":"'Local Controller Data - PROP'!J561","v":"-"},{"$f":"'Local Controller Data - PROP'!K561","v":"-"}]
["MINIMUM GAP",null,"*(SEC.)",{"$f":"'Local Controller Data - EXIST'!D562","v":"-"},{"$f":"'Local Controller Data - EXIST'!E562","v":"-"},{"$f":"'Local Controller Data - EXIST'!F562","v":"-"},{"$f":"'Local Controller Data - EXIST'!G562","v":"-"},{"$f":"'Local Controller Data - EXIST'!H562","v":"-"},{"$f":"'Local Controller Data - EXIST'!I562","v":"-"},{"$f":"'Local Controller Data - EXIST'!J562","v":"-"},{"$f":"'Local Controller Data - EXIST'!K562","v":"-"},null,"MINIMUM GAP",null,"*(SEC.)",{"$f":"'Local Controller Data - PROP'!D562","v":"-"},{"$f":"'Local Controller Data - PROP'!E562","v":"-"},{"$f":"'Local Controller Data - PROP'!F562","v":"-"},{"$f":"'Local Controller Data - PROP'!G562","v":"-"},{"$f":"'Local Controller Data - PROP'!H562","v":"-"},{"$f":"'Local Controller Data - PROP'!I562","v":"-"},{"$f":"'Local Controller Data - PROP'!J562","v":"-"},{"$f":"'Local Controller Data - PROP'!K562","v":"-"}]
["TIME TO REDUCE",null,"*(SEC.)",{"$f":"'Local Controller Data - EXIST'!D563","v":"-"},{"$f":"'Local Controller Data - EXIST'!E563","v":"-"},{"$f":"'Local Controller Data - EXIST'!F563","v":"-"},{"$f":"'Local Controller Data - EXIST'!G563","v":"-"},{"$f":"'Local Controller Data - EXIST'!H563","v":"-"},{"$f":"'Local Controller Data - EXIST'!I563","v":"-"},{"$f":"'Local Controller Data - EXIST'!J563","v":"-"},{"$f":"'Local Controller Data - EXIST'!K563","v":"-"},null,"TIME TO REDUCE",null,"*(SEC.)",{"$f":"'Local Controller Data - PROP'!D563","v":"-"},{"$f":"'Local Controller Data - PROP'!E563","v":"-"},{"$f":"'Local Controller Data - PROP'!F563","v":"-"},{"$f":"'Local Controller Data - PROP'!G563","v":"-"},{"$f":"'Local Controller Data - PROP'!H563","v":"-"},{"$f":"'Local Controller Data - PROP'!I563","v":"-"},{"$f":"'Local Controller Data - PROP'!J563","v":"-"},{"$f":"'Local Controller Data - PROP'!K563","v":"-"}]
["MAXIMUM GREEN I",null,"(SEC.)",{"$f":"'Local Controller Data - EXIST'!D564","v":"-"},{"$f":"'Local Controller Data - EXIST'!E564","v":"-"},{"$f":"'Local Controller Data - EXIST'!F564","v":"-"},{"$f":"'Local Controller Data - EXIST'!G564","v":"-"},{"$f":"'Local Controller Data - EXIST'!H564","v":"-"},{"$f":"'Local Controller Data - EXIST'!I564","v":"-"},{"$f":"'Local Controller Data - EXIST'!J564","v":"-"},{"$f":"'Local Controller Data - EXIST'!K564","v":"-"},null,"MAXIMUM GREEN I",null,"(SEC.)",{"$f":"'Local Controller Data - PROP'!D564","v":"-"},{"$f":"'Local Controller Data - PROP'!E564","v":"-"},{"$f":"'Local Controller Data - PROP'!F564","v":"-"},{"$f":"'Local Controller Data - PROP'!G564","v":"-"},{"$f":"'Local Controller Data - PROP'!H564","v":"-"},{"$f":"'Local Controller Data - PROP'!I564","v":"-"},{"$f":"'Local Controller Data - PROP'!J564","v":"-"},{"$f":"'Local Controller Data - PROP'!K564","v":"-"}]
["MAXIMUM GREEN II",null,"(SEC.)",{"$f":"'Local Controller Data - EXIST'!D565","v":"-"},{"$f":"'Local Controller Data - EXIST'!E565","v":"-"},{"$f":"'Local Controller Data - EXIST'!F565","v":"-"},{"$f":"'Local Controller Data - EXIST'!G565","v":"-"},{"$f":"'Local Controller Data - EXIST'!H565","v":"-"},{"$f":"'Local Controller Data - EXIST'!I565","v":"-"},{"$f":"'Local Controller Data - EXIST'!J565","v":"-"},{"$f":"'Local Controller Data - EXIST'!K565","v":"-"},null,"MAXIMUM GREEN II",null,"(SEC.)",{"$f":"'Local Controller Data - PROP'!D565","v":"-"},{"$f":"'Local Controller Data - PROP'!E565","v":"-"},{"$f":"'Local Controller Data - PROP'!F565","v":"-"},{"$f":"'Local Controller Data - PROP'!G565","v":"-"},{"$f":"'Local Controller Data - PROP'!H565","v":"-"},{"$f":"'Local Controller Data - PROP'!I565","v":"-"},{"$f":"'Local Controller Data - PROP'!J565","v":"-"},{"$f":"'Local Controller Data - PROP'!K565","v":"-"}]
["YELLOW CHANGE",null,"(SEC.)",{"$f":"'Local Controller Data - EXIST'!D566","v":"-"},{"$f":"'Local Controller Data - EXIST'!E566","v":"-"},{"$f":"'Local Controller Data - EXIST'!F566","v":"-"},{"$f":"'Local Controller Data - EXIST'!G566","v":"-"},{"$f":"'Local Controller Data - EXIST'!H566","v":"-"},{"$f":"'Local Controller Data - EXIST'!I566","v":"-"},{"$f":"'Local Controller Data - EXIST'!J566","v":"-"},{"$f":"'Local Controller Data - EXIST'!K566","v":"-"},null,"YELLOW CHANGE",null,"(SEC.)",{"$f":"'Local Controller Data - PROP'!D566","v":"-"},{"$f":"'Local Controller Data - PROP'!E566","v":"-"},{"$f":"'Local Controller Data - PROP'!F566","v":"-"},{"$f":"'Local Controller Data - PROP'!G566","v":"-"},{"$f":"'Local Controller Data - PROP'!H566","v":"-"},{"$f":"'Local Controller Data - PROP'!I566","v":"-"},{"$f":"'Local Controller Data - PROP'!J566","v":"-"},{"$f":"'Local Controller Data - PROP'!K566","v":"-"}]
["ALL RED CLEARANCE",null,"(SEC.)",{"$f":"'Local Controller Data - EXIST'!D567","v":"-"},{"$f":"'Local Controller Data - EXIST'!E567","v":"-"},{"$f":"'Local Controller Data - EXIST'!F567","v":"-"},{"$f":"'Local Controller Data - EXIST'!G567","v":"-"},{"$f":"'Local Controller Data - EXIST'!H567","v":"-"},{"$f":"'Local Controller Data - EXIST'!I567","v":"-"},{"$f":"'Local Controller Data - EXIST'!J567","v":"-"},{"$f":"'Local Controller Data - EXIST'!K567","v":"-"},null,"ALL RED CLEARANCE",null,"(SEC.)",{"$f":"'Local Controller Data - PROP'!D567","v":"-"},{"$f":"'Local Controller Data - PROP'!E567","v":"-"},{"$f":"'Local Controller Data - PROP'!F567","v":"-"},{"$f":"'Local Controller Data - PROP'!G567","v":"-"},{"$f":"'Local Controller Data - PROP'!H567","v":"-"},{"$f":"'Local Controller Data - PROP'!I567","v":"-"},{"$f":"'Local Controller Data - PROP'!J567","v":"-"},{"$f":"'Local Controller Data - PROP'!K567","v":"-"}]
["DELAYED GREEN (LPI) #",null,"(SEC.)",{"$f":"'Local Controller Data - EXIST'!D568","v":"-"},{"$f":"'Local Controller Data - EXIST'!E568","v":"-"},{"$f":"'Local Controller Data - EXIST'!F568","v":"-"},{"$f":"'Local Controller Data - EXIST'!G568","v":"-"},{"$f":"'Local Controller Data - EXIST'!H568","v":"-"},{"$f":"'Local Controller Data - EXIST'!I568","v":"-"},{"$f":"'Local Controller Data - EXIST'!J568","v":"-"},{"$f":"'Local Controller Data - EXIST'!K568","v":"-"},null,"DELAYED GREEN (LPI) #",null,"(SEC.)",{"$f":"'Local Controller Data - PROP'!D568","v":"-"},{"$f":"'Local Controller Data - PROP'!E568","v":"-"},{"$f":"'Local Controller Data - PROP'!F568","v":"-"},{"$f":"'Local Controller Data - PROP'!G568","v":"-"},{"$f":"'Local Controller Data - PROP'!H568","v":"-"},{"$f":"'Local Controller Data - PROP'!I568","v":"-"},{"$f":"'Local Controller Data - PROP'!J568","v":"-"},{"$f":"'Local Controller Data - PROP'!K568","v":"-"}]
["FLASHING YELLOW ARROW DELAY^",null,"(SEC.)",{"$f":"'Local Controller Data - EXIST'!D569","v":"-"},{"$f":"'Local Controller Data - EXIST'!E569","v":"-"},{"$f":"'Local Controller Data - EXIST'!F569","v":"-"},{"$f":"'Local Controller Data - EXIST'!G569","v":"-"},{"$f":"'Local Controller Data - EXIST'!H569","v":"-"},{"$f":"'Local Controller Data - EXIST'!I569","v":"-"},{"$f":"'Local Controller Data - EXIST'!J569","v":"-"},{"$f":"'Local Controller Data - EXIST'!K569","v":"-"},null,"FLASHING YELLOW ARROW DELAY^",null,"(SEC.)",{"$f":"'Local Controller Data - PROP'!D569","v":"-"},{"$f":"'Local Controller Data - PROP'!E569","v":"-"},{"$f":"'Local Controller Data - PROP'!F569","v":"-"},{"$f":"'Local Controller Data - PROP'!G569","v":"-"},{"$f":"'Local Controller Data - PROP'!H569","v":"-"},{"$f":"'Local Controller Data - PROP'!I569","v":"-"},{"$f":"'Local Controller Data - PROP'!J569","v":"-"},{"$f":"'Local Controller Data - PROP'!K569","v":"-"}]
["WALK",null,"(SEC.)",{"$f":"'Local Controller Data - EXIST'!D570","v":"-"},{"$f":"'Local Controller Data - EXIST'!E570","v":"-"},{"$f":"'Local Controller Data - EXIST'!F570","v":"-"},{"$f":"'Local Controller Data - EXIST'!G570","v":"-"},{"$f":"'Local Controller Data - EXIST'!H570","v":"-"},{"$f":"'Local Controller Data - EXIST'!I570","v":"-"},{"$f":"'Local Controller Data - EXIST'!J570","v":"-"},{"$f":"'Local Controller Data - EXIST'!K570","v":"-"},null,"WALK",null,"(SEC.)",{"$f":"'Local Controller Data - PROP'!D570","v":"-"},{"$f":"'Local Controller Data - PROP'!E570","v":"-"},{"$f":"'Local Controller Data - PROP'!F570","v":"-"},{"$f":"'Local Controller Data - PROP'!G570","v":"-"},{"$f":"'Local Controller Data - PROP'!H570","v":"-"},{"$f":"'Local Controller Data - PROP'!I570","v":"-"},{"$f":"'Local Controller Data - PROP'!J570","v":"-"},{"$f":"'Local Controller Data - PROP'!K570","v":"-"}]
["PEDESTRIAN CLEARANCE",null,"(SEC.)",{"$f":"'Local Controller Data - EXIST'!D571","v":"-"},{"$f":"'Local Controller Data - EXIST'!E571","v":"-"},{"$f":"'Local Controller Data - EXIST'!F571","v":"-"},{"$f":"'Local Controller Data - EXIST'!G571","v":"-"},{"$f":"'Local Controller Data - EXIST'!H571","v":"-"},{"$f":"'Local Controller Data - EXIST'!I571","v":"-"},{"$f":"'Local Controller Data - EXIST'!J571","v":"-"},{"$f":"'Local Controller Data - EXIST'!K571","v":"-"},null,"PEDESTRIAN CLEARANCE",null,"(SEC.)",{"$f":"'Local Controller Data - PROP'!D571","v":"-"},{"$f":"'Local Controller Data - PROP'!E571","v":"-"},{"$f":"'Local Controller Data - PROP'!F571","v":"-"},{"$f":"'Local Controller Data - PROP'!G571","v":"-"},{"$f":"'Local Controller Data - PROP'!H571","v":"-"},{"$f":"'Local Controller Data - PROP'!I571","v":"-"},{"$f":"'Local Controller Data - PROP'!J571","v":"-"},{"$f":"'Local Controller Data - PROP'!K571","v":"-"}]
["RECALL","MAXIMUM","(ON/OFF)",{"$f":"'Local Controller Data - EXIST'!D572","v":"-"},{"$f":"'Local Controller Data - EXIST'!E572","v":"-"},{"$f":"'Local Controller Data - EXIST'!F572","v":"-"},{"$f":"'Local Controller Data - EXIST'!G572","v":"-"},{"$f":"'Local Controller Data - EXIST'!H572","v":"-"},{"$f":"'Local Controller Data - EXIST'!I572","v":"-"},{"$f":"'Local Controller Data - EXIST'!J572","v":"-"},{"$f":"'Local Controller Data - EXIST'!K572","v":"-"},null,"RECALL","MAXIMUM","(ON/OFF)",{"$f":"'Local Controller Data - PROP'!D572","v":"-"},{"$f":"'Local Controller Data - PROP'!E572","v":"-"},{"$f":"'Local Controller Data - PROP'!F572","v":"-"},{"$f":"'Local Controller Data - PROP'!G572","v":"-"},{"$f":"'Local Controller Data - PROP'!H572","v":"-"},{"$f":"'Local Controller Data - PROP'!I572","v":"-"},{"$f":"'Local Controller Data - PROP'!J572","v":"-"},{"$f":"'Local Controller Data - PROP'!K572","v":"-"}]
[null,"MINIMUM","(ON/OFF)",{"$f":"'Local Controller Data - EXIST'!D573","v":"-"},{"$f":"'Local Controller Data - EXIST'!E573","v":"-"},{"$f":"'Local Controller Data - EXIST'!F573","v":"-"},{"$f":"'Local Controller Data - EXIST'!G573","v":"-"},{"$f":"'Local Controller Data - EXIST'!H573","v":"-"},{"$f":"'Local Controller Data - EXIST'!I573","v":"-"},{"$f":"'Local Controller Data - EXIST'!J573","v":"-"},{"$f":"'Local Controller Data - EXIST'!K573","v":"-"},null,null,"MINIMUM","(ON/OFF)",{"$f":"'Local Controller Data - PROP'!D573","v":"-"},{"$f":"'Local Controller Data - PROP'!E573","v":"-"},{"$f":"'Local Controller Data - PROP'!F573","v":"-"},{"$f":"'Local Controller Data - PROP'!G573","v":"-"},{"$f":"'Local Controller Data - PROP'!H573","v":"-"},{"$f":"'Local Controller Data - PROP'!I573","v":"-"},{"$f":"'Local Controller Data - PROP'!J573","v":"-"},{"$f":"'Local Controller Data - PROP'!K573","v":"-"}]
[null,"PEDESTRIAN","(ON/OFF)",{"$f":"'Local Controller Data - EXIST'!D574","v":"-"},{"$f":"'Local Controller Data - EXIST'!E574","v":"-"},{"$f":"'Local Controller Data - EXIST'!F574","v":"-"},{"$f":"'Local Controller Data - EXIST'!G574","v":"-"},{"$f":"'Local Controller Data - EXIST'!H574","v":"-"},{"$f":"'Local Controller Data - EXIST'!I574","v":"-"},{"$f":"'Local Controller Data - EXIST'!J574","v":"-"},{"$f":"'Local Controller Data - EXIST'!K574","v":"-"},null,null,"PEDESTRIAN","(ON/OFF)",{"$f":"'Local Controller Data - PROP'!D574","v":"-"},{"$f":"'Local Controller Data - PROP'!E574","v":"-"},{"$f":"'Local Controller Data - PROP'!F574","v":"-"},{"$f":"'Local Controller Data - PROP'!G574","v":"-"},{"$f":"'Local Controller Data - PROP'!H574","v":"-"},{"$f":"'Local Controller Data - PROP'!I574","v":"-"},{"$f":"'Local Controller Data - PROP'!J574","v":"-"},{"$f":"'Local Controller Data - PROP'!K574","v":"-"}]
["MEMORY    ",null,"(ON/OFF)",{"$f":"'Local Controller Data - EXIST'!D575","v":"-"},{"$f":"'Local Controller Data - EXIST'!E575","v":"-"},{"$f":"'Local Controller Data - EXIST'!F575","v":"-"},{"$f":"'Local Controller Data - EXIST'!G575","v":"-"},{"$f":"'Local Controller Data - EXIST'!H575","v":"-"},{"$f":"'Local Controller Data - EXIST'!I575","v":"-"},{"$f":"'Local Controller Data - EXIST'!J575","v":"-"},{"$f":"'Local Controller Data - EXIST'!K575","v":"-"},null,"MEMORY    ",null,"(ON/OFF)",{"$f":"'Local Controller Data - PROP'!D575","v":"-"},{"$f":"'Local Controller Data - PROP'!E575","v":"-"},{"$f":"'Local Controller Data - PROP'!F575","v":"-"},{"$f":"'Local Controller Data - PROP'!G575","v":"-"},{"$f":"'Local Controller Data - PROP'!H575","v":"-"},{"$f":"'Local Controller Data - PROP'!I575","v":"-"},{"$f":"'Local Controller Data - PROP'!J575","v":"-"},{"$f":"'Local Controller Data - PROP'!K575","v":"-"}]
["*VOLUME DENSITY CONTROLS",null,null,null,null,null,null,null,null,null,null,null,"*VOLUME DENSITY CONTROLS"]
["# FOR CROSSINGS WITH PEDESTRIAN PUSHBUTTONS, LPI'S (LEADING PEDESTRIAN INTERVALS) MAY BE IMPLEMENTED (3-6 SEC.) IN ACCORDANCE WITH LPI DURATION TIME PER THE ODOT SIGNAL CALCULATIONS - CLEARANCE INTERVALS SPREADSHEET",null,null,null,null,null,null,null,null,null,null,null,"# FOR CROSSINGS WITH PEDESTRIAN PUSHBUTTONS, LPI'S (LEADING PEDESTRIAN INTERVALS) MAY BE IMPLEMENTED (3-6 SEC.) IN ACCORDANCE WITH LPI DURATION TIME PER THE ODOT SIGNAL CALCULATIONS - CLEARANCE INTERVALS SPREADSHEET"]
["^ WHEN IMPLEMENTING FYA, A MINIMUM 3 SEC. DELAY SHALL BE PROGRAMMED PER FYA PHASE. ",null,null,null,null,null,null,null,null,null,null,null,"^ WHEN IMPLEMENTING FYA, A MINIMUM 3 SEC. DELAY SHALL BE PROGRAMMED PER FYA PHASE. "]
[]
["ECONOLITE COORD SETTINGS",null,null,"SIEMENS COORD SETTINGS",null,null,null,null,null,null,null,null,"ECONOLITE COORD SETTINGS",null,null,"SIEMENS COORD SETTINGS"]
["MANUAL PATTERN",{"$f":"'Local Controller Data - EXIST'!B583","v":"-"},null,"OPERATION",null,null,null,"-",null,null,null,null,"MANUAL PATTERN",{"$f":"'Local Controller Data - PROP'!B583","v":"-"},null,"OPERATION",null,null,null,"-"]
["SYSTEM SOURCE",{"$f":"'Local Controller Data - EXIST'!B584","v":"-"},null,"MODE (NORMAL)",null,null,null,"-",null,null,null,null,"SYSTEM SOURCE",{"$f":"'Local Controller Data - PROP'!B584","v":"-"},null,"MODE (NORMAL)",null,null,null,"-"]
["SPLITS IN",{"$f":"'Local Controller Data - EXIST'!B585","v":"-"},null,"MAXIMUM",null,null,null,"-",null,null,null,null,"SPLITS IN",{"$f":"'Local Controller Data - PROP'!B585","v":"-"},null,"MAXIMUM",null,null,null,"-"]
["TRANSITION",{"$f":"'Local Controller Data - EXIST'!B586","v":"-"},null,"CORRECTION",null,null,null,"-",null,null,null,null,"TRANSITION",{"$f":"'Local Controller Data - PROP'!B586","v":"-"},null,"CORRECTION",null,null,null,"-"]
["DWELL/ADD TIME",{"$f":"'Local Controller Data - EXIST'!B587","v":"-"},null,"OFFSET MODE",null,null,null,"-",null,null,null,null,"DWELL/ADD TIME",{"$f":"'Local Controller Data - PROP'!B587","v":"-"},null,"OFFSET MODE",null,null,null,"-"]
["OFFSET REFERENCE",{"$f":"'Local Controller Data - EXIST'!B588","v":"-"},null,"FORCE MODE",null,null,null,"-",null,null,null,null,"OFFSET REFERENCE",{"$f":"'Local Controller Data - PROP'!B588","v":"-"},null,"FORCE MODE",null,null,null,"-"]
["PED RECALL",{"$f":"'Local Controller Data - EXIST'!B589","v":"-"},null,"MAX DWELL TIME",null,null,null,"-",null,null,null,null,"PED RECALL",{"$f":"'Local Controller Data - PROP'!B589","v":"-"},null,"MAX DWELL TIME",null,null,null,"-"]
["LOCAL ZERO OVERRIDE",{"$f":"'Local Controller Data - EXIST'!B590","v":"-"},null,"YIELD PERIOD",null,null,null,"-",null,null,null,null,"LOCAL ZERO OVERRIDE",{"$f":"'Local Controller Data - PROP'!B590","v":"-"},null,"YIELD PERIOD",null,null,null,"-"]
["RE-SYNC COUNT",{"$f":"'Local Controller Data - EXIST'!B591","v":"-"},null,"MANUAL CONTROL: DIAL",null,null,null,"-",null,null,null,null,"RE-SYNC COUNT",{"$f":"'Local Controller Data - PROP'!B591","v":"-"},null,"MANUAL CONTROL: DIAL",null,null,null,"-"]
["ECPI COORD",{"$f":"'Local Controller Data - EXIST'!B592","v":"-"},null,"MANUAL CONTROL: SPLIT",null,null,null,"-",null,null,null,null,"ECPI COORD",{"$f":"'Local Controller Data - PROP'!B592","v":"-"},null,"MANUAL CONTROL: SPLIT",null,null,null,"-"]
["SYSTEM FORMAT ",{"$f":"'Local Controller Data - EXIST'!B593","v":"-"},null,"MANUAL CONTROL: OFFSET",null,null,null,"-",null,null,null,null,"SYSTEM FORMAT ",{"$f":"'Local Controller Data - PROP'!B593","v":"-"},null,"MANUAL CONTROL: OFFSET",null,null,null,"-"]
["OFFSET IN",{"$f":"'Local Controller Data - EXIST'!B594","v":"-"},null,null,null,null,null,null,null,null,null,null,"OFFSET IN",{"$f":"'Local Controller Data - PROP'!B594","v":"-"}]
["MAX SELECT",{"$f":"'Local Controller Data - EXIST'!B595","v":"-"},null,null,null,null,null,null,null,null,null,null,"MAX SELECT",{"$f":"'Local Controller Data - PROP'!B595","v":"-"}]
["FORCE OFF",{"$f":"'Local Controller Data - EXIST'!B596","v":"-"},null,null,null,null,null,null,null,null,null,null,"FORCE OFF",{"$f":"'Local Controller Data - PROP'!B596","v":"-"}]
["USE PED TIME",{"$f":"'Local Controller Data - EXIST'!B597","v":"-"},null,null,null,null,null,null,null,null,null,null,"USE PED TIME",{"$f":"'Local Controller Data - PROP'!B597","v":"-"}]
["PED RESERVICE",{"$f":"'Local Controller Data - EXIST'!B598","v":"-"},null,null,null,null,null,null,null,null,null,null,"PED RESERVICE",{"$f":"'Local Controller Data - PROP'!B598","v":"-"}]
["FO ADD INI GRN",{"$f":"'Local Controller Data - EXIST'!B599","v":"-"},null,null,null,null,null,null,null,null,null,null,"FO ADD INI GRN",{"$f":"'Local Controller Data - PROP'!B599","v":"-"}]
["MULTISYNC",{"$f":"'Local Controller Data - EXIST'!B600","v":"-"},null,null,null,null,null,null,null,"EXISTING TIMING",null,null,"MULTISYNC",{"$f":"'Local Controller Data - PROP'!B600","v":"-"},null,null,null,null,null,null,null,"PROPOSED TIMING"]

{"sheet":"Volume Data","index":4,"n_rows":144,"n_cols":14,"rows_kept":144,"cut":false,"hidden":false,"merged":[[128,2,128,13],[135,0,135,13],[138,2,138,13],[95,0,95,13],[98,2,98,13],[105,0,105,13],[108,2,108,13],[115,0,115,13],[118,2,118,13],[127,0,127,1],[136,0,136,1],[126,0,126,1],[0,0,0,13],[125,0,125,13],[14,0,14,8],[15,0,15,8],[1,0,1,13],[8,7,8,8],[6,0,6,8],[10,2,10,4],[9,1,9,8],[8,1,8,3],[88,2,88,13],[55,0,55,13],[58,2,58,13],[45,0,45,13],[48,2,48,13],[65,0,65,13],[68,2,68,13],[75,0,75,13],[57,0,57,1],[66,0,66,1],[47,0,47,1],[56,0,56,1],[67,0,67,1],[78,2,78,13],[85,0,85,13],[46,0,46,1],[137,0,137,1],[11,2,11,7],[12,1,12,5],[97,0,97,1],[106,0,106,1],[107,0,107,1],[116,0,116,1],[117,0,117,1],[76,0,76,1],[77,0,77,1],[86,0,86,1],[87,0,87,1],[96,0,96,1]]}
[{"$f":"'Project Name'!$C$2","v":0}]
["Volume Data"]
["General Notes:"]
["1. Volumes are per hour"]
["2. Corresponding Plan No.'s are shown on Timing Summary"]
[]
["COUNT INFORMATION"]
[]
["Month/Year:   ",null,null,null,null,"Day of Week:"]
["Time Period(s):"]
["Total Number of Hours:"]
["Method of Obtaining Counts1:"]
["Type of Count2:"]
[]
["1 Count Board, Video, Tube Counts, etc."]
["2 Turning Movement Count (TMC), Average Daily Traffic (ADT), etc."]
[]
[]
[]
[]
[]
[]
[]
[]
[]
[]
[]
[]
[]
[]
[]
[]
[]
[]
[]
[]
[]
[]
[]
[]
[]
[]
[]
[]
[]
["\"INTERSECTION 1\""]
["PHASE",null,1,2,"2/PED",3,4,"4/PED",5,6,"6/PED",7,8,"8/PED"]
["DIRECTION",null,"-","-","-","-","-","-","-","-","-","-","-","-"]
["EX. PLAN NO.","PROP. PLAN NO.","VEHICULAR/PED PEAK HOURLY VOLUME"]
["-","-","-","-","-","-","-","-","-","-","-","-","-","-"]
["-","-","-","-","-","-","-","-","-","-","-","-","-","-"]
["-","-","-","-","-","-","-","-","-","-","-","-","-","-"]
["-","-","-","-","-","-","-","-","-","-","-","-","-","-"]
["-","-","-","-","-","-","-","-","-","-","-","-","-","-"]
[]
["\"INTERSECTION 2\""]
["PHASE",null,1,2,"2/PED",3,4,"4/PED",5,6,"6/PED",7,8,"8/PED"]
["DIRECTION",null,"-","-","-","-","-","-","-","-","-","-","-","-"]
["EX. PLAN NO.","PROP. PLAN NO.","VEHICULAR/PED PEAK HOURLY VOLUME"]
["-","-","-","-","-","-","-","-","-","-","-","-","-","-"]
["-","-","-","-","-","-","-","-","-","-","-","-","-","-"]
["-","-","-","-","-","-","-","-","-","-","-","-","-","-"]
["-","-","-","-","-","-","-","-","-","-","-","-","-","-"]
["-","-","-","-","-","-","-","-","-","-","-","-","-","-"]
[]
["\"INTERSECTION 3\""]
["PHASE",null,1,2,"2/PED",3,4,"4/PED",5,6,"6/PED",7,8,"8/PED"]
["DIRECTION",null,"-","-","-","-","-","-","-","-","-","-","-","-"]
["EX. PLAN NO.","PROP. PLAN NO.","VEHICULAR/PED PEAK HOURLY VOLUME"]
["-","-","-","-","-","-","-","-","-","-","-","-","-","-"]
["-","-","-","-","-","-","-","-","-","-","-","-","-","-"]
["-","-","-","-","-","-","-","-","-","-","-","-","-","-"]
["-","-","-","-","-","-","-","-","-","-","-","-","-","-"]
["-","-","-","-","-","-","-","-","-","-","-","-","-","-"]
[]
["\"INTERSECTION 4\""]
["PHASE",null,1,2,"2/PED",3,4,"4/PED",5,6,"6/PED",7,8,"8/PED"]
["DIRECTION",null,"-","-","-","-","-","-","-","-","-","-","-","-"]
["EX. PLAN NO.","PROP. PLAN NO.","VEHICULAR/PED PEAK HOURLY VOLUME"]
["-","-","-","-","-","-","-","-","-","-","-","-","-","-"]
["-","-","-","-","-","-","-","-","-","-","-","-","-","-"]
["-","-","-","-","-","-","-","-","-","-","-","-","-","-"]
["-","-","-","-","-","-","-","-","-","-","-","-","-","-"]
["-","-","-","-","-","-","-","-","-","-","-","-","-","-"]
[]
["\"INTERSECTION 5\""]
["PHASE",null,1,2,"2/PED",3,4,"4/PED",5,6,"6/PED",7,8,"8/PED"]
["DIRECTION",null,"-","-","-","-","-","-","-","-","-","-","-","-"]
["EX. PLAN NO.","PROP. PLAN NO.","VEHICULAR/PED PEAK HOURLY VOLUME"]
["-","-","-","-","-","-","-","-","-","-","-","-","-","-"]
["-","-","-","-","-","-","-","-","-","-","-","-","-","-"]
["-","-","-","-","-","-","-","-","-","-","-","-","-","-"]
["-","-","-","-","-","-","-","-","-","-","-","-","-","-"]
["-","-","-","-","-","-","-","-","-","-","-","-","-","-"]
[]
["\"INTERSECTION 6\""]
["PHASE",null,1,2,"2/PED",3,4,"4/PED",5,6,"6/PED",7,8,"8/PED"]
["DIRECTION",null,"-","-","-","-","-","-","-","-","-","-","-","-"]
["EX. PLAN NO.","PROP. PLAN NO.","VEHICULAR/PED PEAK HOURLY VOLUME"]
["-","-","-","-","-","-","-","-","-","-","-","-","-","-"]
["-","-","-","-","-","-","-","-","-","-","-","-","-","-"]
["-","-","-","-","-","-","-","-","-","-","-","-","-","-"]
["-","-","-","-","-","-","-","-","-","-","-","-","-","-"]
["-","-","-","-","-","-","-","-","-","-","-","-","-","-"]
[]
["\"INTERSECTION 7\""]
["PHASE",null,1,2,"2/PED",3,4,"4/PED",5,6,"6/PED",7,8,"8/PED"]
["DIRECTION",null,"-","-","-","-","-","-","-","-","-","-","-","-"]
["EX. PLAN NO.","PROP. PLAN NO.","VEHICULAR/PED PEAK HOURLY VOLUME"]
["-","-","-","-","-","-","-","-","-","-","-","-","-","-"]
["-","-","-","-","-","-","-","-","-","-","-","-","-","-"]
["-","-","-","-","-","-","-","-","-","-","-","-","-","-"]
["-","-","-","-","-","-","-","-","-","-","-","-","-","-"]
["-","-","-","-","-","-","-","-","-","-","-","-","-","-"]
[]
["\"INTERSECTION 8\""]
["PHASE",null,1,2,"2/PED",3,4,"4/PED",5,6,"6/PED",7,8,"8/PED"]
["DIRECTION",null,"-","-","-","-","-","-","-","-","-","-","-","-"]
["EX. PLAN NO.","PROP. PLAN NO.","VEHICULAR/PED PEAK HOURLY VOLUME"]
["-","-","-","-","-","-","-","-","-","-","-","-","-","-"]
["-","-","-","-","-","-","-","-","-","-","-","-","-","-"]
["-","-","-","-","-","-","-","-","-","-","-","-","-","-"]
["-","-","-","-","-","-","-","-","-","-","-","-","-","-"]
["-","-","-","-","-","-","-","-","-","-","-","-","-","-"]
[]
["\"INTERSECTION 9\""]
["PHASE",null,1,2,"2/PED",3,4,"4/PED",5,6,"6/PED",7,8,"8/PED"]
["DIRECTION",null,"-","-","-","-","-","-","-","-","-","-","-","-"]
["EX. PLAN NO.","PROP. PLAN NO.","VEHICULAR/PED PEAK HOURLY VOLUME"]
["-","-","-","-","-","-","-","-","-","-","-","-","-","-"]
["-","-","-","-","-","-","-","-","-","-","-","-","-","-"]
["-","-","-","-","-","-","-","-","-","-","-","-","-","-"]
["-","-","-","-","-","-","-","-","-","-","-","-","-","-"]
["-","-","-","-","-","-","-","-","-","-","-","-","-","-"]
[]
["\"INTERSECTION 10\""]
["PHASE",null,1,2,"2/PED",3,4,"4/PED",5,6,"6/PED",7,8,"8/PED"]
["DIRECTION",null,"-","-","-","-","-","-","-","-","-","-","-","-"]
["EX. PLAN NO.","PROP. PLAN NO.","VEHICULAR/PED PEAK HOURLY VOLUME"]
["-","-","-","-","-","-","-","-","-","-","-","-","-","-"]
["-","-","-","-","-","-","-","-","-","-","-","-","-","-"]
["-","-","-","-","-","-","-","-","-","-","-","-","-","-"]
["-","-","-","-","-","-","-","-","-","-","-","-","-","-"]
["-","-","-","-","-","-","-","-","-","-","-","-","-","-"]

{"sheet":"Coordination Timing - EXISTING","index":5,"n_rows":151,"n_cols":19,"rows_kept":151,"cut":false,"hidden":false,"merged":[[3,0,3,4],[3,5,3,9],[4,0,4,2],[1,0,1,10],[142,0,142,10],[143,9,145,9],[143,10,145,10],[145,1,145,8],[122,0,122,10],[123,9,125,9],[123,10,125,10],[125,1,125,8],[132,0,132,10],[133,9,135,9],[133,10,135,10],[135,1,135,8],[113,9,115,9],[113,10,115,10],[115,1,115,8],[82,0,82,10],[83,9,85,9],[83,10,85,10],[85,1,85,8],[92,0,92,10],[93,9,95,9],[93,10,95,10],[95,1,95,8],[102,0,102,10],[103,9,105,9],[103,10,105,10],[105,1,105,8],[112,0,112,10],[19,1,19,2],[19,3,19,4],[19,5,19,7],[19,8,19,10],[20,1,20,2],[20,3,20,4],[20,5,20,7],[20,8,20,10],[73,9,75,9],[73,10,75,10],[75,1,75,8],[21,1,21,2],[21,3,21,4],[21,5,21,7],[21,8,21,10],[52,0,52,10],[55,1,55,8],[62,0,62,10],[63,9,65,9],[63,10,65,10],[65,1,65,8],[72,0,72,10],[16,1,16,2],[16,3,16,4],[16,5,16,7],[16,8,16,10],[17,1,17,2],[17,3,17,4],[17,5,17,7],[17,8,17,10],[18,1,18,2],[18,3,18,4],[18,5,18,7],[18,8,18,10],[54,11,55,12],[54,13,55,14],[54,15,55,16],[53,11,53,16],[0,0,0,10],[11,0,11,10],[12,1,12,2],[12,3,12,4],[12,5,12,7],[12,8,12,10],[13,1,13,2],[13,3,13,4],[13,5,13,7],[13,8,13,10],[14,1,14,2],[14,3,14,4],[14,5,14,7],[14,8,14,10],[15,1,15,2],[15,3,15,4],[15,5,15,7],[15,8,15,10],[53,9,55,9],[53,10,55,10],[74,11,75,12],[74,13,75,14],[74,15,75,16],[83,11,83,16],[84,11,85,12],[84,13,85,14],[84,15,85,16],[63,11,63,16],[64,11,65,12],[64,13,65,14],[64,15,65,16],[73,11,73,16],[104,11,105,12],[104,13,105,14],[104,15,105,16],[113,11,113,16],[114,11,115,12],[114,13,115,14],[114,15,115,16],[93,11,93,16],[94,11,95,12],[94,13,95,14],[94,15,95,16],[103,11,103,16],[134,11,135,12],[134,13,135,14],[134,15,135,16],[143,11,143,16],[144,11,145,12],[144,13,145,14],[144,15,145,16],[123,11,123,16],[124,11,125,12],[124,13,125,14],[124,15,125,16],[133,11,133,16]]}
[{"$f":"'Project Name'!$C$2","v":0}]
["Signal Timing Summary - EXISTING"]
["General Notes:"]
["1.  All offsets are measured from the referenced phase",null,null,null,null,"END OF GREEN / BEGINNING OF YELLOW",null,null,null,null,null,null,null,null,null,null,null,null,"-"]
["2.  All offsets are measured from",null,null,"φ 2","&","φ 6",null,null,null,null,null,null,null,null,null,null,null,null,"END OF GREEN / BEGINNING OF YELLOW"]
["3.  Shared schedules of the Week listed (ex. Mon-Fri)"]
["4.  Plan Name shall denote AM Plan, PM Plan, Midday, etc."]
["5.  Hours shall be listed in military time (ex. 0600-01300)"]
["6.  Plan No. or C/S/O shall be listed programmed in Controller (follow template if provided)"]
[]
[null,null,null,null,null,null,null,null,null,null,null,null,null,null,null,null,null,null,"BEGINNING OF GREEN"]
["COORDINATION TIMING PLANS",null,null,null,null,null,null,null,null,null,null,null,null,null,null,null,null,null,"170 STYLE"]
["DAY(S) OF WEEK","PLAN NAME",null,"HOURS",null,"PLAN NO. OR\nCYCLE/SPLIT/OFFSET",null,null,"CYCLE LENGTH (SEC)"]
["-","-",null,"-",null,"-",null,null,"-",null,null,null,null,null,null,null,null,null,"-"]
["-","-",null,"-",null,"-",null,null,"-",null,null,null,null,null,null,null,null,null,"φ 1"]
["-","-",null,"-",null,"-",null,null,"-",null,null,null,null,null,null,null,null,null,"φ 2"]
["-","-",null,"-",null,"-",null,null,"-",null,null,null,null,null,null,null,null,null,"φ 3"]
["-","-",null,"-",null,"-",null,null,"-",null,null,null,null,null,null,null,null,null,"φ 4"]
["-","-",null,"-",null,"-",null,null,"-",null,null,null,null,null,null,null,null,null,"φ 5"]
["-","-",null,"-",null,"-",null,null,"-",null,null,null,null,null,null,null,null,null,"φ 6"]
["-","-",null,"-",null,"-",null,null,"-",null,null,null,null,null,null,null,null,null,"φ 7"]
["-","-",null,"-",null,"-",null,null,"-",null,null,null,null,null,null,null,null,null,"φ 8"]
[]
[]
[null,null,null,null,null,null,null,null,null,null,null,null,null,null,null,null,null,null,"&"]
[]
[]
[]
[]
[]
[]
[]
[]
[]
[]
[]
[]
[]
[]
[]
[]
[]
[]
[]
[]
[]
[]
[]
[]
[]
[]
[null,null,null,null,null,null,null,null,null,null,null,"*Note: Calculation checks do not account for split phasing."]
["\"INTERSECTION 1\""]
["PHASE",1,2,3,4,5,6,7,8,"OFFSET 1 (SEC)","OFFSET 2 (SEC)","CALCULATION CHECKS"]
["DIRECTION","-","-","-","-","-","-","-","-",null,null,"1+2+3+4 = 5+6+7+8?",null,"1+2 = 5+6?",null,"3+4 = 7+8?"]
["PLAN NO. OR C/S/O","SPLITS (G+Y+AR) IN SECONDS"]
["-","-","-","-","-","-","-","-","-","-","-",{"$f":"(IF(B57=\"-\",0,B57))+(IF(C57=\"-\",0,C57))+(IF(D57=\"-\",0,D57))+(IF(E57=\"-\",0,E57))","v":0},{"$f":"(IF(F57=\"-\",0,F57))+(IF(G57=\"-\",0,G57))+(IF(H57=\"-\",0,H57))+(IF(I57=\"-\",0,I57))","v":0},{"$f":"(IF(B57=\"-\",0,B57))+(IF(C57=\"-\",0,C57))","v":0},{"$f":"(IF(F57=\"-\",0,F57))+(IF(G57=\"-\",0,G57))","v":0},{"$f":"(IF(D57=\"-\",0,D57))+(IF(E57=\"-\",0,E57))","v":0},{"$f":"(IF(H57=\"-\",0,H57))+(IF(I57=\"-\",0,I57))","v":0}]
["-","-","-","-","-","-","-","-","-","-","-",{"$f":"(IF(B58=\"-\",0,B58))+(IF(C58=\"-\",0,C58))+(IF(D58=\"-\",0,D58))+(IF(E58=\"-\",0,E58))","v":0},{"$f":"(IF(F58=\"-\",0,F58))+(IF(G58=\"-\",0,G58))+(IF(H58=\"-\",0,H58))+(IF(I58=\"-\",0,I58))","v":0},{"$f":"(IF(B58=\"-\",0,B58))+(IF(C58=\"-\",0,C58))","v":0},{"$f":"(IF(F58=\"-\",0,F58))+(IF(G58=\"-\",0,G58))","v":0},{"$f":"(IF(D58=\"-\",0,D58))+(IF(E58=\"-\",0,E58))","v":0},{"$f":"(IF(H58=\"-\",0,H58))+(IF(I58=\"-\",0,I58))","v":0}]
["-","-","-","-","-","-","-","-","-","-","-",0,0,0,0,0,0]
["-","-","-","-","-","-","-","-","-","-","-",0,0,0,0,0,0]
["-","-","-","-","-","-","-","-","-","-","-",0,0,0,0,0,0]
[]
["\"INTERSECTION 2\""]
["PHASE",1,2,3,4,5,6,7,8,"OFFSET 1 (SEC)","OFFSET 2 (SEC)","CALCULATION CHECKS"]
["DIRECTION","-","-","-","-","-","-","-","-",null,null,"1+2+3+4 = 5+6+7+8?",null,"1+2 = 5+6?",null,"3+4 = 7+8?"]
["PLAN NO. OR C/S/O","SPLITS (G+Y+AR) IN SECONDS"]
["-","-","-","-","-","-","-","-","-","-","-",{"$f":"(IF(B67=\"-\",0,B67))+(IF(C67=\"-\",0,C67))+(IF(D67=\"-\",0,D67))+(IF(E67=\"-\",0,E67))","v":0},{"$f":"(IF(F67=\"-\",0,F67))+(IF(G67=\"-\",0,G67))+(IF(H67=\"-\",0,H67))+(IF(I67=\"-\",0,I67))","v":0},{"$f":"(IF(B67=\"-\",0,B67))+(IF(C67=\"-\",0,C67))","v":0},{"$f":"(IF(F67=\"-\",0,F67))+(IF(G67=\"-\",0,G67))","v":0},{"$f":"(IF(D67=\"-\",0,D67))+(IF(E67=\"-\",0,E67))","v":0},{"$f":"(IF(H67=\"-\",0,H67))+(IF(I67=\"-\",0,I67))","v":0}]
["-","-","-","-","-","-","-","-","-","-","-",{"$f":"(IF(B68=\"-\",0,B68))+(IF(C68=\"-\",0,C68))+(IF(D68=\"-\",0,D68))+(IF(E68=\"-\",0,E68))","v":0},{"$f":"(IF(F68=\"-\",0,F68))+(IF(G68=\"-\",0,G68))+(IF(H68=\"-\",0,H68))+(IF(I68=\"-\",0,I68))","v":0},{"$f":"(IF(B68=\"-\",0,B68))+(IF(C68=\"-\",0,C68))","v":0},{"$f":"(IF(F68=\"-\",0,F68))+(IF(G68=\"-\",0,G68))","v":0},{"$f":"(IF(D68=\"-\",0,D68))+(IF(E68=\"-\",0,E68))","v":0},{"$f":"(IF(H68=\"-\",0,H68))+(IF(I68=\"-\",0,I68))","v":0}]
["-","-","-","-","-","-","-","-","-","-","-",0,0,0,0,0,0]
["-","-","-","-","-","-","-","-","-","-","-",0,0,0,0,0,0]
["-","-","-","-","-","-","-","-","-","-","-",0,0,0,0,0,0]
[]
["\"INTERSECTION 3\""]
["PHASE",1,2,3,4,5,6,7,8,"OFFSET 1 (SEC)","OFFSET 2 (SEC)","CALCULATION CHECKS"]
["DIRECTION","-","-","-","-","-","-","-","-",null,null,"1+2+3+4 = 5+6+7+8?",null,"1+2 = 5+6?",null,"3+4 = 7+8?"]
["PLAN NO. OR C/S/O","SPLITS (G+Y+AR) IN SECONDS"]
["-","-","-","-","-","-","-","-","-","-","-",{"$f":"(IF(B77=\"-\",0,B77))+(IF(C77=\"-\",0,C77))+(IF(D77=\"-\",0,D77))+(IF(E77=\"-\",0,E77))","v":0},{"$f":"(IF(F77=\"-\",0,F77))+(IF(G77=\"-\",0,G77))+(IF(H77=\"-\",0,H77))+(IF(I77=\"-\",0,I77))","v":0},{"$f":"(IF(B77=\"-\",0,B77))+(IF(C77=\"-\",0,C77))","v":0},{"$f":"(IF(F77=\"-\",0,F77))+(IF(G77=\"-\",0,G77))","v":0},{"$f":"(IF(D77=\"-\",0,D77))+(IF(E77=\"-\",0,E77))","v":0},{"$f":"(IF(H77=\"-\",0,H77))+(IF(I77=\"-\",0,I77))","v":0}]
["-","-","-","-","-","-","-","-","-","-","-",{"$f":"(IF(B78=\"-\",0,B78))+(IF(C78=\"-\",0,C78))+(IF(D78=\"-\",0,D78))+(IF(E78=\"-\",0,E78))","v":0},{"$f":"(IF(F78=\"-\",0,F78))+(IF(G78=\"-\",0,G78))+(IF(H78=\"-\",0,H78))+(IF(I78=\"-\",0,I78))","v":0},{"$f":"(IF(B78=\"-\",0,B78))+(IF(C78=\"-\",0,C78))","v":0},{"$f":"(IF(F78=\"-\",0,F78))+(IF(G78=\"-\",0,G78))","v":0},{"$f":"(IF(D78=\"-\",0,D78))+(IF(E78=\"-\",0,E78))","v":0},{"$f":"(IF(H78=\"-\",0,H78))+(IF(I78=\"-\",0,I78))","v":0}]
["-","-","-","-","-","-","-","-","-","-","-",0,0,0,0,0,0]
["-","-","-","-","-","-","-","-","-","-","-",0,0,0,0,0,0]
["-","-","-","-","-","-","-","-","-","-","-",0,0,0,0,0,0]
[]
["\"INTERSECTION 4\""]
["PHASE",1,2,3,4,5,6,7,8,"OFFSET 1 (SEC)","OFFSET 2 (SEC)","CALCULATION CHECKS"]
["DIRECTION","-","-","-","-","-","-","-","-",null,null,"1+2+3+4 = 5+6+7+8?",null,"1+2 = 5+6?",null,"3+4 = 7+8?"]
["PLAN NO. OR C/S/O","SPLITS (G+Y+AR) IN SECONDS"]
["-","-","-","-","-","-","-","-","-","-","-",{"$f":"(IF(B87=\"-\",0,B87))+(IF(C87=\"-\",0,C87))+(IF(D87=\"-\",0,D87))+(IF(E87=\"-\",0,E87))","v":0},{"$f":"(IF(F87=\"-\",0,F87))+(IF(G87=\"-\",0,G87))+(IF(H87=\"-\",0,H87))+(IF(I87=\"-\",0,I87))","v":0},{"$f":"(IF(B87=\"-\",0,B87))+(IF(C87=\"-\",0,C87))","v":0},{"$f":"(IF(F87=\"-\",0,F87))+(IF(G87=\"-\",0,G87))","v":0},{"$f":"(IF(D87=\"-\",0,D87))+(IF(E87=\"-\",0,E87))","v":0},{"$f":"(IF(H87=\"-\",0,H87))+(IF(I87=\"-\",0,I87))","v":0}]
["-","-","-","-","-","-","-","-","-","-","-",{"$f":"(IF(B88=\"-\",0,B88))+(IF(C88=\"-\",0,C88))+(IF(D88=\"-\",0,D88))+(IF(E88=\"-\",0,E88))","v":0},{"$f":"(IF(F88=\"-\",0,F88))+(IF(G88=\"-\",0,G88))+(IF(H88=\"-\",0,H88))+(IF(I88=\"-\",0,I88))","v":0},{"$f":"(IF(B88=\"-\",0,B88))+(IF(C88=\"-\",0,C88))","v":0},{"$f":"(IF(F88=\"-\",0,F88))+(IF(G88=\"-\",0,G88))","v":0},{"$f":"(IF(D88=\"-\",0,D88))+(IF(E88=\"-\",0,E88))","v":0},{"$f":"(IF(H88=\"-\",0,H88))+(IF(I88=\"-\",0,I88))","v":0}]
["-","-","-","-","-","-","-","-","-","-","-",0,0,0,0,0,0]
["-","-","-","-","-","-","-","-","-","-","-",0,0,0,0,0,0]
["-","-","-","-","-","-","-","-","-","-","-",0,0,0,0,0,0]
[]
["\"INTERSECTION 5\""]
["PHASE",1,2,3,4,5,6,7,8,"OFFSET 1 (SEC)","OFFSET 2 (SEC)","CALCULATION CHECKS"]
["DIRECTION","-","-","-","-","-","-","-","-",null,null,"1+2+3+4 = 5+6+7+8?",null,"1+2 = 5+6?",null,"3+4 = 7+8?"]
["PLAN NO. OR C/S/O","SPLITS (G+Y+AR) IN SECONDS"]
["-","-","-","-","-","-","-","-","-","-","-",{"$f":"(IF(B97=\"-\",0,B97))+(IF(C97=\"-\",0,C97))+(IF(D97=\"-\",0,D97))+(IF(E97=\"-\",0,E97))","v":0},{"$f":"(IF(F97=\"-\",0,F97))+(IF(G97=\"-\",0,G97))+(IF(H97=\"-\",0,H97))+(IF(I97=\"-\",0,I97))","v":0},{"$f":"(IF(B97=\"-\",0,B97))+(IF(C97=\"-\",0,C97))","v":0},{"$f":"(IF(F97=\"-\",0,F97))+(IF(G97=\"-\",0,G97))","v":0},{"$f":"(IF(D97=\"-\",0,D97))+(IF(E97=\"-\",0,E97))","v":0},{"$f":"(IF(H97=\"-\",0,H97))+(IF(I97=\"-\",0,I97))","v":0}]
["-","-","-","-","-","-","-","-","-","-","-",{"$f":"(IF(B98=\"-\",0,B98))+(IF(C98=\"-\",0,C98))+(IF(D98=\"-\",0,D98))+(IF(E98=\"-\",0,E98))","v":0},{"$f":"(IF(F98=\"-\",0,F98))+(IF(G98=\"-\",0,G98))+(IF(H98=\"-\",0,H98))+(IF(I98=\"-\",0,I98))","v":0},{"$f":"(IF(B98=\"-\",0,B98))+(IF(C98=\"-\",0,C98))","v":0},{"$f":"(IF(F98=\"-\",0,F98))+(IF(G98=\"-\",0,G98))","v":0},{"$f":"(IF(D98=\"-\",0,D98))+(IF(E98=\"-\",0,E98))","v":0},{"$f":"(IF(H98=\"-\",0,H98))+(IF(I98=\"-\",0,I98))","v":0}]
["-","-","-","-","-","-","-","-","-","-","-",0,0,0,0,0,0]
["-","-","-","-","-","-","-","-","-","-","-",0,0,0,0,0,0]
["-","-","-","-","-","-","-","-","-","-","-",0,0,0,0,0,0]
[]
["\"INTERSECTION 6\""]
["PHASE",1,2,3,4,5,6,7,8,"OFFSET 1 (SEC)","OFFSET 2 (SEC)","CALCULATION CHECKS"]
["DIRECTION","-","-","-","-","-","-","-","-",null,null,"1+2+3+4 = 5+6+7+8?",null,"1+2 = 5+6?",null,"3+4 = 7+8?"]
["PLAN NO. OR C/S/O","SPLITS (G+Y+AR) IN SECONDS"]
["-","-","-","-","-","-","-","-","-","-","-",{"$f":"(IF(B107=\"-\",0,B107))+(IF(C107=\"-\",0,C107))+(IF(D107=\"-\",0,D107))+(IF(E107=\"-\",0,E107))","v":0},{"$f":"(IF(F107=\"-\",0,F107))+(IF(G107=\"-\",0,G107))+(IF(H107=\"-\",0,H107))+(IF(I107=\"-\",0,I107))","v":0},{"$f":"(IF(B107=\"-\",0,B107))+(IF(C107=\"-\",0,C107))","v":0},{"$f":"(IF(F107=\"-\",0,F107))+(IF(G107=\"-\",0,G107))","v":0},{"$f":"(IF(D107=\"-\",0,D107))+(IF(E107=\"-\",0,E107))","v":0},{"$f":"(IF(H107=\"-\",0,H107))+(IF(I107=\"-\",0,I107))","v":0}]
["-","-","-","-","-","-","-","-","-","-","-",{"$f":"(IF(B108=\"-\",0,B108))+(IF(C108=\"-\",0,C108))+(IF(D108=\"-\",0,D108))+(IF(E108=\"-\",0,E108))","v":0},{"$f":"(IF(F108=\"-\",0,F108))+(IF(G108=\"-\",0,G108))+(IF(H108=\"-\",0,H108))+(IF(I108=\"-\",0,I108))","v":0},{"$f":"(IF(B108=\"-\",0,B108))+(IF(C108=\"-\",0,C108))","v":0},{"$f":"(IF(F108=\"-\",0,F108))+(IF(G108=\"-\",0,G108))","v":0},{"$f":"(IF(D108=\"-\",0,D108))+(IF(E108=\"-\",0,E108))","v":0},{"$f":"(IF(H108=\"-\",0,H108))+(IF(I108=\"-\",0,I108))","v":0}]
["-","-","-","-","-","-","-","-","-","-","-",0,0,0,0,0,0]
["-","-","-","-","-","-","-","-","-","-","-",0,0,0,0,0,0]
["-","-","-","-","-","-","-","-","-","-","-",0,0,0,0,0,0]
[]
["\"INTERSECTION 7\""]
["PHASE",1,2,3,4,5,6,7,8,"OFFSET 1 (SEC)","OFFSET 2 (SEC)","CALCULATION CHECKS"]
["DIRECTION","-","-","-","-","-","-","-","-",null,null,"1+2+3+4 = 5+6+7+8?",null,"1+2 = 5+6?",null,"3+4 = 7+8?"]
["PLAN NO. OR C/S/O","SPLITS (G+Y+AR) IN SECONDS"]
["-","-","-","-","-","-","-","-","-","-","-",{"$f":"(IF(B117=\"-\",0,B117))+(IF(C117=\"-\",0,C117))+(IF(D117=\"-\",0,D117))+(IF(E117=\"-\",0,E117))","v":0},{"$f":"(IF(F117=\"-\",0,F117))+(IF(G117=\"-\",0,G117))+(IF(H117=\"-\",0,H117))+(IF(I117=\"-\",0,I117))","v":0},{"$f":"(IF(B117=\"-\",0,B117))+(IF(C117=\"-\",0,C117))","v":0},{"$f":"(IF(F117=\"-\",0,F117))+(IF(G117=\"-\",0,G117))","v":0},{"$f":"(IF(D117=\"-\",0,D117))+(IF(E117=\"-\",0,E117))","v":0},{"$f":"(IF(H117=\"-\",0,H117))+(IF(I117=\"-\",0,I117))","v":0}]
["-","-","-","-","-","-","-","-","-","-","-",{"$f":"(IF(B118=\"-\",0,B118))+(IF(C118=\"-\",0,C118))+(IF(D118=\"-\",0,D118))+(IF(E118=\"-\",0,E118))","v":0},{"$f":"(IF(F118=\"-\",0,F118))+(IF(G118=\"-\",0,G118))+(IF(H118=\"-\",0,H118))+(IF(I118=\"-\",0,I118))","v":0},{"$f":"(IF(B118=\"-\",0,B118))+(IF(C118=\"-\",0,C118))","v":0},{"$f":"(IF(F118=\"-\",0,F118))+(IF(G118=\"-\",0,G118))","v":0},{"$f":"(IF(D118=\"-\",0,D118))+(IF(E118=\"-\",0,E118))","v":0},{"$f":"(IF(H118=\"-\",0,H118))+(IF(I118=\"-\",0,I118))","v":0}]
["-","-","-","-","-","-","-","-","-","-","-",0,0,0,0,0,0]
["-","-","-","-","-","-","-","-","-","-","-",0,0,0,0,0,0]
["-","-","-","-","-","-","-","-","-","-","-",0,0,0,0,0,0]
[]
["\"INTERSECTION 8\""]
["PHASE",1,2,3,4,5,6,7,8,"OFFSET 1 (SEC)","OFFSET 2 (SEC)","CALCULATION CHECKS"]
["DIRECTION","-","-","-","-","-","-","-","-",null,null,"1+2+3+4 = 5+6+7+8?",null,"1+2 = 5+6?",null,"3+4 = 7+8?"]
["PLAN NO. OR C/S/O","SPLITS (G+Y+AR) IN SECONDS"]
["-","-","-","-","-","-","-","-","-","-","-",{"$f":"(IF(B127=\"-\",0,B127))+(IF(C127=\"-\",0,C127))+(IF(D127=\"-\",0,D127))+(IF(E127=\"-\",0,E127))","v":0},{"$f":"(IF(F127=\"-\",0,F127))+(IF(G127=\"-\",0,G127))+(IF(H127=\"-\",0,H127))+(IF(I127=\"-\",0,I127))","v":0},{"$f":"(IF(B127=\"-\",0,B127))+(IF(C127=\"-\",0,C127))","v":0},{"$f":"(IF(F127=\"-\",0,F127))+(IF(G127=\"-\",0,G127))","v":0},{"$f":"(IF(D127=\"-\",0,D127))+(IF(E127=\"-\",0,E127))","v":0},{"$f":"(IF(H127=\"-\",0,H127))+(IF(I127=\"-\",0,I127))","v":0}]
["-","-","-","-","-","-","-","-","-","-","-",{"$f":"(IF(B128=\"-\",0,B128))+(IF(C128=\"-\",0,C128))+(IF(D128=\"-\",0,D128))+(IF(E128=\"-\",0,E128))","v":0},{"$f":"(IF(F128=\"-\",0,F128))+(IF(G128=\"-\",0,G128))+(IF(H128=\"-\",0,H128))+(IF(I128=\"-\",0,I128))","v":0},{"$f":"(IF(B128=\"-\",0,B128))+(IF(C128=\"-\",0,C128))","v":0},{"$f":"(IF(F128=\"-\",0,F128))+(IF(G128=\"-\",0,G128))","v":0},{"$f":"(IF(D128=\"-\",0,D128))+(IF(E128=\"-\",0,E128))","v":0},{"$f":"(IF(H128=\"-\",0,H128))+(IF(I128=\"-\",0,I128))","v":0}]
["-","-","-","-","-","-","-","-","-","-","-",0,0,0,0,0,0]
["-","-","-","-","-","-","-","-","-","-","-",0,0,0,0,0,0]
["-","-","-","-","-","-","-","-","-","-","-",0,0,0,0,0,0]
[]
["\"INTERSECTION 9\""]
["PHASE",1,2,3,4,5,6,7,8,"OFFSET 1 (SEC)","OFFSET 2 (SEC)","CALCULATION CHECKS"]
["DIRECTION","-","-","-","-","-","-","-","-",null,null,"1+2+3+4 = 5+6+7+8?",null,"1+2 = 5+6?",null,"3+4 = 7+8?"]
["PLAN NO. OR C/S/O","SPLITS (G+Y+AR) IN SECONDS"]
["-","-","-","-","-","-","-","-","-","-","-",{"$f":"(IF(B137=\"-\",0,B137))+(IF(C137=\"-\",0,C137))+(IF(D137=\"-\",0,D137))+(IF(E137=\"-\",0,E137))","v":0},{"$f":"(IF(F137=\"-\",0,F137))+(IF(G137=\"-\",0,G137))+(IF(H137=\"-\",0,H137))+(IF(I137=\"-\",0,I137))","v":0},{"$f":"(IF(B137=\"-\",0,B137))+(IF(C137=\"-\",0,C137))","v":0},{"$f":"(IF(F137=\"-\",0,F137))+(IF(G137=\"-\",0,G137))","v":0},{"$f":"(IF(D137=\"-\",0,D137))+(IF(E137=\"-\",0,E137))","v":0},{"$f":"(IF(H137=\"-\",0,H137))+(IF(I137=\"-\",0,I137))","v":0}]
["-","-","-","-","-","-","-","-","-","-","-",{"$f":"(IF(B138=\"-\",0,B138))+(IF(C138=\"-\",0,C138))+(IF(D138=\"-\",0,D138))+(IF(E138=\"-\",0,E138))","v":0},{"$f":"(IF(F138=\"-\",0,F138))+(IF(G138=\"-\",0,G138))+(IF(H138=\"-\",0,H138))+(IF(I138=\"-\",0,I138))","v":0},{"$f":"(IF(B138=\"-\",0,B138))+(IF(C138=\"-\",0,C138))","v":0},{"$f":"(IF(F138=\"-\",0,F138))+(IF(G138=\"-\",0,G138))","v":0},{"$f":"(IF(D138=\"-\",0,D138))+(IF(E138=\"-\",0,E138))","v":0},{"$f":"(IF(H138=\"-\",0,H138))+(IF(I138=\"-\",0,I138))","v":0}]
["-","-","-","-","-","-","-","-","-","-","-",0,0,0,0,0,0]
["-","-","-","-","-","-","-","-","-","-","-",0,0,0,0,0,0]
["-","-","-","-","-","-","-","-","-","-","-",0,0,0,0,0,0]
[]
["\"INTERSECTION 10\""]
["PHASE",1,2,3,4,5,6,7,8,"OFFSET 1 (SEC)","OFFSET 2 (SEC)","CALCULATION CHECKS"]
["DIRECTION","-","-","-","-","-","-","-","-",null,null,"1+2+3+4 = 5+6+7+8?",null,"1+2 = 5+6?",null,"3+4 = 7+8?"]
["PLAN NO. OR C/S/O","SPLITS (G+Y+AR) IN SECONDS"]
["-","-","-","-","-","-","-","-","-","-","-",{"$f":"(IF(B147=\"-\",0,B147))+(IF(C147=\"-\",0,C147))+(IF(D147=\"-\",0,D147))+(IF(E147=\"-\",0,E147))","v":0},{"$f":"(IF(F147=\"-\",0,F147))+(IF(G147=\"-\",0,G147))+(IF(H147=\"-\",0,H147))+(IF(I147=\"-\",0,I147))","v":0},{"$f":"(IF(B147=\"-\",0,B147))+(IF(C147=\"-\",0,C147))","v":0},{"$f":"(IF(F147=\"-\",0,F147))+(IF(G147=\"-\",0,G147))","v":0},{"$f":"(IF(D147=\"-\",0,D147))+(IF(E147=\"-\",0,E147))","v":0},{"$f":"(IF(H147=\"-\",0,H147))+(IF(I147=\"-\",0,I147))","v":0}]
["-","-","-","-","-","-","-","-","-","-","-",{"$f":"(IF(B148=\"-\",0,B148))+(IF(C148=\"-\",0,C148))+(IF(D148=\"-\",0,D148))+(IF(E148=\"-\",0,E148))","v":0},{"$f":"(IF(F148=\"-\",0,F148))+(IF(G148=\"-\",0,G148))+(IF(H148=\"-\",0,H148))+(IF(I148=\"-\",0,I148))","v":0},{"$f":"(IF(B148=\"-\",0,B148))+(IF(C148=\"-\",0,C148))","v":0},{"$f":"(IF(F148=\"-\",0,F148))+(IF(G148=\"-\",0,G148))","v":0},{"$f":"(IF(D148=\"-\",0,D148))+(IF(E148=\"-\",0,E148))","v":0},{"$f":"(IF(H148=\"-\",0,H148))+(IF(I148=\"-\",0,I148))","v":0}]
["-","-","-","-","-","-","-","-","-","-","-",0,0,0,0,0,0]
["-","-","-","-","-","-","-","-","-","-","-",0,0,0,0,0,0]
["-","-","-","-","-","-","-","-","-","-","-",0,0,0,0,0,0]

{"sheet":"Coordination Timing - PROPOSED","index":6,"n_rows":151,"n_cols":19,"rows_kept":151,"cut":false,"hidden":false,"merged":[[12,1,12,2],[12,3,12,4],[12,5,12,7],[12,8,12,10],[13,1,13,2],[13,3,13,4],[13,5,13,7],[13,8,13,10],[0,0,0,10],[1,0,1,10],[3,0,3,4],[3,5,3,9],[4,0,4,2],[11,0,11,10],[16,1,16,2],[16,3,16,4],[16,5,16,7],[16,8,16,10],[17,1,17,2],[17,3,17,4],[17,5,17,7],[17,8,17,10],[14,1,14,2],[14,3,14,4],[14,5,14,7],[14,8,14,10],[15,1,15,2],[15,3,15,4],[15,5,15,7],[15,8,15,10],[20,1,20,2],[20,3,20,4],[20,5,20,7],[20,8,20,10],[21,1,21,2],[21,3,21,4],[21,5,21,7],[21,8,21,10],[18,1,18,2],[18,3,18,4],[18,5,18,7],[18,8,18,10],[19,1,19,2],[19,3,19,4],[19,5,19,7],[19,8,19,10],[62,0,62,10],[63,9,65,9],[63,10,65,10],[63,11,63,16],[64,11,65,12],[64,13,65,14],[64,15,65,16],[65,1,65,8],[52,0,52,10],[53,9,55,9],[53,10,55,10],[53,11,53,16],[54,11,55,12],[54,13,55,14],[54,15,55,16],[55,1,55,8],[82,0,82,10],[83,9,85,9],[83,10,85,10],[83,11,83,16],[84,11,85,12],[84,13,85,14],[84,15,85,16],[85,1,85,8],[72,0,72,10],[73,9,75,9],[73,10,75,10],[73,11,73,16],[74,11,75,12],[74,13,75,14],[74,15,75,16],[75,1,75,8],[102,0,102,10],[103,9,105,9],[103,10,105,10],[103,11,103,16],[104,11,105,12],[104,13,105,14],[104,15,105,16],[105,1,105,8],[92,0,92,10],[93,9,95,9],[93,10,95,10],[93,11,93,16],[94,11,95,12],[94,13,95,14],[94,15,95,16],[95,1,95,8],[122,0,122,10],[123,9,125,9],[123,10,125,10],[123,11,123,16],[124,11,125,12],[124,13,125,14],[124,15,125,16],[125,1,125,8],[112,0,112,10],[113,9,115,9],[113,10,115,10],[113,11,113,16],[114,11,115,12],[114,13,115,14],[114,15,115,16],[115,1,115,8],[142,0,142,10],[143,9,145,9],[143,10,145,10],[143,11,143,16],[144,11,145,12],[144,13,145,14],[144,15,145,16],[145,1,145,8],[132,0,132,10],[133,9,135,9],[133,10,135,10],[133,11,133,16],[134,11,135,12],[134,13,135,14],[134,15,135,16],[135,1,135,8]]}
[{"$f":"'Project Name'!$C$2","v":0}]
["Signal Timing Summary - PROPOSED"]
["General Notes:"]
["1.  All offsets are measured from the referenced phase",null,null,null,null,"END OF GREEN / BEGINNING OF YELLOW",null,null,null,null,null,null,null,null,null,null,null,null,"-"]
["2.  All offsets are measured from",null,null,"φ 2","&","φ 6",null,null,null,null,null,null,null,null,null,null,null,null,"END OF GREEN / BEGINNING OF YELLOW"]
["3.  Shared schedules of the Week listed (ex. Mon-Fri)"]
["4.  Plan Name shall denote AM Plan, PM Plan, Midday, etc."]
["5.  Hours shall be listed in military time (ex. 0600-01300)"]
["6.  Plan No. or C/S/O shall be listed programmed in Controller (follow template if provided)"]
["7.  Plans should be provided for each weekday for the following time periods: AM, Midday, PM, and Off-peak. "]
["     If authorized, additional plans shall be developed for Weekend Peak/Off-Peaks or High Volume",null,null,null,null,null,null,null,null,null,null,null,null,null,null,null,null,null,"BEGINNING OF GREEN"]
["COORDINATION TIMING PLANS",null,null,null,null,null,null,null,null,null,null,null,null,null,null,null,null,null,"170 STYLE"]
["DAY(S) OF WEEK","PLAN NAME",null,"HOURS",null,"PLAN NO. OR\nCYCLE/SPLIT/OFFSET",null,null,"CYCLE LENGTH (SEC)"]
["-","-",null,"-",null,"-",null,null,"-",null,null,null,null,null,null,null,null,null,"-"]
["-","-",null,"-",null,"-",null,null,"-",null,null,null,null,null,null,null,null,null,"φ 1"]
["-","-",null,"-",null,"-",null,null,"-",null,null,null,null,null,null,null,null,null,"φ 2"]
["-","-",null,"-",null,"-",null,null,"-",null,null,null,null,null,null,null,null,null,"φ 3"]
["-","-",null,"-",null,"-",null,null,"-",null,null,null,null,null,null,null,null,null,"φ 4"]
["-","-",null,"-",null,"-",null,null,"-",null,null,null,null,null,null,null,null,null,"φ 5"]
["-","-",null,"-",null,"-",null,null,"-",null,null,null,null,null,null,null,null,null,"φ 6"]
["-","-",null,"-",null,"-",null,null,"-",null,null,null,null,null,null,null,null,null,"φ 7"]
["-","-",null,"-",null,"-",null,null,"-",null,null,null,null,null,null,null,null,null,"φ 8"]
[]
[]
[null,null,null,null,null,null,null,null,null,null,null,null,null,null,null,null,null,null,"&"]
[]
[]
[]
[]
[]
[]
[]
[]
[]
[]
[]
[]
[]
[]
[]
[]
[]
[]
[]
[]
[]
[]
[]
[]
[]
[]
[null,null,null,null,null,null,null,null,null,null,null,"*Note: Calculation checks do not account for split phasing."]
["\"INTERSECTION 1\""]
["PHASE",1,2,3,4,5,6,7,8,"OFFSET 1 (SEC)","OFFSET 2 (SEC)","CALCULATION CHECKS"]
["DIRECTION","-","-","-","-","-","-","-","-",null,null,"1+2+3+4 = 5+6+7+8?",null,"1+2 = 5+6?",null,"3+4 = 7+8?"]
["PLAN NO. OR C/S/O","SPLITS (G+Y+AR) IN SECONDS"]
["-","-","-","-","-","-","-","-","-","-","-",{"$f":"(IF(B57=\"-\",0,B57))+(IF(C57=\"-\",0,C57))+(IF(D57=\"-\",0,D57))+(IF(E57=\"-\",0,E57))","v":0},{"$f":"(IF(F57=\"-\",0,F57))+(IF(G57=\"-\",0,G57))+(IF(H57=\"-\",0,H57))+(IF(I57=\"-\",0,I57))","v":0},{"$f":"(IF(B57=\"-\",0,B57))+(IF(C57=\"-\",0,C57))","v":0},{"$f":"(IF(F57=\"-\",0,F57))+(IF(G57=\"-\",0,G57))","v":0},{"$f":"(IF(D57=\"-\",0,D57))+(IF(E57=\"-\",0,E57))","v":0},{"$f":"(IF(H57=\"-\",0,H57))+(IF(I57=\"-\",0,I57))","v":0}]
["-","-","-","-","-","-","-","-","-","-","-",{"$f":"(IF(B58=\"-\",0,B58))+(IF(C58=\"-\",0,C58))+(IF(D58=\"-\",0,D58))+(IF(E58=\"-\",0,E58))","v":0},{"$f":"(IF(F58=\"-\",0,F58))+(IF(G58=\"-\",0,G58))+(IF(H58=\"-\",0,H58))+(IF(I58=\"-\",0,I58))","v":0},{"$f":"(IF(B58=\"-\",0,B58))+(IF(C58=\"-\",0,C58))","v":0},{"$f":"(IF(F58=\"-\",0,F58))+(IF(G58=\"-\",0,G58))","v":0},{"$f":"(IF(D58=\"-\",0,D58))+(IF(E58=\"-\",0,E58))","v":0},{"$f":"(IF(H58=\"-\",0,H58))+(IF(I58=\"-\",0,I58))","v":0}]
["-","-","-","-","-","-","-","-","-","-","-",0,0,0,0,0,0]
["-","-","-","-","-","-","-","-","-","-","-",0,0,0,0,0,0]
["-","-","-","-","-","-","-","-","-","-","-",0,0,0,0,0,0]
[]
["\"INTERSECTION 2\""]
["PHASE",1,2,3,4,5,6,7,8,"OFFSET 1 (SEC)","OFFSET 2 (SEC)","CALCULATION CHECKS"]
["DIRECTION","-","-","-","-","-","-","-","-",null,null,"1+2+3+4 = 5+6+7+8?",null,"1+2 = 5+6?",null,"3+4 = 7+8?"]
["PLAN NO. OR C/S/O","SPLITS (G+Y+AR) IN SECONDS"]
["-","-","-","-","-","-","-","-","-","-","-",{"$f":"(IF(B67=\"-\",0,B67))+(IF(C67=\"-\",0,C67))+(IF(D67=\"-\",0,D67))+(IF(E67=\"-\",0,E67))","v":0},{"$f":"(IF(F67=\"-\",0,F67))+(IF(G67=\"-\",0,G67))+(IF(H67=\"-\",0,H67))+(IF(I67=\"-\",0,I67))","v":0},{"$f":"(IF(B67=\"-\",0,B67))+(IF(C67=\"-\",0,C67))","v":0},{"$f":"(IF(F67=\"-\",0,F67))+(IF(G67=\"-\",0,G67))","v":0},{"$f":"(IF(D67=\"-\",0,D67))+(IF(E67=\"-\",0,E67))","v":0},{"$f":"(IF(H67=\"-\",0,H67))+(IF(I67=\"-\",0,I67))","v":0}]
["-","-","-","-","-","-","-","-","-","-","-",{"$f":"(IF(B68=\"-\",0,B68))+(IF(C68=\"-\",0,C68))+(IF(D68=\"-\",0,D68))+(IF(E68=\"-\",0,E68))","v":0},{"$f":"(IF(F68=\"-\",0,F68))+(IF(G68=\"-\",0,G68))+(IF(H68=\"-\",0,H68))+(IF(I68=\"-\",0,I68))","v":0},{"$f":"(IF(B68=\"-\",0,B68))+(IF(C68=\"-\",0,C68))","v":0},{"$f":"(IF(F68=\"-\",0,F68))+(IF(G68=\"-\",0,G68))","v":0},{"$f":"(IF(D68=\"-\",0,D68))+(IF(E68=\"-\",0,E68))","v":0},{"$f":"(IF(H68=\"-\",0,H68))+(IF(I68=\"-\",0,I68))","v":0}]
["-","-","-","-","-","-","-","-","-","-","-",0,0,0,0,0,0]
["-","-","-","-","-","-","-","-","-","-","-",0,0,0,0,0,0]
["-","-","-","-","-","-","-","-","-","-","-",0,0,0,0,0,0]
[]
["\"INTERSECTION 3\""]
["PHASE",1,2,3,4,5,6,7,8,"OFFSET 1 (SEC)","OFFSET 2 (SEC)","CALCULATION CHECKS"]
["DIRECTION","-","-","-","-","-","-","-","-",null,null,"1+2+3+4 = 5+6+7+8?",null,"1+2 = 5+6?",null,"3+4 = 7+8?"]
["PLAN NO. OR C/S/O","SPLITS (G+Y+AR) IN SECONDS"]
["-","-","-","-","-","-","-","-","-","-","-",{"$f":"(IF(B77=\"-\",0,B77))+(IF(C77=\"-\",0,C77))+(IF(D77=\"-\",0,D77))+(IF(E77=\"-\",0,E77))","v":0},{"$f":"(IF(F77=\"-\",0,F77))+(IF(G77=\"-\",0,G77))+(IF(H77=\"-\",0,H77))+(IF(I77=\"-\",0,I77))","v":0},{"$f":"(IF(B77=\"-\",0,B77))+(IF(C77=\"-\",0,C77))","v":0},{"$f":"(IF(F77=\"-\",0,F77))+(IF(G77=\"-\",0,G77))","v":0},{"$f":"(IF(D77=\"-\",0,D77))+(IF(E77=\"-\",0,E77))","v":0},{"$f":"(IF(H77=\"-\",0,H77))+(IF(I77=\"-\",0,I77))","v":0}]
["-","-","-","-","-","-","-","-","-","-","-",{"$f":"(IF(B78=\"-\",0,B78))+(IF(C78=\"-\",0,C78))+(IF(D78=\"-\",0,D78))+(IF(E78=\"-\",0,E78))","v":0},{"$f":"(IF(F78=\"-\",0,F78))+(IF(G78=\"-\",0,G78))+(IF(H78=\"-\",0,H78))+(IF(I78=\"-\",0,I78))","v":0},{"$f":"(IF(B78=\"-\",0,B78))+(IF(C78=\"-\",0,C78))","v":0},{"$f":"(IF(F78=\"-\",0,F78))+(IF(G78=\"-\",0,G78))","v":0},{"$f":"(IF(D78=\"-\",0,D78))+(IF(E78=\"-\",0,E78))","v":0},{"$f":"(IF(H78=\"-\",0,H78))+(IF(I78=\"-\",0,I78))","v":0}]
["-","-","-","-","-","-","-","-","-","-","-",0,0,0,0,0,0]
["-","-","-","-","-","-","-","-","-","-","-",0,0,0,0,0,0]
["-","-","-","-","-","-","-","-","-","-","-",0,0,0,0,0,0]
[]
["\"INTERSECTION 4\""]
["PHASE",1,2,3,4,5,6,7,8,"OFFSET 1 (SEC)","OFFSET 2 (SEC)","CALCULATION CHECKS"]
["DIRECTION","-","-","-","-","-","-","-","-",null,null,"1+2+3+4 = 5+6+7+8?",null,"1+2 = 5+6?",null,"3+4 = 7+8?"]
["PLAN NO. OR C/S/O","SPLITS (G+Y+AR) IN SECONDS"]
["-","-","-","-","-","-","-","-","-","-","-",{"$f":"(IF(B87=\"-\",0,B87))+(IF(C87=\"-\",0,C87))+(IF(D87=\"-\",0,D87))+(IF(E87=\"-\",0,E87))","v":0},{"$f":"(IF(F87=\"-\",0,F87))+(IF(G87=\"-\",0,G87))+(IF(H87=\"-\",0,H87))+(IF(I87=\"-\",0,I87))","v":0},{"$f":"(IF(B87=\"-\",0,B87))+(IF(C87=\"-\",0,C87))","v":0},{"$f":"(IF(F87=\"-\",0,F87))+(IF(G87=\"-\",0,G87))","v":0},{"$f":"(IF(D87=\"-\",0,D87))+(IF(E87=\"-\",0,E87))","v":0},{"$f":"(IF(H87=\"-\",0,H87))+(IF(I87=\"-\",0,I87))","v":0}]
["-","-","-","-","-","-","-","-","-","-","-",{"$f":"(IF(B88=\"-\",0,B88))+(IF(C88=\"-\",0,C88))+(IF(D88=\"-\",0,D88))+(IF(E88=\"-\",0,E88))","v":0},{"$f":"(IF(F88=\"-\",0,F88))+(IF(G88=\"-\",0,G88))+(IF(H88=\"-\",0,H88))+(IF(I88=\"-\",0,I88))","v":0},{"$f":"(IF(B88=\"-\",0,B88))+(IF(C88=\"-\",0,C88))","v":0},{"$f":"(IF(F88=\"-\",0,F88))+(IF(G88=\"-\",0,G88))","v":0},{"$f":"(IF(D88=\"-\",0,D88))+(IF(E88=\"-\",0,E88))","v":0},{"$f":"(IF(H88=\"-\",0,H88))+(IF(I88=\"-\",0,I88))","v":0}]
["-","-","-","-","-","-","-","-","-","-","-",0,0,0,0,0,0]
["-","-","-","-","-","-","-","-","-","-","-",0,0,0,0,0,0]
["-","-","-","-","-","-","-","-","-","-","-",0,0,0,0,0,0]
[]
["\"INTERSECTION 5\""]
["PHASE",1,2,3,4,5,6,7,8,"OFFSET 1 (SEC)","OFFSET 2 (SEC)","CALCULATION CHECKS"]
["DIRECTION","-","-","-","-","-","-","-","-",null,null,"1+2+3+4 = 5+6+7+8?",null,"1+2 = 5+6?",null,"3+4 = 7+8?"]
["PLAN NO. OR C/S/O","SPLITS (G+Y+AR) IN SECONDS"]
["-","-","-","-","-","-","-","-","-","-","-",{"$f":"(IF(B97=\"-\",0,B97))+(IF(C97=\"-\",0,C97))+(IF(D97=\"-\",0,D97))+(IF(E97=\"-\",0,E97))","v":0},{"$f":"(IF(F97=\"-\",0,F97))+(IF(G97=\"-\",0,G97))+(IF(H97=\"-\",0,H97))+(IF(I97=\"-\",0,I97))","v":0},{"$f":"(IF(B97=\"-\",0,B97))+(IF(C97=\"-\",0,C97))","v":0},{"$f":"(IF(F97=\"-\",0,F97))+(IF(G97=\"-\",0,G97))","v":0},{"$f":"(IF(D97=\"-\",0,D97))+(IF(E97=\"-\",0,E97))","v":0},{"$f":"(IF(H97=\"-\",0,H97))+(IF(I97=\"-\",0,I97))","v":0}]
["-","-","-","-","-","-","-","-","-","-","-",{"$f":"(IF(B98=\"-\",0,B98))+(IF(C98=\"-\",0,C98))+(IF(D98=\"-\",0,D98))+(IF(E98=\"-\",0,E98))","v":0},{"$f":"(IF(F98=\"-\",0,F98))+(IF(G98=\"-\",0,G98))+(IF(H98=\"-\",0,H98))+(IF(I98=\"-\",0,I98))","v":0},{"$f":"(IF(B98=\"-\",0,B98))+(IF(C98=\"-\",0,C98))","v":0},{"$f":"(IF(F98=\"-\",0,F98))+(IF(G98=\"-\",0,G98))","v":0},{"$f":"(IF(D98=\"-\",0,D98))+(IF(E98=\"-\",0,E98))","v":0},{"$f":"(IF(H98=\"-\",0,H98))+(IF(I98=\"-\",0,I98))","v":0}]
["-","-","-","-","-","-","-","-","-","-","-",0,0,0,0,0,0]
["-","-","-","-","-","-","-","-","-","-","-",0,0,0,0,0,0]
["-","-","-","-","-","-","-","-","-","-","-",0,0,0,0,0,0]
[]
["\"INTERSECTION 6\""]
["PHASE",1,2,3,4,5,6,7,8,"OFFSET 1 (SEC)","OFFSET 2 (SEC)","CALCULATION CHECKS"]
["DIRECTION","-","-","-","-","-","-","-","-",null,null,"1+2+3+4 = 5+6+7+8?",null,"1+2 = 5+6?",null,"3+4 = 7+8?"]
["PLAN NO. OR C/S/O","SPLITS (G+Y+AR) IN SECONDS"]
["-","-","-","-","-","-","-","-","-","-","-",{"$f":"(IF(B107=\"-\",0,B107))+(IF(C107=\"-\",0,C107))+(IF(D107=\"-\",0,D107))+(IF(E107=\"-\",0,E107))","v":0},{"$f":"(IF(F107=\"-\",0,F107))+(IF(G107=\"-\",0,G107))+(IF(H107=\"-\",0,H107))+(IF(I107=\"-\",0,I107))","v":0},{"$f":"(IF(B107=\"-\",0,B107))+(IF(C107=\"-\",0,C107))","v":0},{"$f":"(IF(F107=\"-\",0,F107))+(IF(G107=\"-\",0,G107))","v":0},{"$f":"(IF(D107=\"-\",0,D107))+(IF(E107=\"-\",0,E107))","v":0},{"$f":"(IF(H107=\"-\",0,H107))+(IF(I107=\"-\",0,I107))","v":0}]
["-","-","-","-","-","-","-","-","-","-","-",{"$f":"(IF(B108=\"-\",0,B108))+(IF(C108=\"-\",0,C108))+(IF(D108=\"-\",0,D108))+(IF(E108=\"-\",0,E108))","v":0},{"$f":"(IF(F108=\"-\",0,F108))+(IF(G108=\"-\",0,G108))+(IF(H108=\"-\",0,H108))+(IF(I108=\"-\",0,I108))","v":0},{"$f":"(IF(B108=\"-\",0,B108))+(IF(C108=\"-\",0,C108))","v":0},{"$f":"(IF(F108=\"-\",0,F108))+(IF(G108=\"-\",0,G108))","v":0},{"$f":"(IF(D108=\"-\",0,D108))+(IF(E108=\"-\",0,E108))","v":0},{"$f":"(IF(H108=\"-\",0,H108))+(IF(I108=\"-\",0,I108))","v":0}]
["-","-","-","-","-","-","-","-","-","-","-",0,0,0,0,0,0]
["-","-","-","-","-","-","-","-","-","-","-",0,0,0,0,0,0]
["-","-","-","-","-","-","-","-","-","-","-",0,0,0,0,0,0]
[]
["\"INTERSECTION 7\""]
["PHASE",1,2,3,4,5,6,7,8,"OFFSET 1 (SEC)","OFFSET 2 (SEC)","CALCULATION CHECKS"]
["DIRECTION","-","-","-","-","-","-","-","-",null,null,"1+2+3+4 = 5+6+7+8?",null,"1+2 = 5+6?",null,"3+4 = 7+8?"]
["PLAN NO. OR C/S/O","SPLITS (G+Y+AR) IN SECONDS"]
["-","-","-","-","-","-","-","-","-","-","-",{"$f":"(IF(B117=\"-\",0,B117))+(IF(C117=\"-\",0,C117))+(IF(D117=\"-\",0,D117))+(IF(E117=\"-\",0,E117))","v":0},{"$f":"(IF(F117=\"-\",0,F117))+(IF(G117=\"-\",0,G117))+(IF(H117=\"-\",0,H117))+(IF(I117=\"-\",0,I117))","v":0},{"$f":"(IF(B117=\"-\",0,B117))+(IF(C117=\"-\",0,C117))","v":0},{"$f":"(IF(F117=\"-\",0,F117))+(IF(G117=\"-\",0,G117))","v":0},{"$f":"(IF(D117=\"-\",0,D117))+(IF(E117=\"-\",0,E117))","v":0},{"$f":"(IF(H117=\"-\",0,H117))+(IF(I117=\"-\",0,I117))","v":0}]
["-","-","-","-","-","-","-","-","-","-","-",{"$f":"(IF(B118=\"-\",0,B118))+(IF(C118=\"-\",0,C118))+(IF(D118=\"-\",0,D118))+(IF(E118=\"-\",0,E118))","v":0},{"$f":"(IF(F118=\"-\",0,F118))+(IF(G118=\"-\",0,G118))+(IF(H118=\"-\",0,H118))+(IF(I118=\"-\",0,I118))","v":0},{"$f":"(IF(B118=\"-\",0,B118))+(IF(C118=\"-\",0,C118))","v":0},{"$f":"(IF(F118=\"-\",0,F118))+(IF(G118=\"-\",0,G118))","v":0},{"$f":"(IF(D118=\"-\",0,D118))+(IF(E118=\"-\",0,E118))","v":0},{"$f":"(IF(H118=\"-\",0,H118))+(IF(I118=\"-\",0,I118))","v":0}]
["-","-","-","-","-","-","-","-","-","-","-",0,0,0,0,0,0]
["-","-","-","-","-","-","-","-","-","-","-",0,0,0,0,0,0]
["-","-","-","-","-","-","-","-","-","-","-",0,0,0,0,0,0]
[]
["\"INTERSECTION 8\""]
["PHASE",1,2,3,4,5,6,7,8,"OFFSET 1 (SEC)","OFFSET 2 (SEC)","CALCULATION CHECKS"]
["DIRECTION","-","-","-","-","-","-","-","-",null,null,"1+2+3+4 = 5+6+7+8?",null,"1+2 = 5+6?",null,"3+4 = 7+8?"]
["PLAN NO. OR C/S/O","SPLITS (G+Y+AR) IN SECONDS"]
["-","-","-","-","-","-","-","-","-","-","-",{"$f":"(IF(B127=\"-\",0,B127))+(IF(C127=\"-\",0,C127))+(IF(D127=\"-\",0,D127))+(IF(E127=\"-\",0,E127))","v":0},{"$f":"(IF(F127=\"-\",0,F127))+(IF(G127=\"-\",0,G127))+(IF(H127=\"-\",0,H127))+(IF(I127=\"-\",0,I127))","v":0},{"$f":"(IF(B127=\"-\",0,B127))+(IF(C127=\"-\",0,C127))","v":0},{"$f":"(IF(F127=\"-\",0,F127))+(IF(G127=\"-\",0,G127))","v":0},{"$f":"(IF(D127=\"-\",0,D127))+(IF(E127=\"-\",0,E127))","v":0},{"$f":"(IF(H127=\"-\",0,H127))+(IF(I127=\"-\",0,I127))","v":0}]
["-","-","-","-","-","-","-","-","-","-","-",{"$f":"(IF(B128=\"-\",0,B128))+(IF(C128=\"-\",0,C128))+(IF(D128=\"-\",0,D128))+(IF(E128=\"-\",0,E128))","v":0},{"$f":"(IF(F128=\"-\",0,F128))+(IF(G128=\"-\",0,G128))+(IF(H128=\"-\",0,H128))+(IF(I128=\"-\",0,I128))","v":0},{"$f":"(IF(B128=\"-\",0,B128))+(IF(C128=\"-\",0,C128))","v":0},{"$f":"(IF(F128=\"-\",0,F128))+(IF(G128=\"-\",0,G128))","v":0},{"$f":"(IF(D128=\"-\",0,D128))+(IF(E128=\"-\",0,E128))","v":0},{"$f":"(IF(H128=\"-\",0,H128))+(IF(I128=\"-\",0,I128))","v":0}]
["-","-","-","-","-","-","-","-","-","-","-",0,0,0,0,0,0]
["-","-","-","-","-","-","-","-","-","-","-",0,0,0,0,0,0]
["-","-","-","-","-","-","-","-","-","-","-",0,0,0,0,0,0]
[]
["\"INTERSECTION 9\""]
["PHASE",1,2,3,4,5,6,7,8,"OFFSET 1 (SEC)","OFFSET 2 (SEC)","CALCULATION CHECKS"]
["DIRECTION","-","-","-","-","-","-","-","-",null,null,"1+2+3+4 = 5+6+7+8?",null,"1+2 = 5+6?",null,"3+4 = 7+8?"]
["PLAN NO. OR C/S/O","SPLITS (G+Y+AR) IN SECONDS"]
["-","-","-","-","-","-","-","-","-","-","-",{"$f":"(IF(B137=\"-\",0,B137))+(IF(C137=\"-\",0,C137))+(IF(D137=\"-\",0,D137))+(IF(E137=\"-\",0,E137))","v":0},{"$f":"(IF(F137=\"-\",0,F137))+(IF(G137=\"-\",0,G137))+(IF(H137=\"-\",0,H137))+(IF(I137=\"-\",0,I137))","v":0},{"$f":"(IF(B137=\"-\",0,B137))+(IF(C137=\"-\",0,C137))","v":0},{"$f":"(IF(F137=\"-\",0,F137))+(IF(G137=\"-\",0,G137))","v":0},{"$f":"(IF(D137=\"-\",0,D137))+(IF(E137=\"-\",0,E137))","v":0},{"$f":"(IF(H137=\"-\",0,H137))+(IF(I137=\"-\",0,I137))","v":0}]
["-","-","-","-","-","-","-","-","-","-","-",{"$f":"(IF(B138=\"-\",0,B138))+(IF(C138=\"-\",0,C138))+(IF(D138=\"-\",0,D138))+(IF(E138=\"-\",0,E138))","v":0},{"$f":"(IF(F138=\"-\",0,F138))+(IF(G138=\"-\",0,G138))+(IF(H138=\"-\",0,H138))+(IF(I138=\"-\",0,I138))","v":0},{"$f":"(IF(B138=\"-\",0,B138))+(IF(C138=\"-\",0,C138))","v":0},{"$f":"(IF(F138=\"-\",0,F138))+(IF(G138=\"-\",0,G138))","v":0},{"$f":"(IF(D138=\"-\",0,D138))+(IF(E138=\"-\",0,E138))","v":0},{"$f":"(IF(H138=\"-\",0,H138))+(IF(I138=\"-\",0,I138))","v":0}]
["-","-","-","-","-","-","-","-","-","-","-",0,0,0,0,0,0]
["-","-","-","-","-","-","-","-","-","-","-",0,0,0,0,0,0]
["-","-","-","-","-","-","-","-","-","-","-",0,0,0,0,0,0]
[]
["\"INTERSECTION 10\""]
["PHASE",1,2,3,4,5,6,7,8,"OFFSET 1 (SEC)","OFFSET 2 (SEC)","CALCULATION CHECKS"]
["DIRECTION","-","-","-","-","-","-","-","-",null,null,"1+2+3+4 = 5+6+7+8?",null,"1+2 = 5+6?",null,"3+4 = 7+8?"]
["PLAN NO. OR C/S/O","SPLITS (G+Y+AR) IN SECONDS"]
["-","-","-","-","-","-","-","-","-","-","-",{"$f":"(IF(B147=\"-\",0,B147))+(IF(C147=\"-\",0,C147))+(IF(D147=\"-\",0,D147))+(IF(E147=\"-\",0,E147))","v":0},{"$f":"(IF(F147=\"-\",0,F147))+(IF(G147=\"-\",0,G147))+(IF(H147=\"-\",0,H147))+(IF(I147=\"-\",0,I147))","v":0},{"$f":"(IF(B147=\"-\",0,B147))+(IF(C147=\"-\",0,C147))","v":0},{"$f":"(IF(F147=\"-\",0,F147))+(IF(G147=\"-\",0,G147))","v":0},{"$f":"(IF(D147=\"-\",0,D147))+(IF(E147=\"-\",0,E147))","v":0},{"$f":"(IF(H147=\"-\",0,H147))+(IF(I147=\"-\",0,I147))","v":0}]
["-","-","-","-","-","-","-","-","-","-","-",{"$f":"(IF(B148=\"-\",0,B148))+(IF(C148=\"-\",0,C148))+(IF(D148=\"-\",0,D148))+(IF(E148=\"-\",0,E148))","v":0},{"$f":"(IF(F148=\"-\",0,F148))+(IF(G148=\"-\",0,G148))+(IF(H148=\"-\",0,H148))+(IF(I148=\"-\",0,I148))","v":0},{"$f":"(IF(B148=\"-\",0,B148))+(IF(C148=\"-\",0,C148))","v":0},{"$f":"(IF(F148=\"-\",0,F148))+(IF(G148=\"-\",0,G148))","v":0},{"$f":"(IF(D148=\"-\",0,D148))+(IF(E148=\"-\",0,E148))","v":0},{"$f":"(IF(H148=\"-\",0,H148))+(IF(I148=\"-\",0,I148))","v":0}]
["-","-","-","-","-","-","-","-","-","-","-",0,0,0,0,0,0]
["-","-","-","-","-","-","-","-","-","-","-",0,0,0,0,0,0]
["-","-","-","-","-","-","-","-","-","-","-",0,0,0,0,0,0]

{"sheet":"Combined Coord Timing-Read Only","index":7,"n_rows":108,"n_cols":23,"rows_kept":108,"cut":false,"hidden":false,"merged":[[107,20,107,22],[31,8,31,10],[31,20,31,22],[63,20,63,22],[63,8,63,10],[95,8,95,10],[95,20,95,22],[65,0,65,10],[66,9,68,9],[66,10,68,10],[68,1,68,8],[75,0,75,10],[76,9,78,9],[107,0,107,1],[31,12,31,13],[63,12,63,13],[95,12,95,13],[107,12,107,13],[33,0,33,10],[34,9,36,9],[34,10,36,10],[36,1,36,8],[31,0,31,1],[97,0,97,10],[98,9,100,9],[98,10,100,10],[95,0,95,1],[107,8,107,10],[97,12,97,22],[100,1,100,8],[85,0,85,10],[86,9,88,9],[86,10,88,10],[88,1,88,8],[43,0,43,10],[44,9,46,9],[44,10,46,10],[46,1,46,8],[53,0,53,10],[54,9,56,9],[54,10,56,10],[56,1,56,8],[63,0,63,1],[78,1,78,8],[76,10,78,10],[21,12,21,22],[22,21,24,21],[22,22,24,22],[43,12,43,22],[44,21,46,21],[44,22,46,22],[46,13,46,20],[98,21,100,21],[98,22,100,22],[100,13,100,20],[65,12,65,22],[66,21,68,21],[66,22,68,22],[68,13,68,20],[75,12,75,22],[76,21,78,21],[76,22,78,22],[78,13,78,20],[85,12,85,22],[86,21,88,21],[86,22,88,22],[88,13,88,20],[0,0,0,10],[0,12,0,22],[12,9,14,9],[12,10,14,10],[14,1,14,8],[1,12,1,22],[2,21,4,21],[2,22,4,22],[4,13,4,20],[11,12,11,22],[12,21,14,21],[12,22,14,22],[14,13,14,20],[4,1,4,8],[11,0,11,10],[21,0,21,10],[22,9,24,9],[22,10,24,10],[24,1,24,8],[1,0,1,10],[2,9,4,9],[2,10,4,10],[54,21,56,21],[54,22,56,22],[56,13,56,20],[24,13,24,20],[33,12,33,22],[34,21,36,21],[34,22,36,22],[36,13,36,20],[53,12,53,22]]}
["EXISTING TIMING",null,null,null,null,null,null,null,null,null,null,null,"PROPOSED TIMING"]
["\"INTERSECTION 1\"",null,null,null,null,null,null,null,null,null,null,null,"\"INTERSECTION 1\""]
["PHASE",1,2,3,4,5,6,7,8,"OFFSET 1 (SEC)","OFFSET 2 (SEC)",null,"PHASE",1,2,3,4,5,6,7,8,"OFFSET 1 (SEC)","OFFSET 2 (SEC)"]
["DIRECTION",{"$f":"'Coordination Timing - EXISTING'!B55","v":"-"},{"$f":"'Coordination Timing - EXISTING'!C55","v":"-"},{"$f":"'Coordination Timing - EXISTING'!D55","v":"-"},{"$f":"'Coordination Timing - EXISTING'!E55","v":"-"},{"$f":"'Coordination Timing - EXISTING'!F55","v":"-"},{"$f":"'Coordination Timing - EXISTING'!G55","v":"-"},{"$f":"'Coordination Timing - EXISTING'!H55","v":"-"},{"$f":"'Coordination Timing - EXISTING'!I55","v":"-"},null,null,null,"DIRECTION",{"$f":"'Coordination Timing - PROPOSED'!B55","v":"-"},{"$f":"'Coordination Timing - PROPOSED'!C55","v":"-"},{"$f":"'Coordination Timing - PROPOSED'!D55","v":"-"},{"$f":"'Coordination Timing - PROPOSED'!E55","v":"-"},{"$f":"'Coordination Timing - PROPOSED'!F55","v":"-"},{"$f":"'Coordination Timing - PROPOSED'!G55","v":"-"},{"$f":"'Coordination Timing - PROPOSED'!H55","v":"-"},{"$f":"'Coordination Timing - PROPOSED'!I55","v":"-"}]
["PLAN NO. OR C/S/O","SPLITS (G+Y+AR) IN SECONDS",null,null,null,null,null,null,null,null,null,null,"PLAN NO. OR C/S/O","SPLITS (G+Y+AR) IN SECONDS"]
[{"$f":"'Coordination Timing - EXISTING'!A57","v":"-"},{"$f":"'Coordination Timing - EXISTING'!B57","v":"-"},{"$f":"'Coordination Timing - EXISTING'!C57","v":"-"},{"$f":"'Coordination Timing - EXISTING'!D57","v":"-"},{"$f":"'Coordination Timing - EXISTING'!E57","v":"-"},{"$f":"'Coordination Timing - EXISTING'!F57","v":"-"},{"$f":"'Coordination Timing - EXISTING'!G57","v":"-"},{"$f":"'Coordination Timing - EXISTING'!H57","v":"-"},{"$f":"'Coordination Timing - EXISTING'!I57","v":"-"},{"$f":"'Coordination Timing - EXISTING'!J57","v":"-"},{"$f":"'Coordination Timing - EXISTING'!K57","v":"-"},null,{"$f":"'Coordination Timing - PROPOSED'!A57","v":"-"},{"$f":"'Coordination Timing - PROPOSED'!B57","v":"-"},{"$f":"'Coordination Timing - PROPOSED'!C57","v":"-"},{"$f":"'Coordination Timing - PROPOSED'!D57","v":"-"},{"$f":"'Coordination Timing - PROPOSED'!E57","v":"-"},{"$f":"'Coordination Timing - PROPOSED'!F57","v":"-"},{"$f":"'Coordination Timing - PROPOSED'!G57","v":"-"},{"$f":"'Coordination Timing - PROPOSED'!H57","v":"-"},{"$f":"'Coordination Timing - PROPOSED'!I57","v":"-"},{"$f":"'Coordination Timing - PROPOSED'!J57","v":"-"},{"$f":"'Coordination Timing - PROPOSED'!K57","v":"-"}]
[{"$f":"'Coordination Timing - EXISTING'!A58","v":"-"},{"$f":"'Coordination Timing - EXISTING'!B58","v":"-"},{"$f":"'Coordination Timing - EXISTING'!C58","v":"-"},{"$f":"'Coordination Timing - EXISTING'!D58","v":"-"},{"$f":"'Coordination Timing - EXISTING'!E58","v":"-"},{"$f":"'Coordination Timing - EXISTING'!F58","v":"-"},{"$f":"'Coordination Timing - EXISTING'!G58","v":"-"},{"$f":"'Coordination Timing - EXISTING'!H58","v":"-"},{"$f":"'Coordination Timing - EXISTING'!I58","v":"-"},{"$f":"'Coordination Timing - EXISTING'!J58","v":"-"},{"$f":"'Coordination Timing - EXISTING'!K58","v":"-"},null,{"$f":"'Coordination Timing - PROPOSED'!A58","v":"-"},{"$f":"'Coordination Timing - PROPOSED'!B58","v":"-"},{"$f":"'Coordination Timing - PROPOSED'!C58","v":"-"},{"$f":"'Coordination Timing - PROPOSED'!D58","v":"-"},{"$f":"'Coordination Timing - PROPOSED'!E58","v":"-"},{"$f":"'Coordination Timing - PROPOSED'!F58","v":"-"},{"$f":"'Coordination Timing - PROPOSED'!G58","v":"-"},{"$f":"'Coordination Timing - PROPOSED'!H58","v":"-"},{"$f":"'Coordination Timing - PROPOSED'!I58","v":"-"},{"$f":"'Coordination Timing - PROPOSED'!J58","v":"-"},{"$f":"'Coordination Timing - PROPOSED'!K58","v":"-"}]
[{"$f":"'Coordination Timing - EXISTING'!A59","v":"-"},{"$f":"'Coordination Timing - EXISTING'!B59","v":"-"},{"$f":"'Coordination Timing - EXISTING'!C59","v":"-"},{"$f":"'Coordination Timing - EXISTING'!D59","v":"-"},{"$f":"'Coordination Timing - EXISTING'!E59","v":"-"},{"$f":"'Coordination Timing - EXISTING'!F59","v":"-"},{"$f":"'Coordination Timing - EXISTING'!G59","v":"-"},{"$f":"'Coordination Timing - EXISTING'!H59","v":"-"},{"$f":"'Coordination Timing - EXISTING'!I59","v":"-"},{"$f":"'Coordination Timing - EXISTING'!J59","v":"-"},{"$f":"'Coordination Timing - EXISTING'!K59","v":"-"},null,{"$f":"'Coordination Timing - PROPOSED'!A59","v":"-"},{"$f":"'Coordination Timing - PROPOSED'!B59","v":"-"},{"$f":"'Coordination Timing - PROPOSED'!C59","v":"-"},{"$f":"'Coordination Timing - PROPOSED'!D59","v":"-"},{"$f":"'Coordination Timing - PROPOSED'!E59","v":"-"},{"$f":"'Coordination Timing - PROPOSED'!F59","v":"-"},{"$f":"'Coordination Timing - PROPOSED'!G59","v":"-"},{"$f":"'Coordination Timing - PROPOSED'!H59","v":"-"},{"$f":"'Coordination Timing - PROPOSED'!I59","v":"-"},{"$f":"'Coordination Timing - PROPOSED'!J59","v":"-"},{"$f":"'Coordination Timing - PROPOSED'!K59","v":"-"}]
[{"$f":"'Coordination Timing - EXISTING'!A60","v":"-"},{"$f":"'Coordination Timing - EXISTING'!B60","v":"-"},{"$f":"'Coordination Timing - EXISTING'!C60","v":"-"},{"$f":"'Coordination Timing - EXISTING'!D60","v":"-"},{"$f":"'Coordination Timing - EXISTING'!E60","v":"-"},{"$f":"'Coordination Timing - EXISTING'!F60","v":"-"},{"$f":"'Coordination Timing - EXISTING'!G60","v":"-"},{"$f":"'Coordination Timing - EXISTING'!H60","v":"-"},{"$f":"'Coordination Timing - EXISTING'!I60","v":"-"},{"$f":"'Coordination Timing - EXISTING'!J60","v":"-"},{"$f":"'Coordination Timing - EXISTING'!K60","v":"-"},null,{"$f":"'Coordination Timing - PROPOSED'!A60","v":"-"},{"$f":"'Coordination Timing - PROPOSED'!B60","v":"-"},{"$f":"'Coordination Timing - PROPOSED'!C60","v":"-"},{"$f":"'Coordination Timing - PROPOSED'!D60","v":"-"},{"$f":"'Coordination Timing - PROPOSED'!E60","v":"-"},{"$f":"'Coordination Timing - PROPOSED'!F60","v":"-"},{"$f":"'Coordination Timing - PROPOSED'!G60","v":"-"},{"$f":"'Coordination Timing - PROPOSED'!H60","v":"-"},{"$f":"'Coordination Timing - PROPOSED'!I60","v":"-"},{"$f":"'Coordination Timing - PROPOSED'!J60","v":"-"},{"$f":"'Coordination Timing - PROPOSED'!K60","v":"-"}]
[{"$f":"'Coordination Timing - EXISTING'!A61","v":"-"},{"$f":"'Coordination Timing - EXISTING'!B61","v":"-"},{"$f":"'Coordination Timing - EXISTING'!C61","v":"-"},{"$f":"'Coordination Timing - EXISTING'!D61","v":"-"},{"$f":"'Coordination Timing - EXISTING'!E61","v":"-"},{"$f":"'Coordination Timing - EXISTING'!F61","v":"-"},{"$f":"'Coordination Timing - EXISTING'!G61","v":"-"},{"$f":"'Coordination Timing - EXISTING'!H61","v":"-"},{"$f":"'Coordination Timing - EXISTING'!I61","v":"-"},{"$f":"'Coordination Timing - EXISTING'!J61","v":"-"},{"$f":"'Coordination Timing - EXISTING'!K61","v":"-"},null,{"$f":"'Coordination Timing - PROPOSED'!A61","v":"-"},{"$f":"'Coordination Timing - PROPOSED'!B61","v":"-"},{"$f":"'Coordination Timing - PROPOSED'!C61","v":"-"},{"$f":"'Coordination Timing - PROPOSED'!D61","v":"-"},{"$f":"'Coordination Timing - PROPOSED'!E61","v":"-"},{"$f":"'Coordination Timing - PROPOSED'!F61","v":"-"},{"$f":"'Coordination Timing - PROPOSED'!G61","v":"-"},{"$f":"'Coordination Timing - PROPOSED'!H61","v":"-"},{"$f":"'Coordination Timing - PROPOSED'!I61","v":"-"},{"$f":"'Coordination Timing - PROPOSED'!J61","v":"-"},{"$f":"'Coordination Timing - PROPOSED'!K61","v":"-"}]
[]
["\"INTERSECTION 2\"",null,null,null,null,null,null,null,null,null,null,null,"\"INTERSECTION 2\""]
["PHASE",1,2,3,4,5,6,7,8,"OFFSET 1 (SEC)","OFFSET 2 (SEC)",null,"PHASE",1,2,3,4,5,6,7,8,"OFFSET 1 (SEC)","OFFSET 2 (SEC)"]
["DIRECTION",{"$f":"'Coordination Timing - EXISTING'!B65","v":"-"},{"$f":"'Coordination Timing - EXISTING'!C65","v":"-"},{"$f":"'Coordination Timing - EXISTING'!D65","v":"-"},{"$f":"'Coordination Timing - EXISTING'!E65","v":"-"},{"$f":"'Coordination Timing - EXISTING'!F65","v":"-"},{"$f":"'Coordination Timing - EXISTING'!G65","v":"-"},{"$f":"'Coordination Timing - EXISTING'!H65","v":"-"},{"$f":"'Coordination Timing - EXISTING'!I65","v":"-"},null,null,null,"DIRECTION",{"$f":"'Coordination Timing - PROPOSED'!B65","v":"-"},{"$f":"'Coordination Timing - PROPOSED'!C65","v":"-"},{"$f":"'Coordination Timing - PROPOSED'!D65","v":"-"},{"$f":"'Coordination Timing - PROPOSED'!E65","v":"-"},{"$f":"'Coordination Timing - PROPOSED'!F65","v":"-"},{"$f":"'Coordination Timing - PROPOSED'!G65","v":"-"},{"$f":"'Coordination Timing - PROPOSED'!H65","v":"-"},{"$f":"'Coordination Timing - PROPOSED'!I65","v":"-"}]
["PLAN NO. OR C/S/O","SPLITS (G+Y+AR) IN SECONDS",null,null,null,null,null,null,null,null,null,null,"PLAN NO. OR C/S/O","SPLITS (G+Y+AR) IN SECONDS"]
[{"$f":"'Coordination Timing - EXISTING'!A67","v":"-"},{"$f":"'Coordination Timing - EXISTING'!B67","v":"-"},{"$f":"'Coordination Timing - EXISTING'!C67","v":"-"},{"$f":"'Coordination Timing - EXISTING'!D67","v":"-"},{"$f":"'Coordination Timing - EXISTING'!E67","v":"-"},{"$f":"'Coordination Timing - EXISTING'!F67","v":"-"},{"$f":"'Coordination Timing - EXISTING'!G67","v":"-"},{"$f":"'Coordination Timing - EXISTING'!H67","v":"-"},{"$f":"'Coordination Timing - EXISTING'!I67","v":"-"},{"$f":"'Coordination Timing - EXISTING'!J67","v":"-"},{"$f":"'Coordination Timing - EXISTING'!K67","v":"-"},null,{"$f":"'Coordination Timing - PROPOSED'!A67","v":"-"},{"$f":"'Coordination Timing - PROPOSED'!B67","v":"-"},{"$f":"'Coordination Timing - PROPOSED'!C67","v":"-"},{"$f":"'Coordination Timing - PROPOSED'!D67","v":"-"},{"$f":"'Coordination Timing - PROPOSED'!E67","v":"-"},{"$f":"'Coordination Timing - PROPOSED'!F67","v":"-"},{"$f":"'Coordination Timing - PROPOSED'!G67","v":"-"},{"$f":"'Coordination Timing - PROPOSED'!H67","v":"-"},{"$f":"'Coordination Timing - PROPOSED'!I67","v":"-"},{"$f":"'Coordination Timing - PROPOSED'!J67","v":"-"},{"$f":"'Coordination Timing - PROPOSED'!K67","v":"-"}]
[{"$f":"'Coordination Timing - EXISTING'!A68","v":"-"},{"$f":"'Coordination Timing - EXISTING'!B68","v":"-"},{"$f":"'Coordination Timing - EXISTING'!C68","v":"-"},{"$f":"'Coordination Timing - EXISTING'!D68","v":"-"},{"$f":"'Coordination Timing - EXISTING'!E68","v":"-"},{"$f":"'Coordination Timing - EXISTING'!F68","v":"-"},{"$f":"'Coordination Timing - EXISTING'!G68","v":"-"},{"$f":"'Coordination Timing - EXISTING'!H68","v":"-"},{"$f":"'Coordination Timing - EXISTING'!I68","v":"-"},{"$f":"'Coordination Timing - EXISTING'!J68","v":"-"},{"$f":"'Coordination Timing - EXISTING'!K68","v":"-"},null,{"$f":"'Coordination Timing - PROPOSED'!A68","v":"-"},{"$f":"'Coordination Timing - PROPOSED'!B68","v":"-"},{"$f":"'Coordination Timing - PROPOSED'!C68","v":"-"},{"$f":"'Coordination Timing - PROPOSED'!D68","v":"-"},{"$f":"'Coordination Timing - PROPOSED'!E68","v":"-"},{"$f":"'Coordination Timing - PROPOSED'!F68","v":"-"},{"$f":"'Coordination Timing - PROPOSED'!G68","v":"-"},{"$f":"'Coordination Timing - PROPOSED'!H68","v":"-"},{"$f":"'Coordination Timing - PROPOSED'!I68","v":"-"},{"$f":"'Coordination Timing - PROPOSED'!J68","v":"-"},{"$f":"'Coordination Timing - PROPOSED'!K68","v":"-"}]
[{"$f":"'Coordination Timing - EXISTING'!A69","v":"-"},{"$f":"'Coordination Timing - EXISTING'!B69","v":"-"},{"$f":"'Coordination Timing - EXISTING'!C69","v":"-"},{"$f":"'Coordination Timing - EXISTING'!D69","v":"-"},{"$f":"'Coordination Timing - EXISTING'!E69","v":"-"},{"$f":"'Coordination Timing - EXISTING'!F69","v":"-"},{"$f":"'Coordination Timing - EXISTING'!G69","v":"-"},{"$f":"'Coordination Timing - EXISTING'!H69","v":"-"},{"$f":"'Coordination Timing - EXISTING'!I69","v":"-"},{"$f":"'Coordination Timing - EXISTING'!J69","v":"-"},{"$f":"'Coordination Timing - EXISTING'!K69","v":"-"},null,{"$f":"'Coordination Timing - PROPOSED'!A69","v":"-"},{"$f":"'Coordination Timing - PROPOSED'!B69","v":"-"},{"$f":"'Coordination Timing - PROPOSED'!C69","v":"-"},{"$f":"'Coordination Timing - PROPOSED'!D69","v":"-"},{"$f":"'Coordination Timing - PROPOSED'!E69","v":"-"},{"$f":"'Coordination Timing - PROPOSED'!F69","v":"-"},{"$f":"'Coordination Timing - PROPOSED'!G69","v":"-"},{"$f":"'Coordination Timing - PROPOSED'!H69","v":"-"},{"$f":"'Coordination Timing - PROPOSED'!I69","v":"-"},{"$f":"'Coordination Timing - PROPOSED'!J69","v":"-"},{"$f":"'Coordination Timing - PROPOSED'!K69","v":"-"}]
[{"$f":"'Coordination Timing - EXISTING'!A70","v":"-"},{"$f":"'Coordination Timing - EXISTING'!B70","v":"-"},{"$f":"'Coordination Timing - EXISTING'!C70","v":"-"},{"$f":"'Coordination Timing - EXISTING'!D70","v":"-"},{"$f":"'Coordination Timing - EXISTING'!E70","v":"-"},{"$f":"'Coordination Timing - EXISTING'!F70","v":"-"},{"$f":"'Coordination Timing - EXISTING'!G70","v":"-"},{"$f":"'Coordination Timing - EXISTING'!H70","v":"-"},{"$f":"'Coordination Timing - EXISTING'!I70","v":"-"},{"$f":"'Coordination Timing - EXISTING'!J70","v":"-"},{"$f":"'Coordination Timing - EXISTING'!K70","v":"-"},null,{"$f":"'Coordination Timing - PROPOSED'!A70","v":"-"},{"$f":"'Coordination Timing - PROPOSED'!B70","v":"-"},{"$f":"'Coordination Timing - PROPOSED'!C70","v":"-"},{"$f":"'Coordination Timing - PROPOSED'!D70","v":"-"},{"$f":"'Coordination Timing - PROPOSED'!E70","v":"-"},{"$f":"'Coordination Timing - PROPOSED'!F70","v":"-"},{"$f":"'Coordination Timing - PROPOSED'!G70","v":"-"},{"$f":"'Coordination Timing - PROPOSED'!H70","v":"-"},{"$f":"'Coordination Timing - PROPOSED'!I70","v":"-"},{"$f":"'Coordination Timing - PROPOSED'!J70","v":"-"},{"$f":"'Coordination Timing - PROPOSED'!K70","v":"-"}]
[{"$f":"'Coordination Timing - EXISTING'!A71","v":"-"},{"$f":"'Coordination Timing - EXISTING'!B71","v":"-"},{"$f":"'Coordination Timing - EXISTING'!C71","v":"-"},{"$f":"'Coordination Timing - EXISTING'!D71","v":"-"},{"$f":"'Coordination Timing - EXISTING'!E71","v":"-"},{"$f":"'Coordination Timing - EXISTING'!F71","v":"-"},{"$f":"'Coordination Timing - EXISTING'!G71","v":"-"},{"$f":"'Coordination Timing - EXISTING'!H71","v":"-"},{"$f":"'Coordination Timing - EXISTING'!I71","v":"-"},{"$f":"'Coordination Timing - EXISTING'!J71","v":"-"},{"$f":"'Coordination Timing - EXISTING'!K71","v":"-"},null,{"$f":"'Coordination Timing - PROPOSED'!A71","v":"-"},{"$f":"'Coordination Timing - PROPOSED'!B71","v":"-"},{"$f":"'Coordination Timing - PROPOSED'!C71","v":"-"},{"$f":"'Coordination Timing - PROPOSED'!D71","v":"-"},{"$f":"'Coordination Timing - PROPOSED'!E71","v":"-"},{"$f":"'Coordination Timing - PROPOSED'!F71","v":"-"},{"$f":"'Coordination Timing - PROPOSED'!G71","v":"-"},{"$f":"'Coordination Timing - PROPOSED'!H71","v":"-"},{"$f":"'Coordination Timing - PROPOSED'!I71","v":"-"},{"$f":"'Coordination Timing - PROPOSED'!J71","v":"-"},{"$f":"'Coordination Timing - PROPOSED'!K71","v":"-"}]
[]
["\"INTERSECTION 3\"",null,null,null,null,null,null,null,null,null,null,null,"\"INTERSECTION 3\""]
["PHASE",1,2,3,4,5,6,7,8,"OFFSET 1 (SEC)","OFFSET 2 (SEC)",null,"PHASE",1,2,3,4,5,6,7,8,"OFFSET 1 (SEC)","OFFSET 2 (SEC)"]
["DIRECTION",{"$f":"'Coordination Timing - EXISTING'!B75","v":"-"},{"$f":"'Coordination Timing - EXISTING'!C75","v":"-"},{"$f":"'Coordination Timing - EXISTING'!D75","v":"-"},{"$f":"'Coordination Timing - EXISTING'!E75","v":"-"},{"$f":"'Coordination Timing - EXISTING'!F75","v":"-"},{"$f":"'Coordination Timing - EXISTING'!G75","v":"-"},{"$f":"'Coordination Timing - EXISTING'!H75","v":"-"},{"$f":"'Coordination Timing - EXISTING'!I75","v":"-"},null,null,null,"DIRECTION",{"$f":"'Coordination Timing - PROPOSED'!B75","v":"-"},{"$f":"'Coordination Timing - PROPOSED'!C75","v":"-"},{"$f":"'Coordination Timing - PROPOSED'!D75","v":"-"},{"$f":"'Coordination Timing - PROPOSED'!E75","v":"-"},{"$f":"'Coordination Timing - PROPOSED'!F75","v":"-"},{"$f":"'Coordination Timing - PROPOSED'!G75","v":"-"},{"$f":"'Coordination Timing - PROPOSED'!H75","v":"-"},{"$f":"'Coordination Timing - PROPOSED'!I75","v":"-"}]
["PLAN NO. OR C/S/O","SPLITS (G+Y+AR) IN SECONDS",null,null,null,null,null,null,null,null,null,null,"PLAN NO. OR C/S/O","SPLITS (G+Y+AR) IN SECONDS"]
[{"$f":"'Coordination Timing - EXISTING'!A77","v":"-"},{"$f":"'Coordination Timing - EXISTING'!B77","v":"-"},{"$f":"'Coordination Timing - EXISTING'!C77","v":"-"},{"$f":"'Coordination Timing - EXISTING'!D77","v":"-"},{"$f":"'Coordination Timing - EXISTING'!E77","v":"-"},{"$f":"'Coordination Timing - EXISTING'!F77","v":"-"},{"$f":"'Coordination Timing - EXISTING'!G77","v":"-"},{"$f":"'Coordination Timing - EXISTING'!H77","v":"-"},{"$f":"'Coordination Timing - EXISTING'!I77","v":"-"},{"$f":"'Coordination Timing - EXISTING'!J77","v":"-"},{"$f":"'Coordination Timing - EXISTING'!K77","v":"-"},null,{"$f":"'Coordination Timing - PROPOSED'!A77","v":"-"},{"$f":"'Coordination Timing - PROPOSED'!B77","v":"-"},{"$f":"'Coordination Timing - PROPOSED'!C77","v":"-"},{"$f":"'Coordination Timing - PROPOSED'!D77","v":"-"},{"$f":"'Coordination Timing - PROPOSED'!E77","v":"-"},{"$f":"'Coordination Timing - PROPOSED'!F77","v":"-"},{"$f":"'Coordination Timing - PROPOSED'!G77","v":"-"},{"$f":"'Coordination Timing - PROPOSED'!H77","v":"-"},{"$f":"'Coordination Timing - PROPOSED'!I77","v":"-"},{"$f":"'Coordination Timing - PROPOSED'!J77","v":"-"},{"$f":"'Coordination Timing - PROPOSED'!K77","v":"-"}]
[{"$f":"'Coordination Timing - EXISTING'!A78","v":"-"},{"$f":"'Coordination Timing - EXISTING'!B78","v":"-"},{"$f":"'Coordination Timing - EXISTING'!C78","v":"-"},{"$f":"'Coordination Timing - EXISTING'!D78","v":"-"},{"$f":"'Coordination Timing - EXISTING'!E78","v":"-"},{"$f":"'Coordination Timing - EXISTING'!F78","v":"-"},{"$f":"'Coordination Timing - EXISTING'!G78","v":"-"},{"$f":"'Coordination Timing - EXISTING'!H78","v":"-"},{"$f":"'Coordination Timing - EXISTING'!I78","v":"-"},{"$f":"'Coordination Timing - EXISTING'!J78","v":"-"},{"$f":"'Coordination Timing - EXISTING'!K78","v":"-"},null,{"$f":"'Coordination Timing - PROPOSED'!A78","v":"-"},{"$f":"'Coordination Timing - PROPOSED'!B78","v":"-"},{"$f":"'Coordination Timing - PROPOSED'!C78","v":"-"},{"$f":"'Coordination Timing - PROPOSED'!D78","v":"-"},{"$f":"'Coordination Timing - PROPOSED'!E78","v":"-"},{"$f":"'Coordination Timing - PROPOSED'!F78","v":"-"},{"$f":"'Coordination Timing - PROPOSED'!G78","v":"-"},{"$f":"'Coordination Timing - PROPOSED'!H78","v":"-"},{"$f":"'Coordination Timing - PROPOSED'!I78","v":"-"},{"$f":"'Coordination Timing - PROPOSED'!J78","v":"-"},{"$f":"'Coordination Timing - PROPOSED'!K78","v":"-"}]
[{"$f":"'Coordination Timing - EXISTING'!A79","v":"-"},{"$f":"'Coordination Timing - EXISTING'!B79","v":"-"},{"$f":"'Coordination Timing - EXISTING'!C79","v":"-"},{"$f":"'Coordination Timing - EXISTING'!D79","v":"-"},{"$f":"'Coordination Timing - EXISTING'!E79","v":"-"},{"$f":"'Coordination Timing - EXISTING'!F79","v":"-"},{"$f":"'Coordination Timing - EXISTING'!G79","v":"-"},{"$f":"'Coordination Timing - EXISTING'!H79","v":"-"},{"$f":"'Coordination Timing - EXISTING'!I79","v":"-"},{"$f":"'Coordination Timing - EXISTING'!J79","v":"-"},{"$f":"'Coordination Timing - EXISTING'!K79","v":"-"},null,{"$f":"'Coordination Timing - PROPOSED'!A79","v":"-"},{"$f":"'Coordination Timing - PROPOSED'!B79","v":"-"},{"$f":"'Coordination Timing - PROPOSED'!C79","v":"-"},{"$f":"'Coordination Timing - PROPOSED'!D79","v":"-"},{"$f":"'Coordination Timing - PROPOSED'!E79","v":"-"},{"$f":"'Coordination Timing - PROPOSED'!F79","v":"-"},{"$f":"'Coordination Timing - PROPOSED'!G79","v":"-"},{"$f":"'Coordination Timing - PROPOSED'!H79","v":"-"},{"$f":"'Coordination Timing - PROPOSED'!I79","v":"-"},{"$f":"'Coordination Timing - PROPOSED'!J79","v":"-"},{"$f":"'Coordination Timing - PROPOSED'!K79","v":"-"}]
[{"$f":"'Coordination Timing - EXISTING'!A80","v":"-"},{"$f":"'Coordination Timing - EXISTING'!B80","v":"-"},{"$f":"'Coordination Timing - EXISTING'!C80","v":"-"},{"$f":"'Coordination Timing - EXISTING'!D80","v":"-"},{"$f":"'Coordination Timing - EXISTING'!E80","v":"-"},{"$f":"'Coordination Timing - EXISTING'!F80","v":"-"},{"$f":"'Coordination Timing - EXISTING'!G80","v":"-"},{"$f":"'Coordination Timing - EXISTING'!H80","v":"-"},{"$f":"'Coordination Timing - EXISTING'!I80","v":"-"},{"$f":"'Coordination Timing - EXISTING'!J80","v":"-"},{"$f":"'Coordination Timing - EXISTING'!K80","v":"-"},null,{"$f":"'Coordination Timing - PROPOSED'!A80","v":"-"},{"$f":"'Coordination Timing - PROPOSED'!B80","v":"-"},{"$f":"'Coordination Timing - PROPOSED'!C80","v":"-"},{"$f":"'Coordination Timing - PROPOSED'!D80","v":"-"},{"$f":"'Coordination Timing - PROPOSED'!E80","v":"-"},{"$f":"'Coordination Timing - PROPOSED'!F80","v":"-"},{"$f":"'Coordination Timing - PROPOSED'!G80","v":"-"},{"$f":"'Coordination Timing - PROPOSED'!H80","v":"-"},{"$f":"'Coordination Timing - PROPOSED'!I80","v":"-"},{"$f":"'Coordination Timing - PROPOSED'!J80","v":"-"},{"$f":"'Coordination Timing - PROPOSED'!K80","v":"-"}]
[{"$f":"'Coordination Timing - EXISTING'!A81","v":"-"},{"$f":"'Coordination Timing - EXISTING'!B81","v":"-"},{"$f":"'Coordination Timing - EXISTING'!C81","v":"-"},{"$f":"'Coordination Timing - EXISTING'!D81","v":"-"},{"$f":"'Coordination Timing - EXISTING'!E81","v":"-"},{"$f":"'Coordination Timing - EXISTING'!F81","v":"-"},{"$f":"'Coordination Timing - EXISTING'!G81","v":"-"},{"$f":"'Coordination Timing - EXISTING'!H81","v":"-"},{"$f":"'Coordination Timing - EXISTING'!I81","v":"-"},{"$f":"'Coordination Timing - EXISTING'!J81","v":"-"},{"$f":"'Coordination Timing - EXISTING'!K81","v":"-"},null,{"$f":"'Coordination Timing - PROPOSED'!A81","v":"-"},{"$f":"'Coordination Timing - PROPOSED'!B81","v":"-"},{"$f":"'Coordination Timing - PROPOSED'!C81","v":"-"},{"$f":"'Coordination Timing - PROPOSED'!D81","v":"-"},{"$f":"'Coordination Timing - PROPOSED'!E81","v":"-"},{"$f":"'Coordination Timing - PROPOSED'!F81","v":"-"},{"$f":"'Coordination Timing - PROPOSED'!G81","v":"-"},{"$f":"'Coordination Timing - PROPOSED'!H81","v":"-"},{"$f":"'Coordination Timing - PROPOSED'!I81","v":"-"},{"$f":"'Coordination Timing - PROPOSED'!J81","v":"-"},{"$f":"'Coordination Timing - PROPOSED'!K81","v":"-"}]
[]
[null,null,null,null,null,null,null,null,"EXISTING TIMING",null,null,null,null,null,null,null,null,null,null,null,"PROPOSED TIMING"]
[]
["\"INTERSECTION 4\"",null,null,null,null,null,null,null,null,null,null,null,"\"INTERSECTION 4\""]
["PHASE",1,2,3,4,5,6,7,8,"OFFSET 1 (SEC)","OFFSET 2 (SEC)",null,"PHASE",1,2,3,4,5,6,7,8,"OFFSET 1 (SEC)","OFFSET 2 (SEC)"]
["DIRECTION",{"$f":"'Coordination Timing - EXISTING'!B85","v":"-"},{"$f":"'Coordination Timing - EXISTING'!C85","v":"-"},{"$f":"'Coordination Timing - EXISTING'!D85","v":"-"},{"$f":"'Coordination Timing - EXISTING'!E85","v":"-"},{"$f":"'Coordination Timing - EXISTING'!F85","v":"-"},{"$f":"'Coordination Timing - EXISTING'!G85","v":"-"},{"$f":"'Coordination Timing - EXISTING'!H85","v":"-"},{"$f":"'Coordination Timing - EXISTING'!I85","v":"-"},null,null,null,"DIRECTION",{"$f":"'Coordination Timing - PROPOSED'!B85","v":"-"},{"$f":"'Coordination Timing - PROPOSED'!C85","v":"-"},{"$f":"'Coordination Timing - PROPOSED'!D85","v":"-"},{"$f":"'Coordination Timing - PROPOSED'!E85","v":"-"},{"$f":"'Coordination Timing - PROPOSED'!F85","v":"-"},{"$f":"'Coordination Timing - PROPOSED'!G85","v":"-"},{"$f":"'Coordination Timing - PROPOSED'!H85","v":"-"},{"$f":"'Coordination Timing - PROPOSED'!I85","v":"-"}]
["PLAN NO. OR C/S/O","SPLITS (G+Y+AR) IN SECONDS",null,null,null,null,null,null,null,null,null,null,"PLAN NO. OR C/S/O","SPLITS (G+Y+AR) IN SECONDS"]
[{"$f":"'Coordination Timing - EXISTING'!A87","v":"-"},{"$f":"'Coordination Timing - EXISTING'!B87","v":"-"},{"$f":"'Coordination Timing - EXISTING'!C87","v":"-"},{"$f":"'Coordination Timing - EXISTING'!D87","v":"-"},{"$f":"'Coordination Timing - EXISTING'!E87","v":"-"},{"$f":"'Coordination Timing - EXISTING'!F87","v":"-"},{"$f":"'Coordination Timing - EXISTING'!G87","v":"-"},{"$f":"'Coordination Timing - EXISTING'!H87","v":"-"},{"$f":"'Coordination Timing - EXISTING'!I87","v":"-"},{"$f":"'Coordination Timing - EXISTING'!J87","v":"-"},{"$f":"'Coordination Timing - EXISTING'!K87","v":"-"},null,{"$f":"'Coordination Timing - PROPOSED'!A87","v":"-"},{"$f":"'Coordination Timing - PROPOSED'!B87","v":"-"},{"$f":"'Coordination Timing - PROPOSED'!C87","v":"-"},{"$f":"'Coordination Timing - PROPOSED'!D87","v":"-"},{"$f":"'Coordination Timing - PROPOSED'!E87","v":"-"},{"$f":"'Coordination Timing - PROPOSED'!F87","v":"-"},{"$f":"'Coordination Timing - PROPOSED'!G87","v":"-"},{"$f":"'Coordination Timing - PROPOSED'!H87","v":"-"},{"$f":"'Coordination Timing - PROPOSED'!I87","v":"-"},{"$f":"'Coordination Timing - PROPOSED'!J87","v":"-"},{"$f":"'Coordination Timing - PROPOSED'!K87","v":"-"}]
[{"$f":"'Coordination Timing - EXISTING'!A88","v":"-"},{"$f":"'Coordination Timing - EXISTING'!B88","v":"-"},{"$f":"'Coordination Timing - EXISTING'!C88","v":"-"},{"$f":"'Coordination Timing - EXISTING'!D88","v":"-"},{"$f":"'Coordination Timing - EXISTING'!E88","v":"-"},{"$f":"'Coordination Timing - EXISTING'!F88","v":"-"},{"$f":"'Coordination Timing - EXISTING'!G88","v":"-"},{"$f":"'Coordination Timing - EXISTING'!H88","v":"-"},{"$f":"'Coordination Timing - EXISTING'!I88","v":"-"},{"$f":"'Coordination Timing - EXISTING'!J88","v":"-"},{"$f":"'Coordination Timing - EXISTING'!K88","v":"-"},null,{"$f":"'Coordination Timing - PROPOSED'!A88","v":"-"},{"$f":"'Coordination Timing - PROPOSED'!B88","v":"-"},{"$f":"'Coordination Timing - PROPOSED'!C88","v":"-"},{"$f":"'Coordination Timing - PROPOSED'!D88","v":"-"},{"$f":"'Coordination Timing - PROPOSED'!E88","v":"-"},{"$f":"'Coordination Timing - PROPOSED'!F88","v":"-"},{"$f":"'Coordination Timing - PROPOSED'!G88","v":"-"},{"$f":"'Coordination Timing - PROPOSED'!H88","v":"-"},{"$f":"'Coordination Timing - PROPOSED'!I88","v":"-"},{"$f":"'Coordination Timing - PROPOSED'!J88","v":"-"},{"$f":"'Coordination Timing - PROPOSED'!K88","v":"-"}]
[{"$f":"'Coordination Timing - EXISTING'!A89","v":"-"},{"$f":"'Coordination Timing - EXISTING'!B89","v":"-"},{"$f":"'Coordination Timing - EXISTING'!C89","v":"-"},{"$f":"'Coordination Timing - EXISTING'!D89","v":"-"},{"$f":"'Coordination Timing - EXISTING'!E89","v":"-"},{"$f":"'Coordination Timing - EXISTING'!F89","v":"-"},{"$f":"'Coordination Timing - EXISTING'!G89","v":"-"},{"$f":"'Coordination Timing - EXISTING'!H89","v":"-"},{"$f":"'Coordination Timing - EXISTING'!I89","v":"-"},{"$f":"'Coordination Timing - EXISTING'!J89","v":"-"},{"$f":"'Coordination Timing - EXISTING'!K89","v":"-"},null,{"$f":"'Coordination Timing - PROPOSED'!A89","v":"-"},{"$f":"'Coordination Timing - PROPOSED'!B89","v":"-"},{"$f":"'Coordination Timing - PROPOSED'!C89","v":"-"},{"$f":"'Coordination Timing - PROPOSED'!D89","v":"-"},{"$f":"'Coordination Timing - PROPOSED'!E89","v":"-"},{"$f":"'Coordination Timing - PROPOSED'!F89","v":"-"},{"$f":"'Coordination Timing - PROPOSED'!G89","v":"-"},{"$f":"'Coordination Timing - PROPOSED'!H89","v":"-"},{"$f":"'Coordination Timing - PROPOSED'!I89","v":"-"},{"$f":"'Coordination Timing - PROPOSED'!J89","v":"-"},{"$f":"'Coordination Timing - PROPOSED'!K89","v":"-"}]
[{"$f":"'Coordination Timing - EXISTING'!A90","v":"-"},{"$f":"'Coordination Timing - EXISTING'!B90","v":"-"},{"$f":"'Coordination Timing - EXISTING'!C90","v":"-"},{"$f":"'Coordination Timing - EXISTING'!D90","v":"-"},{"$f":"'Coordination Timing - EXISTING'!E90","v":"-"},{"$f":"'Coordination Timing - EXISTING'!F90","v":"-"},{"$f":"'Coordination Timing - EXISTING'!G90","v":"-"},{"$f":"'Coordination Timing - EXISTING'!H90","v":"-"},{"$f":"'Coordination Timing - EXISTING'!I90","v":"-"},{"$f":"'Coordination Timing - EXISTING'!J90","v":"-"},{"$f":"'Coordination Timing - EXISTING'!K90","v":"-"},null,{"$f":"'Coordination Timing - PROPOSED'!A90","v":"-"},{"$f":"'Coordination Timing - PROPOSED'!B90","v":"-"},{"$f":"'Coordination Timing - PROPOSED'!C90","v":"-"},{"$f":"'Coordination Timing - PROPOSED'!D90","v":"-"},{"$f":"'Coordination Timing - PROPOSED'!E90","v":"-"},{"$f":"'Coordination Timing - PROPOSED'!F90","v":"-"},{"$f":"'Coordination Timing - PROPOSED'!G90","v":"-"},{"$f":"'Coordination Timing - PROPOSED'!H90","v":"-"},{"$f":"'Coordination Timing - PROPOSED'!I90","v":"-"},{"$f":"'Coordination Timing - PROPOSED'!J90","v":"-"},{"$f":"'Coordination Timing - PROPOSED'!K90","v":"-"}]
[{"$f":"'Coordination Timing - EXISTING'!A91","v":"-"},{"$f":"'Coordination Timing - EXISTING'!B91","v":"-"},{"$f":"'Coordination Timing - EXISTING'!C91","v":"-"},{"$f":"'Coordination Timing - EXISTING'!D91","v":"-"},{"$f":"'Coordination Timing - EXISTING'!E91","v":"-"},{"$f":"'Coordination Timing - EXISTING'!F91","v":"-"},{"$f":"'Coordination Timing - EXISTING'!G91","v":"-"},{"$f":"'Coordination Timing - EXISTING'!H91","v":"-"},{"$f":"'Coordination Timing - EXISTING'!I91","v":"-"},{"$f":"'Coordination Timing - EXISTING'!J91","v":"-"},{"$f":"'Coordination Timing - EXISTING'!K91","v":"-"},null,{"$f":"'Coordination Timing - PROPOSED'!A91","v":"-"},{"$f":"'Coordination Timing - PROPOSED'!B91","v":"-"},{"$f":"'Coordination Timing - PROPOSED'!C91","v":"-"},{"$f":"'Coordination Timing - PROPOSED'!D91","v":"-"},{"$f":"'Coordination Timing - PROPOSED'!E91","v":"-"},{"$f":"'Coordination Timing - PROPOSED'!F91","v":"-"},{"$f":"'Coordination Timing - PROPOSED'!G91","v":"-"},{"$f":"'Coordination Timing - PROPOSED'!H91","v":"-"},{"$f":"'Coordination Timing - PROPOSED'!I91","v":"-"},{"$f":"'Coordination Timing - PROPOSED'!J91","v":"-"},{"$f":"'Coordination Timing - PROPOSED'!K91","v":"-"}]
[]
["\"INTERSECTION 5\"",null,null,null,null,null,null,null,null,null,null,null,"\"INTERSECTION 5\""]
["PHASE",1,2,3,4,5,6,7,8,"OFFSET 1 (SEC)","OFFSET 2 (SEC)",null,"PHASE",1,2,3,4,5,6,7,8,"OFFSET 1 (SEC)","OFFSET 2 (SEC)"]
["DIRECTION",{"$f":"'Coordination Timing - EXISTING'!B95","v":"-"},{"$f":"'Coordination Timing - EXISTING'!C95","v":"-"},{"$f":"'Coordination Timing - EXISTING'!D95","v":"-"},{"$f":"'Coordination Timing - EXISTING'!E95","v":"-"},{"$f":"'Coordination Timing - EXISTING'!F95","v":"-"},{"$f":"'Coordination Timing - EXISTING'!G95","v":"-"},{"$f":"'Coordination Timing - EXISTING'!H95","v":"-"},{"$f":"'Coordination Timing - EXISTING'!I95","v":"-"},null,null,null,"DIRECTION",{"$f":"'Coordination Timing - PROPOSED'!B95","v":"-"},{"$f":"'Coordination Timing - PROPOSED'!C95","v":"-"},{"$f":"'Coordination Timing - PROPOSED'!D95","v":"-"},{"$f":"'Coordination Timing - PROPOSED'!E95","v":"-"},{"$f":"'Coordination Timing - PROPOSED'!F95","v":"-"},{"$f":"'Coordination Timing - PROPOSED'!G95","v":"-"},{"$f":"'Coordination Timing - PROPOSED'!H95","v":"-"},{"$f":"'Coordination Timing - PROPOSED'!I95","v":"-"}]
["PLAN NO. OR C/S/O","SPLITS (G+Y+AR) IN SECONDS",null,null,null,null,null,null,null,null,null,null,"PLAN NO. OR C/S/O","SPLITS (G+Y+AR) IN SECONDS"]
[{"$f":"'Coordination Timing - EXISTING'!A97","v":"-"},{"$f":"'Coordination Timing - EXISTING'!B97","v":"-"},{"$f":"'Coordination Timing - EXISTING'!C97","v":"-"},{"$f":"'Coordination Timing - EXISTING'!D97","v":"-"},{"$f":"'Coordination Timing - EXISTING'!E97","v":"-"},{"$f":"'Coordination Timing - EXISTING'!F97","v":"-"},{"$f":"'Coordination Timing - EXISTING'!G97","v":"-"},{"$f":"'Coordination Timing - EXISTING'!H97","v":"-"},{"$f":"'Coordination Timing - EXISTING'!I97","v":"-"},{"$f":"'Coordination Timing - EXISTING'!J97","v":"-"},{"$f":"'Coordination Timing - EXISTING'!K97","v":"-"},null,{"$f":"'Coordination Timing - PROPOSED'!A97","v":"-"},{"$f":"'Coordination Timing - PROPOSED'!B97","v":"-"},{"$f":"'Coordination Timing - PROPOSED'!C97","v":"-"},{"$f":"'Coordination Timing - PROPOSED'!D97","v":"-"},{"$f":"'Coordination Timing - PROPOSED'!E97","v":"-"},{"$f":"'Coordination Timing - PROPOSED'!F97","v":"-"},{"$f":"'Coordination Timing - PROPOSED'!G97","v":"-"},{"$f":"'Coordination Timing - PROPOSED'!H97","v":"-"},{"$f":"'Coordination Timing - PROPOSED'!I97","v":"-"},{"$f":"'Coordination Timing - PROPOSED'!J97","v":"-"},{"$f":"'Coordination Timing - PROPOSED'!K97","v":"-"}]
[{"$f":"'Coordination Timing - EXISTING'!A98","v":"-"},{"$f":"'Coordination Timing - EXISTING'!B98","v":"-"},{"$f":"'Coordination Timing - EXISTING'!C98","v":"-"},{"$f":"'Coordination Timing - EXISTING'!D98","v":"-"},{"$f":"'Coordination Timing - EXISTING'!E98","v":"-"},{"$f":"'Coordination Timing - EXISTING'!F98","v":"-"},{"$f":"'Coordination Timing - EXISTING'!G98","v":"-"},{"$f":"'Coordination Timing - EXISTING'!H98","v":"-"},{"$f":"'Coordination Timing - EXISTING'!I98","v":"-"},{"$f":"'Coordination Timing - EXISTING'!J98","v":"-"},{"$f":"'Coordination Timing - EXISTING'!K98","v":"-"},null,{"$f":"'Coordination Timing - PROPOSED'!A98","v":"-"},{"$f":"'Coordination Timing - PROPOSED'!B98","v":"-"},{"$f":"'Coordination Timing - PROPOSED'!C98","v":"-"},{"$f":"'Coordination Timing - PROPOSED'!D98","v":"-"},{"$f":"'Coordination Timing - PROPOSED'!E98","v":"-"},{"$f":"'Coordination Timing - PROPOSED'!F98","v":"-"},{"$f":"'Coordination Timing - PROPOSED'!G98","v":"-"},{"$f":"'Coordination Timing - PROPOSED'!H98","v":"-"},{"$f":"'Coordination Timing - PROPOSED'!I98","v":"-"},{"$f":"'Coordination Timing - PROPOSED'!J98","v":"-"},{"$f":"'Coordination Timing - PROPOSED'!K98","v":"-"}]
[{"$f":"'Coordination Timing - EXISTING'!A99","v":"-"},{"$f":"'Coordination Timing - EXISTING'!B99","v":"-"},{"$f":"'Coordination Timing - EXISTING'!C99","v":"-"},{"$f":"'Coordination Timing - EXISTING'!D99","v":"-"},{"$f":"'Coordination Timing - EXISTING'!E99","v":"-"},{"$f":"'Coordination Timing - EXISTING'!F99","v":"-"},{"$f":"'Coordination Timing - EXISTING'!G99","v":"-"},{"$f":"'Coordination Timing - EXISTING'!H99","v":"-"},{"$f":"'Coordination Timing - EXISTING'!I99","v":"-"},{"$f":"'Coordination Timing - EXISTING'!J99","v":"-"},{"$f":"'Coordination Timing - EXISTING'!K99","v":"-"},null,{"$f":"'Coordination Timing - PROPOSED'!A99","v":"-"},{"$f":"'Coordination Timing - PROPOSED'!B99","v":"-"},{"$f":"'Coordination Timing - PROPOSED'!C99","v":"-"},{"$f":"'Coordination Timing - PROPOSED'!D99","v":"-"},{"$f":"'Coordination Timing - PROPOSED'!E99","v":"-"},{"$f":"'Coordination Timing - PROPOSED'!F99","v":"-"},{"$f":"'Coordination Timing - PROPOSED'!G99","v":"-"},{"$f":"'Coordination Timing - PROPOSED'!H99","v":"-"},{"$f":"'Coordination Timing - PROPOSED'!I99","v":"-"},{"$f":"'Coordination Timing - PROPOSED'!J99","v":"-"},{"$f":"'Coordination Timing - PROPOSED'!K99","v":"-"}]
[{"$f":"'Coordination Timing - EXISTING'!A100","v":"-"},{"$f":"'Coordination Timing - EXISTING'!B100","v":"-"},{"$f":"'Coordination Timing - EXISTING'!C100","v":"-"},{"$f":"'Coordination Timing - EXISTING'!D100","v":"-"},{"$f":"'Coordination Timing - EXISTING'!E100","v":"-"},{"$f":"'Coordination Timing - EXISTING'!F100","v":"-"},{"$f":"'Coordination Timing - EXISTING'!G100","v":"-"},{"$f":"'Coordination Timing - EXISTING'!H100","v":"-"},{"$f":"'Coordination Timing - EXISTING'!I100","v":"-"},{"$f":"'Coordination Timing - EXISTING'!J100","v":"-"},{"$f":"'Coordination Timing - EXISTING'!K100","v":"-"},null,{"$f":"'Coordination Timing - PROPOSED'!A100","v":"-"},{"$f":"'Coordination Timing - PROPOSED'!B100","v":"-"},{"$f":"'Coordination Timing - PROPOSED'!C100","v":"-"},{"$f":"'Coordination Timing - PROPOSED'!D100","v":"-"},{"$f":"'Coordination Timing - PROPOSED'!E100","v":"-"},{"$f":"'Coordination Timing - PROPOSED'!F100","v":"-"},{"$f":"'Coordination Timing - PROPOSED'!G100","v":"-"},{"$f":"'Coordination Timing - PROPOSED'!H100","v":"-"},{"$f":"'Coordination Timing - PROPOSED'!I100","v":"-"},{"$f":"'Coordination Timing - PROPOSED'!J100","v":"-"},{"$f":"'Coordination Timing - PROPOSED'!K100","v":"-"}]
[{"$f":"'Coordination Timing - EXISTING'!A101","v":"-"},{"$f":"'Coordination Timing - EXISTING'!B101","v":"-"},{"$f":"'Coordination Timing - EXISTING'!C101","v":"-"},{"$f":"'Coordination Timing - EXISTING'!D101","v":"-"},{"$f":"'Coordination Timing - EXISTING'!E101","v":"-"},{"$f":"'Coordination Timing - EXISTING'!F101","v":"-"},{"$f":"'Coordination Timing - EXISTING'!G101","v":"-"},{"$f":"'Coordination Timing - EXISTING'!H101","v":"-"},{"$f":"'Coordination Timing - EXISTING'!I101","v":"-"},{"$f":"'Coordination Timing - EXISTING'!J101","v":"-"},{"$f":"'Coordination Timing - EXISTING'!K101","v":"-"},null,{"$f":"'Coordination Timing - PROPOSED'!A101","v":"-"},{"$f":"'Coordination Timing - PROPOSED'!B101","v":"-"},{"$f":"'Coordination Timing - PROPOSED'!C101","v":"-"},{"$f":"'Coordination Timing - PROPOSED'!D101","v":"-"},{"$f":"'Coordination Timing - PROPOSED'!E101","v":"-"},{"$f":"'Coordination Timing - PROPOSED'!F101","v":"-"},{"$f":"'Coordination Timing - PROPOSED'!G101","v":"-"},{"$f":"'Coordination Timing - PROPOSED'!H101","v":"-"},{"$f":"'Coordination Timing - PROPOSED'!I101","v":"-"},{"$f":"'Coordination Timing - PROPOSED'!J101","v":"-"},{"$f":"'Coordination Timing - PROPOSED'!K101","v":"-"}]
[]
["\"INTERSECTION 6\"",null,null,null,null,null,null,null,null,null,null,null,"\"INTERSECTION 6\""]
["PHASE",1,2,3,4,5,6,7,8,"OFFSET 1 (SEC)","OFFSET 2 (SEC)",null,"PHASE",1,2,3,4,5,6,7,8,"OFFSET 1 (SEC)","OFFSET 2 (SEC)"]
["DIRECTION",{"$f":"'Coordination Timing - EXISTING'!B105","v":"-"},{"$f":"'Coordination Timing - EXISTING'!C105","v":"-"},{"$f":"'Coordination Timing - EXISTING'!D105","v":"-"},{"$f":"'Coordination Timing - EXISTING'!E105","v":"-"},{"$f":"'Coordination Timing - EXISTING'!F105","v":"-"},{"$f":"'Coordination Timing - EXISTING'!G105","v":"-"},{"$f":"'Coordination Timing - EXISTING'!H105","v":"-"},{"$f":"'Coordination Timing - EXISTING'!I105","v":"-"},null,null,null,"DIRECTION",{"$f":"'Coordination Timing - PROPOSED'!B105","v":"-"},{"$f":"'Coordination Timing - PROPOSED'!C105","v":"-"},{"$f":"'Coordination Timing - PROPOSED'!D105","v":"-"},{"$f":"'Coordination Timing - PROPOSED'!E105","v":"-"},{"$f":"'Coordination Timing - PROPOSED'!F105","v":"-"},{"$f":"'Coordination Timing - PROPOSED'!G105","v":"-"},{"$f":"'Coordination Timing - PROPOSED'!H105","v":"-"},{"$f":"'Coordination Timing - PROPOSED'!I105","v":"-"}]
["PLAN NO. OR C/S/O","SPLITS (G+Y+AR) IN SECONDS",null,null,null,null,null,null,null,null,null,null,"PLAN NO. OR C/S/O","SPLITS (G+Y+AR) IN SECONDS"]
[{"$f":"'Coordination Timing - EXISTING'!A107","v":"-"},{"$f":"'Coordination Timing - EXISTING'!B107","v":"-"},{"$f":"'Coordination Timing - EXISTING'!C107","v":"-"},{"$f":"'Coordination Timing - EXISTING'!D107","v":"-"},{"$f":"'Coordination Timing - EXISTING'!E107","v":"-"},{"$f":"'Coordination Timing - EXISTING'!F107","v":"-"},{"$f":"'Coordination Timing - EXISTING'!G107","v":"-"},{"$f":"'Coordination Timing - EXISTING'!H107","v":"-"},{"$f":"'Coordination Timing - EXISTING'!I107","v":"-"},{"$f":"'Coordination Timing - EXISTING'!J107","v":"-"},{"$f":"'Coordination Timing - EXISTING'!K107","v":"-"},null,{"$f":"'Coordination Timing - PROPOSED'!A107","v":"-"},{"$f":"'Coordination Timing - PROPOSED'!B107","v":"-"},{"$f":"'Coordination Timing - PROPOSED'!C107","v":"-"},{"$f":"'Coordination Timing - PROPOSED'!D107","v":"-"},{"$f":"'Coordination Timing - PROPOSED'!E107","v":"-"},{"$f":"'Coordination Timing - PROPOSED'!F107","v":"-"},{"$f":"'Coordination Timing - PROPOSED'!G107","v":"-"},{"$f":"'Coordination Timing - PROPOSED'!H107","v":"-"},{"$f":"'Coordination Timing - PROPOSED'!I107","v":"-"},{"$f":"'Coordination Timing - PROPOSED'!J107","v":"-"},{"$f":"'Coordination Timing - PROPOSED'!K107","v":"-"}]
[{"$f":"'Coordination Timing - EXISTING'!A108","v":"-"},{"$f":"'Coordination Timing - EXISTING'!B108","v":"-"},{"$f":"'Coordination Timing - EXISTING'!C108","v":"-"},{"$f":"'Coordination Timing - EXISTING'!D108","v":"-"},{"$f":"'Coordination Timing - EXISTING'!E108","v":"-"},{"$f":"'Coordination Timing - EXISTING'!F108","v":"-"},{"$f":"'Coordination Timing - EXISTING'!G108","v":"-"},{"$f":"'Coordination Timing - EXISTING'!H108","v":"-"},{"$f":"'Coordination Timing - EXISTING'!I108","v":"-"},{"$f":"'Coordination Timing - EXISTING'!J108","v":"-"},{"$f":"'Coordination Timing - EXISTING'!K108","v":"-"},null,{"$f":"'Coordination Timing - PROPOSED'!A108","v":"-"},{"$f":"'Coordination Timing - PROPOSED'!B108","v":"-"},{"$f":"'Coordination Timing - PROPOSED'!C108","v":"-"},{"$f":"'Coordination Timing - PROPOSED'!D108","v":"-"},{"$f":"'Coordination Timing - PROPOSED'!E108","v":"-"},{"$f":"'Coordination Timing - PROPOSED'!F108","v":"-"},{"$f":"'Coordination Timing - PROPOSED'!G108","v":"-"},{"$f":"'Coordination Timing - PROPOSED'!H108","v":"-"},{"$f":"'Coordination Timing - PROPOSED'!I108","v":"-"},{"$f":"'Coordination Timing - PROPOSED'!J108","v":"-"},{"$f":"'Coordination Timing - PROPOSED'!K108","v":"-"}]
[{"$f":"'Coordination Timing - EXISTING'!A109","v":"-"},{"$f":"'Coordination Timing - EXISTING'!B109","v":"-"},{"$f":"'Coordination Timing - EXISTING'!C109","v":"-"},{"$f":"'Coordination Timing - EXISTING'!D109","v":"-"},{"$f":"'Coordination Timing - EXISTING'!E109","v":"-"},{"$f":"'Coordination Timing - EXISTING'!F109","v":"-"},{"$f":"'Coordination Timing - EXISTING'!G109","v":"-"},{"$f":"'Coordination Timing - EXISTING'!H109","v":"-"},{"$f":"'Coordination Timing - EXISTING'!I109","v":"-"},{"$f":"'Coordination Timing - EXISTING'!J109","v":"-"},{"$f":"'Coordination Timing - EXISTING'!K109","v":"-"},null,{"$f":"'Coordination Timing - PROPOSED'!A109","v":"-"},{"$f":"'Coordination Timing - PROPOSED'!B109","v":"-"},{"$f":"'Coordination Timing - PROPOSED'!C109","v":"-"},{"$f":"'Coordination Timing - PROPOSED'!D109","v":"-"},{"$f":"'Coordination Timing - PROPOSED'!E109","v":"-"},{"$f":"'Coordination Timing - PROPOSED'!F109","v":"-"},{"$f":"'Coordination Timing - PROPOSED'!G109","v":"-"},{"$f":"'Coordination Timing - PROPOSED'!H109","v":"-"},{"$f":"'Coordination Timing - PROPOSED'!I109","v":"-"},{"$f":"'Coordination Timing - PROPOSED'!J109","v":"-"},{"$f":"'Coordination Timing - PROPOSED'!K109","v":"-"}]
[{"$f":"'Coordination Timing - EXISTING'!A110","v":"-"},{"$f":"'Coordination Timing - EXISTING'!B110","v":"-"},{"$f":"'Coordination Timing - EXISTING'!C110","v":"-"},{"$f":"'Coordination Timing - EXISTING'!D110","v":"-"},{"$f":"'Coordination Timing - EXISTING'!E110","v":"-"},{"$f":"'Coordination Timing - EXISTING'!F110","v":"-"},{"$f":"'Coordination Timing - EXISTING'!G110","v":"-"},{"$f":"'Coordination Timing - EXISTING'!H110","v":"-"},{"$f":"'Coordination Timing - EXISTING'!I110","v":"-"},{"$f":"'Coordination Timing - EXISTING'!J110","v":"-"},{"$f":"'Coordination Timing - EXISTING'!K110","v":"-"},null,{"$f":"'Coordination Timing - PROPOSED'!A110","v":"-"},{"$f":"'Coordination Timing - PROPOSED'!B110","v":"-"},{"$f":"'Coordination Timing - PROPOSED'!C110","v":"-"},{"$f":"'Coordination Timing - PROPOSED'!D110","v":"-"},{"$f":"'Coordination Timing - PROPOSED'!E110","v":"-"},{"$f":"'Coordination Timing - PROPOSED'!F110","v":"-"},{"$f":"'Coordination Timing - PROPOSED'!G110","v":"-"},{"$f":"'Coordination Timing - PROPOSED'!H110","v":"-"},{"$f":"'Coordination Timing - PROPOSED'!I110","v":"-"},{"$f":"'Coordination Timing - PROPOSED'!J110","v":"-"},{"$f":"'Coordination Timing - PROPOSED'!K110","v":"-"}]
[{"$f":"'Coordination Timing - EXISTING'!A111","v":"-"},{"$f":"'Coordination Timing - EXISTING'!B111","v":"-"},{"$f":"'Coordination Timing - EXISTING'!C111","v":"-"},{"$f":"'Coordination Timing - EXISTING'!D111","v":"-"},{"$f":"'Coordination Timing - EXISTING'!E111","v":"-"},{"$f":"'Coordination Timing - EXISTING'!F111","v":"-"},{"$f":"'Coordination Timing - EXISTING'!G111","v":"-"},{"$f":"'Coordination Timing - EXISTING'!H111","v":"-"},{"$f":"'Coordination Timing - EXISTING'!I111","v":"-"},{"$f":"'Coordination Timing - EXISTING'!J111","v":"-"},{"$f":"'Coordination Timing - EXISTING'!K111","v":"-"},null,{"$f":"'Coordination Timing - PROPOSED'!A111","v":"-"},{"$f":"'Coordination Timing - PROPOSED'!B111","v":"-"},{"$f":"'Coordination Timing - PROPOSED'!C111","v":"-"},{"$f":"'Coordination Timing - PROPOSED'!D111","v":"-"},{"$f":"'Coordination Timing - PROPOSED'!E111","v":"-"},{"$f":"'Coordination Timing - PROPOSED'!F111","v":"-"},{"$f":"'Coordination Timing - PROPOSED'!G111","v":"-"},{"$f":"'Coordination Timing - PROPOSED'!H111","v":"-"},{"$f":"'Coordination Timing - PROPOSED'!I111","v":"-"},{"$f":"'Coordination Timing - PROPOSED'!J111","v":"-"},{"$f":"'Coordination Timing - PROPOSED'!K111","v":"-"}]
[]
[null,null,null,null,null,null,null,null,"EXISTING TIMING",null,null,null,null,null,null,null,null,null,null,null,"PROPOSED TIMING"]
[]
["\"INTERSECTION 7\"",null,null,null,null,null,null,null,null,null,null,null,"\"INTERSECTION 7\""]
["PHASE",1,2,3,4,5,6,7,8,"OFFSET 1 (SEC)","OFFSET 2 (SEC)",null,"PHASE",1,2,3,4,5,6,7,8,"OFFSET 1 (SEC)","OFFSET 2 (SEC)"]
["DIRECTION",{"$f":"'Coordination Timing - EXISTING'!B115","v":"-"},{"$f":"'Coordination Timing - EXISTING'!C115","v":"-"},{"$f":"'Coordination Timing - EXISTING'!D115","v":"-"},{"$f":"'Coordination Timing - EXISTING'!E115","v":"-"},{"$f":"'Coordination Timing - EXISTING'!F115","v":"-"},{"$f":"'Coordination Timing - EXISTING'!G115","v":"-"},{"$f":"'Coordination Timing - EXISTING'!H115","v":"-"},{"$f":"'Coordination Timing - EXISTING'!I115","v":"-"},null,null,null,"DIRECTION",{"$f":"'Coordination Timing - PROPOSED'!B115","v":"-"},{"$f":"'Coordination Timing - PROPOSED'!C115","v":"-"},{"$f":"'Coordination Timing - PROPOSED'!D115","v":"-"},{"$f":"'Coordination Timing - PROPOSED'!E115","v":"-"},{"$f":"'Coordination Timing - PROPOSED'!F115","v":"-"},{"$f":"'Coordination Timing - PROPOSED'!G115","v":"-"},{"$f":"'Coordination Timing - PROPOSED'!H115","v":"-"},{"$f":"'Coordination Timing - PROPOSED'!I115","v":"-"}]
["PLAN NO. OR C/S/O","SPLITS (G+Y+AR) IN SECONDS",null,null,null,null,null,null,null,null,null,null,"PLAN NO. OR C/S/O","SPLITS (G+Y+AR) IN SECONDS"]
[{"$f":"'Coordination Timing - EXISTING'!A117","v":"-"},{"$f":"'Coordination Timing - EXISTING'!B117","v":"-"},{"$f":"'Coordination Timing - EXISTING'!C117","v":"-"},{"$f":"'Coordination Timing - EXISTING'!D117","v":"-"},{"$f":"'Coordination Timing - EXISTING'!E117","v":"-"},{"$f":"'Coordination Timing - EXISTING'!F117","v":"-"},{"$f":"'Coordination Timing - EXISTING'!G117","v":"-"},{"$f":"'Coordination Timing - EXISTING'!H117","v":"-"},{"$f":"'Coordination Timing - EXISTING'!I117","v":"-"},{"$f":"'Coordination Timing - EXISTING'!J117","v":"-"},{"$f":"'Coordination Timing - EXISTING'!K117","v":"-"},null,{"$f":"'Coordination Timing - PROPOSED'!A117","v":"-"},{"$f":"'Coordination Timing - PROPOSED'!B117","v":"-"},{"$f":"'Coordination Timing - PROPOSED'!C117","v":"-"},{"$f":"'Coordination Timing - PROPOSED'!D117","v":"-"},{"$f":"'Coordination Timing - PROPOSED'!E117","v":"-"},{"$f":"'Coordination Timing - PROPOSED'!F117","v":"-"},{"$f":"'Coordination Timing - PROPOSED'!G117","v":"-"},{"$f":"'Coordination Timing - PROPOSED'!H117","v":"-"},{"$f":"'Coordination Timing - PROPOSED'!I117","v":"-"},{"$f":"'Coordination Timing - PROPOSED'!J117","v":"-"},{"$f":"'Coordination Timing - PROPOSED'!K117","v":"-"}]
[{"$f":"'Coordination Timing - EXISTING'!A118","v":"-"},{"$f":"'Coordination Timing - EXISTING'!B118","v":"-"},{"$f":"'Coordination Timing - EXISTING'!C118","v":"-"},{"$f":"'Coordination Timing - EXISTING'!D118","v":"-"},{"$f":"'Coordination Timing - EXISTING'!E118","v":"-"},{"$f":"'Coordination Timing - EXISTING'!F118","v":"-"},{"$f":"'Coordination Timing - EXISTING'!G118","v":"-"},{"$f":"'Coordination Timing - EXISTING'!H118","v":"-"},{"$f":"'Coordination Timing - EXISTING'!I118","v":"-"},{"$f":"'Coordination Timing - EXISTING'!J118","v":"-"},{"$f":"'Coordination Timing - EXISTING'!K119","v":"-"},null,{"$f":"'Coordination Timing - PROPOSED'!A118","v":"-"},{"$f":"'Coordination Timing - PROPOSED'!B118","v":"-"},{"$f":"'Coordination Timing - PROPOSED'!C118","v":"-"},{"$f":"'Coordination Timing - PROPOSED'!D118","v":"-"},{"$f":"'Coordination Timing - PROPOSED'!E118","v":"-"},{"$f":"'Coordination Timing - PROPOSED'!F118","v":"-"},{"$f":"'Coordination Timing - PROPOSED'!G118","v":"-"},{"$f":"'Coordination Timing - PROPOSED'!H118","v":"-"},{"$f":"'Coordination Timing - PROPOSED'!I118","v":"-"},{"$f":"'Coordination Timing - PROPOSED'!J118","v":"-"},{"$f":"'Coordination Timing - PROPOSED'!K118","v":"-"}]
[{"$f":"'Coordination Timing - EXISTING'!A119","v":"-"},{"$f":"'Coordination Timing - EXISTING'!B119","v":"-"},{"$f":"'Coordination Timing - EXISTING'!C119","v":"-"},{"$f":"'Coordination Timing - EXISTING'!D119","v":"-"},{"$f":"'Coordination Timing - EXISTING'!E119","v":"-"},{"$f":"'Coordination Timing - EXISTING'!F119","v":"-"},{"$f":"'Coordination Timing - EXISTING'!G119","v":"-"},{"$f":"'Coordination Timing - EXISTING'!H119","v":"-"},{"$f":"'Coordination Timing - EXISTING'!I119","v":"-"},{"$f":"'Coordination Timing - EXISTING'!J119","v":"-"},{"$f":"'Coordination Timing - EXISTING'!K119","v":"-"},null,{"$f":"'Coordination Timing - PROPOSED'!A119","v":"-"},{"$f":"'Coordination Timing - PROPOSED'!B119","v":"-"},{"$f":"'Coordination Timing - PROPOSED'!C119","v":"-"},{"$f":"'Coordination Timing - PROPOSED'!D119","v":"-"},{"$f":"'Coordination Timing - PROPOSED'!E119","v":"-"},{"$f":"'Coordination Timing - PROPOSED'!F119","v":"-"},{"$f":"'Coordination Timing - PROPOSED'!G119","v":"-"},{"$f":"'Coordination Timing - PROPOSED'!H119","v":"-"},{"$f":"'Coordination Timing - PROPOSED'!I119","v":"-"},{"$f":"'Coordination Timing - PROPOSED'!J119","v":"-"},{"$f":"'Coordination Timing - PROPOSED'!K119","v":"-"}]
[{"$f":"'Coordination Timing - EXISTING'!A120","v":"-"},{"$f":"'Coordination Timing - EXISTING'!B120","v":"-"},{"$f":"'Coordination Timing - EXISTING'!C120","v":"-"},{"$f":"'Coordination Timing - EXISTING'!D120","v":"-"},{"$f":"'Coordination Timing - EXISTING'!E120","v":"-"},{"$f":"'Coordination Timing - EXISTING'!F120","v":"-"},{"$f":"'Coordination Timing - EXISTING'!G120","v":"-"},{"$f":"'Coordination Timing - EXISTING'!H120","v":"-"},{"$f":"'Coordination Timing - EXISTING'!I120","v":"-"},{"$f":"'Coordination Timing - EXISTING'!J120","v":"-"},{"$f":"'Coordination Timing - EXISTING'!K120","v":"-"},null,{"$f":"'Coordination Timing - PROPOSED'!A120","v":"-"},{"$f":"'Coordination Timing - PROPOSED'!B120","v":"-"},{"$f":"'Coordination Timing - PROPOSED'!C120","v":"-"},{"$f":"'Coordination Timing - PROPOSED'!D120","v":"-"},{"$f":"'Coordination Timing - PROPOSED'!E120","v":"-"},{"$f":"'Coordination Timing - PROPOSED'!F120","v":"-"},{"$f":"'Coordination Timing - PROPOSED'!G120","v":"-"},{"$f":"'Coordination Timing - PROPOSED'!H120","v":"-"},{"$f":"'Coordination Timing - PROPOSED'!I120","v":"-"},{"$f":"'Coordination Timing - PROPOSED'!J120","v":"-"},{"$f":"'Coordination Timing - PROPOSED'!K120","v":"-"}]
[{"$f":"'Coordination Timing - EXISTING'!A121","v":"-"},{"$f":"'Coordination Timing - EXISTING'!B121","v":"-"},{"$f":"'Coordination Timing - EXISTING'!C121","v":"-"},{"$f":"'Coordination Timing - EXISTING'!D121","v":"-"},{"$f":"'Coordination Timing - EXISTING'!E121","v":"-"},{"$f":"'Coordination Timing - EXISTING'!F121","v":"-"},{"$f":"'Coordination Timing - EXISTING'!G121","v":"-"},{"$f":"'Coordination Timing - EXISTING'!H121","v":"-"},{"$f":"'Coordination Timing - EXISTING'!I121","v":"-"},{"$f":"'Coordination Timing - EXISTING'!J121","v":"-"},{"$f":"'Coordination Timing - EXISTING'!K121","v":"-"},null,{"$f":"'Coordination Timing - PROPOSED'!A121","v":"-"},{"$f":"'Coordination Timing - PROPOSED'!B121","v":"-"},{"$f":"'Coordination Timing - PROPOSED'!C121","v":"-"},{"$f":"'Coordination Timing - PROPOSED'!D121","v":"-"},{"$f":"'Coordination Timing - PROPOSED'!E121","v":"-"},{"$f":"'Coordination Timing - PROPOSED'!F121","v":"-"},{"$f":"'Coordination Timing - PROPOSED'!G121","v":"-"},{"$f":"'Coordination Timing - PROPOSED'!H121","v":"-"},{"$f":"'Coordination Timing - PROPOSED'!I121","v":"-"},{"$f":"'Coordination Timing - PROPOSED'!J121","v":"-"},{"$f":"'Coordination Timing - PROPOSED'!K121","v":"-"}]
[]
["\"INTERSECTION 8\"",null,null,null,null,null,null,null,null,null,null,null,"\"INTERSECTION 8\""]
["PHASE",1,2,3,4,5,6,7,8,"OFFSET 1 (SEC)","OFFSET 2 (SEC)",null,"PHASE",1,2,3,4,5,6,7,8,"OFFSET 1 (SEC)","OFFSET 2 (SEC)"]
["DIRECTION",{"$f":"'Coordination Timing - EXISTING'!B125","v":"-"},{"$f":"'Coordination Timing - EXISTING'!C125","v":"-"},{"$f":"'Coordination Timing - EXISTING'!D125","v":"-"},{"$f":"'Coordination Timing - EXISTING'!E125","v":"-"},{"$f":"'Coordination Timing - EXISTING'!F125","v":"-"},{"$f":"'Coordination Timing - EXISTING'!G125","v":"-"},{"$f":"'Coordination Timing - EXISTING'!H125","v":"-"},{"$f":"'Coordination Timing - EXISTING'!I125","v":"-"},null,null,null,"DIRECTION",{"$f":"'Coordination Timing - PROPOSED'!B125","v":"-"},{"$f":"'Coordination Timing - PROPOSED'!C125","v":"-"},{"$f":"'Coordination Timing - PROPOSED'!D125","v":"-"},{"$f":"'Coordination Timing - PROPOSED'!E125","v":"-"},{"$f":"'Coordination Timing - PROPOSED'!F125","v":"-"},{"$f":"'Coordination Timing - PROPOSED'!G125","v":"-"},{"$f":"'Coordination Timing - PROPOSED'!H125","v":"-"},{"$f":"'Coordination Timing - PROPOSED'!I125","v":"-"}]
["PLAN NO. OR C/S/O","SPLITS (G+Y+AR) IN SECONDS",null,null,null,null,null,null,null,null,null,null,"PLAN NO. OR C/S/O","SPLITS (G+Y+AR) IN SECONDS"]
[{"$f":"'Coordination Timing - EXISTING'!A127","v":"-"},{"$f":"'Coordination Timing - EXISTING'!B127","v":"-"},{"$f":"'Coordination Timing - EXISTING'!C127","v":"-"},{"$f":"'Coordination Timing - EXISTING'!D127","v":"-"},{"$f":"'Coordination Timing - EXISTING'!E127","v":"-"},{"$f":"'Coordination Timing - EXISTING'!F127","v":"-"},{"$f":"'Coordination Timing - EXISTING'!G127","v":"-"},{"$f":"'Coordination Timing - EXISTING'!H127","v":"-"},{"$f":"'Coordination Timing - EXISTING'!I127","v":"-"},{"$f":"'Coordination Timing - EXISTING'!J127","v":"-"},{"$f":"'Coordination Timing - EXISTING'!K127","v":"-"},null,{"$f":"'Coordination Timing - PROPOSED'!A127","v":"-"},{"$f":"'Coordination Timing - PROPOSED'!B127","v":"-"},{"$f":"'Coordination Timing - PROPOSED'!C127","v":"-"},{"$f":"'Coordination Timing - PROPOSED'!D127","v":"-"},{"$f":"'Coordination Timing - PROPOSED'!E127","v":"-"},{"$f":"'Coordination Timing - PROPOSED'!F127","v":"-"},{"$f":"'Coordination Timing - PROPOSED'!G127","v":"-"},{"$f":"'Coordination Timing - PROPOSED'!H127","v":"-"},{"$f":"'Coordination Timing - PROPOSED'!I127","v":"-"},{"$f":"'Coordination Timing - PROPOSED'!J127","v":"-"},{"$f":"'Coordination Timing - PROPOSED'!K127","v":"-"}]
[{"$f":"'Coordination Timing - EXISTING'!A128","v":"-"},{"$f":"'Coordination Timing - EXISTING'!B128","v":"-"},{"$f":"'Coordination Timing - EXISTING'!C128","v":"-"},{"$f":"'Coordination Timing - EXISTING'!D128","v":"-"},{"$f":"'Coordination Timing - EXISTING'!E128","v":"-"},{"$f":"'Coordination Timing - EXISTING'!F128","v":"-"},{"$f":"'Coordination Timing - EXISTING'!G128","v":"-"},{"$f":"'Coordination Timing - EXISTING'!H128","v":"-"},{"$f":"'Coordination Timing - EXISTING'!I128","v":"-"},{"$f":"'Coordination Timing - EXISTING'!J128","v":"-"},{"$f":"'Coordination Timing - EXISTING'!K128","v":"-"},null,{"$f":"'Coordination Timing - PROPOSED'!A128","v":"-"},{"$f":"'Coordination Timing - PROPOSED'!B128","v":"-"},{"$f":"'Coordination Timing - PROPOSED'!C128","v":"-"},{"$f":"'Coordination Timing - PROPOSED'!D128","v":"-"},{"$f":"'Coordination Timing - PROPOSED'!E128","v":"-"},{"$f":"'Coordination Timing - PROPOSED'!F128","v":"-"},{"$f":"'Coordination Timing - PROPOSED'!G128","v":"-"},{"$f":"'Coordination Timing - PROPOSED'!H128","v":"-"},{"$f":"'Coordination Timing - PROPOSED'!I128","v":"-"},{"$f":"'Coordination Timing - PROPOSED'!J128","v":"-"},{"$f":"'Coordination Timing - PROPOSED'!K128","v":"-"}]
[{"$f":"'Coordination Timing - EXISTING'!A129","v":"-"},{"$f":"'Coordination Timing - EXISTING'!B129","v":"-"},{"$f":"'Coordination Timing - EXISTING'!C129","v":"-"},{"$f":"'Coordination Timing - EXISTING'!D129","v":"-"},{"$f":"'Coordination Timing - EXISTING'!E129","v":"-"},{"$f":"'Coordination Timing - EXISTING'!F129","v":"-"},{"$f":"'Coordination Timing - EXISTING'!G129","v":"-"},{"$f":"'Coordination Timing - EXISTING'!H129","v":"-"},{"$f":"'Coordination Timing - EXISTING'!I129","v":"-"},{"$f":"'Coordination Timing - EXISTING'!J129","v":"-"},{"$f":"'Coordination Timing - EXISTING'!K129","v":"-"},null,{"$f":"'Coordination Timing - PROPOSED'!A129","v":"-"},{"$f":"'Coordination Timing - PROPOSED'!B129","v":"-"},{"$f":"'Coordination Timing - PROPOSED'!C129","v":"-"},{"$f":"'Coordination Timing - PROPOSED'!D129","v":"-"},{"$f":"'Coordination Timing - PROPOSED'!E129","v":"-"},{"$f":"'Coordination Timing - PROPOSED'!F129","v":"-"},{"$f":"'Coordination Timing - PROPOSED'!G129","v":"-"},{"$f":"'Coordination Timing - PROPOSED'!H129","v":"-"},{"$f":"'Coordination Timing - PROPOSED'!I129","v":"-"},{"$f":"'Coordination Timing - PROPOSED'!J129","v":"-"},{"$f":"'Coordination Timing - PROPOSED'!K129","v":"-"}]
[{"$f":"'Coordination Timing - EXISTING'!A130","v":"-"},{"$f":"'Coordination Timing - EXISTING'!B130","v":"-"},{"$f":"'Coordination Timing - EXISTING'!C130","v":"-"},{"$f":"'Coordination Timing - EXISTING'!D130","v":"-"},{"$f":"'Coordination Timing - EXISTING'!E130","v":"-"},{"$f":"'Coordination Timing - EXISTING'!F130","v":"-"},{"$f":"'Coordination Timing - EXISTING'!G130","v":"-"},{"$f":"'Coordination Timing - EXISTING'!H130","v":"-"},{"$f":"'Coordination Timing - EXISTING'!I130","v":"-"},{"$f":"'Coordination Timing - EXISTING'!J130","v":"-"},{"$f":"'Coordination Timing - EXISTING'!K130","v":"-"},null,{"$f":"'Coordination Timing - PROPOSED'!A130","v":"-"},{"$f":"'Coordination Timing - PROPOSED'!B130","v":"-"},{"$f":"'Coordination Timing - PROPOSED'!C130","v":"-"},{"$f":"'Coordination Timing - PROPOSED'!D130","v":"-"},{"$f":"'Coordination Timing - PROPOSED'!E130","v":"-"},{"$f":"'Coordination Timing - PROPOSED'!F130","v":"-"},{"$f":"'Coordination Timing - PROPOSED'!G130","v":"-"},{"$f":"'Coordination Timing - PROPOSED'!H130","v":"-"},{"$f":"'Coordination Timing - PROPOSED'!I130","v":"-"},{"$f":"'Coordination Timing - PROPOSED'!J130","v":"-"},{"$f":"'Coordination Timing - PROPOSED'!K130","v":"-"}]
[{"$f":"'Coordination Timing - EXISTING'!A131","v":"-"},{"$f":"'Coordination Timing - EXISTING'!B131","v":"-"},{"$f":"'Coordination Timing - EXISTING'!C131","v":"-"},{"$f":"'Coordination Timing - EXISTING'!D131","v":"-"},{"$f":"'Coordination Timing - EXISTING'!E131","v":"-"},{"$f":"'Coordination Timing - EXISTING'!F131","v":"-"},{"$f":"'Coordination Timing - EXISTING'!G131","v":"-"},{"$f":"'Coordination Timing - EXISTING'!H131","v":"-"},{"$f":"'Coordination Timing - EXISTING'!I131","v":"-"},{"$f":"'Coordination Timing - EXISTING'!J131","v":"-"},{"$f":"'Coordination Timing - EXISTING'!K131","v":"-"},null,{"$f":"'Coordination Timing - PROPOSED'!A131","v":"-"},{"$f":"'Coordination Timing - PROPOSED'!B131","v":"-"},{"$f":"'Coordination Timing - PROPOSED'!C131","v":"-"},{"$f":"'Coordination Timing - PROPOSED'!D131","v":"-"},{"$f":"'Coordination Timing - PROPOSED'!E131","v":"-"},{"$f":"'Coordination Timing - PROPOSED'!F131","v":"-"},{"$f":"'Coordination Timing - PROPOSED'!G131","v":"-"},{"$f":"'Coordination Timing - PROPOSED'!H131","v":"-"},{"$f":"'Coordination Timing - PROPOSED'!I131","v":"-"},{"$f":"'Coordination Timing - PROPOSED'!J131","v":"-"},{"$f":"'Coordination Timing - PROPOSED'!K131","v":"-"}]
[]
["\"INTERSECTION 9\"",null,null,null,null,null,null,null,null,null,null,null,"\"INTERSECTION 9\""]
["PHASE",1,2,3,4,5,6,7,8,"OFFSET 1 (SEC)","OFFSET 2 (SEC)",null,"PHASE",1,2,3,4,5,6,7,8,"OFFSET 1 (SEC)","OFFSET 2 (SEC)"]
["DIRECTION",{"$f":"'Coordination Timing - EXISTING'!B135","v":"-"},{"$f":"'Coordination Timing - EXISTING'!C135","v":"-"},{"$f":"'Coordination Timing - EXISTING'!D135","v":"-"},{"$f":"'Coordination Timing - EXISTING'!E135","v":"-"},{"$f":"'Coordination Timing - EXISTING'!F135","v":"-"},{"$f":"'Coordination Timing - EXISTING'!G135","v":"-"},{"$f":"'Coordination Timing - EXISTING'!H135","v":"-"},{"$f":"'Coordination Timing - EXISTING'!I135","v":"-"},null,null,null,"DIRECTION",{"$f":"'Coordination Timing - PROPOSED'!B135","v":"-"},{"$f":"'Coordination Timing - PROPOSED'!C135","v":"-"},{"$f":"'Coordination Timing - PROPOSED'!D135","v":"-"},{"$f":"'Coordination Timing - PROPOSED'!E135","v":"-"},{"$f":"'Coordination Timing - PROPOSED'!F135","v":"-"},{"$f":"'Coordination Timing - PROPOSED'!G135","v":"-"},{"$f":"'Coordination Timing - PROPOSED'!H135","v":"-"},{"$f":"'Coordination Timing - PROPOSED'!I135","v":"-"}]
["PLAN NO. OR C/S/O","SPLITS (G+Y+AR) IN SECONDS",null,null,null,null,null,null,null,null,null,null,"PLAN NO. OR C/S/O","SPLITS (G+Y+AR) IN SECONDS"]
[{"$f":"'Coordination Timing - EXISTING'!A137","v":"-"},{"$f":"'Coordination Timing - EXISTING'!B137","v":"-"},{"$f":"'Coordination Timing - EXISTING'!C137","v":"-"},{"$f":"'Coordination Timing - EXISTING'!D137","v":"-"},{"$f":"'Coordination Timing - EXISTING'!E137","v":"-"},{"$f":"'Coordination Timing - EXISTING'!F137","v":"-"},{"$f":"'Coordination Timing - EXISTING'!G137","v":"-"},{"$f":"'Coordination Timing - EXISTING'!H137","v":"-"},{"$f":"'Coordination Timing - EXISTING'!I137","v":"-"},{"$f":"'Coordination Timing - EXISTING'!J137","v":"-"},{"$f":"'Coordination Timing - EXISTING'!K137","v":"-"},null,{"$f":"'Coordination Timing - PROPOSED'!A137","v":"-"},{"$f":"'Coordination Timing - PROPOSED'!B137","v":"-"},{"$f":"'Coordination Timing - PROPOSED'!C137","v":"-"},{"$f":"'Coordination Timing - PROPOSED'!D137","v":"-"},{"$f":"'Coordination Timing - PROPOSED'!E137","v":"-"},{"$f":"'Coordination Timing - PROPOSED'!F137","v":"-"},{"$f":"'Coordination Timing - PROPOSED'!G137","v":"-"},{"$f":"'Coordination Timing - PROPOSED'!H137","v":"-"},{"$f":"'Coordination Timing - PROPOSED'!I137","v":"-"},{"$f":"'Coordination Timing - PROPOSED'!J137","v":"-"},{"$f":"'Coordination Timing - PROPOSED'!K137","v":"-"}]
[{"$f":"'Coordination Timing - EXISTING'!A138","v":"-"},{"$f":"'Coordination Timing - EXISTING'!B138","v":"-"},{"$f":"'Coordination Timing - EXISTING'!C138","v":"-"},{"$f":"'Coordination Timing - EXISTING'!D138","v":"-"},{"$f":"'Coordination Timing - EXISTING'!E138","v":"-"},{"$f":"'Coordination Timing - EXISTING'!F138","v":"-"},{"$f":"'Coordination Timing - EXISTING'!G138","v":"-"},{"$f":"'Coordination Timing - EXISTING'!H138","v":"-"},{"$f":"'Coordination Timing - EXISTING'!I138","v":"-"},{"$f":"'Coordination Timing - EXISTING'!J138","v":"-"},{"$f":"'Coordination Timing - EXISTING'!K138","v":"-"},null,{"$f":"'Coordination Timing - PROPOSED'!A138","v":"-"},{"$f":"'Coordination Timing - PROPOSED'!B138","v":"-"},{"$f":"'Coordination Timing - PROPOSED'!C138","v":"-"},{"$f":"'Coordination Timing - PROPOSED'!D138","v":"-"},{"$f":"'Coordination Timing - PROPOSED'!E138","v":"-"},{"$f":"'Coordination Timing - PROPOSED'!F138","v":"-"},{"$f":"'Coordination Timing - PROPOSED'!G138","v":"-"},{"$f":"'Coordination Timing - PROPOSED'!H138","v":"-"},{"$f":"'Coordination Timing - PROPOSED'!I138","v":"-"},{"$f":"'Coordination Timing - PROPOSED'!J138","v":"-"},{"$f":"'Coordination Timing - PROPOSED'!K138","v":"-"}]
[{"$f":"'Coordination Timing - EXISTING'!A139","v":"-"},{"$f":"'Coordination Timing - EXISTING'!B139","v":"-"},{"$f":"'Coordination Timing - EXISTING'!C139","v":"-"},{"$f":"'Coordination Timing - EXISTING'!D139","v":"-"},{"$f":"'Coordination Timing - EXISTING'!E139","v":"-"},{"$f":"'Coordination Timing - EXISTING'!F139","v":"-"},{"$f":"'Coordination Timing - EXISTING'!G139","v":"-"},{"$f":"'Coordination Timing - EXISTING'!H139","v":"-"},{"$f":"'Coordination Timing - EXISTING'!I139","v":"-"},{"$f":"'Coordination Timing - EXISTING'!J139","v":"-"},{"$f":"'Coordination Timing - EXISTING'!K139","v":"-"},null,{"$f":"'Coordination Timing - PROPOSED'!A139","v":"-"},{"$f":"'Coordination Timing - PROPOSED'!B139","v":"-"},{"$f":"'Coordination Timing - PROPOSED'!C139","v":"-"},{"$f":"'Coordination Timing - PROPOSED'!D139","v":"-"},{"$f":"'Coordination Timing - PROPOSED'!E139","v":"-"},{"$f":"'Coordination Timing - PROPOSED'!F139","v":"-"},{"$f":"'Coordination Timing - PROPOSED'!G139","v":"-"},{"$f":"'Coordination Timing - PROPOSED'!H139","v":"-"},{"$f":"'Coordination Timing - PROPOSED'!I139","v":"-"},{"$f":"'Coordination Timing - PROPOSED'!J139","v":"-"},{"$f":"'Coordination Timing - PROPOSED'!K139","v":"-"}]
[{"$f":"'Coordination Timing - EXISTING'!A140","v":"-"},{"$f":"'Coordination Timing - EXISTING'!B140","v":"-"},{"$f":"'Coordination Timing - EXISTING'!C140","v":"-"},{"$f":"'Coordination Timing - EXISTING'!D140","v":"-"},{"$f":"'Coordination Timing - EXISTING'!E140","v":"-"},{"$f":"'Coordination Timing - EXISTING'!F140","v":"-"},{"$f":"'Coordination Timing - EXISTING'!G140","v":"-"},{"$f":"'Coordination Timing - EXISTING'!H140","v":"-"},{"$f":"'Coordination Timing - EXISTING'!I140","v":"-"},{"$f":"'Coordination Timing - EXISTING'!J140","v":"-"},{"$f":"'Coordination Timing - EXISTING'!K140","v":"-"},null,{"$f":"'Coordination Timing - PROPOSED'!A140","v":"-"},{"$f":"'Coordination Timing - PROPOSED'!B140","v":"-"},{"$f":"'Coordination Timing - PROPOSED'!C140","v":"-"},{"$f":"'Coordination Timing - PROPOSED'!D140","v":"-"},{"$f":"'Coordination Timing - PROPOSED'!E140","v":"-"},{"$f":"'Coordination Timing - PROPOSED'!F140","v":"-"},{"$f":"'Coordination Timing - PROPOSED'!G140","v":"-"},{"$f":"'Coordination Timing - PROPOSED'!H140","v":"-"},{"$f":"'Coordination Timing - PROPOSED'!I140","v":"-"},{"$f":"'Coordination Timing - PROPOSED'!J140","v":"-"},{"$f":"'Coordination Timing - PROPOSED'!K140","v":"-"}]
[{"$f":"'Coordination Timing - EXISTING'!A141","v":"-"},{"$f":"'Coordination Timing - EXISTING'!B141","v":"-"},{"$f":"'Coordination Timing - EXISTING'!C141","v":"-"},{"$f":"'Coordination Timing - EXISTING'!D141","v":"-"},{"$f":"'Coordination Timing - EXISTING'!E141","v":"-"},{"$f":"'Coordination Timing - EXISTING'!F141","v":"-"},{"$f":"'Coordination Timing - EXISTING'!G141","v":"-"},{"$f":"'Coordination Timing - EXISTING'!H141","v":"-"},{"$f":"'Coordination Timing - EXISTING'!I141","v":"-"},{"$f":"'Coordination Timing - EXISTING'!J141","v":"-"},{"$f":"'Coordination Timing - EXISTING'!K141","v":"-"},null,{"$f":"'Coordination Timing - PROPOSED'!A141","v":"-"},{"$f":"'Coordination Timing - PROPOSED'!B141","v":"-"},{"$f":"'Coordination Timing - PROPOSED'!C141","v":"-"},{"$f":"'Coordination Timing - PROPOSED'!D141","v":"-"},{"$f":"'Coordination Timing - PROPOSED'!E141","v":"-"},{"$f":"'Coordination Timing - PROPOSED'!F141","v":"-"},{"$f":"'Coordination Timing - PROPOSED'!G141","v":"-"},{"$f":"'Coordination Timing - PROPOSED'!H141","v":"-"},{"$f":"'Coordination Timing - PROPOSED'!I141","v":"-"},{"$f":"'Coordination Timing - PROPOSED'!J141","v":"-"},{"$f":"'Coordination Timing - PROPOSED'!K141","v":"-"}]
[]
[null,null,null,null,null,null,null,null,"EXISTING TIMING",null,null,null,null,null,null,null,null,null,null,null,"PROPOSED TIMING"]
[]
["\"INTERSECTION 10\"",null,null,null,null,null,null,null,null,null,null,null,"\"INTERSECTION 10\""]
["PHASE",1,2,3,4,5,6,7,8,"OFFSET 1 (SEC)","OFFSET 2 (SEC)",null,"PHASE",1,2,3,4,5,6,7,8,"OFFSET 1 (SEC)","OFFSET 2 (SEC)"]
["DIRECTION",{"$f":"'Coordination Timing - EXISTING'!B145","v":"-"},{"$f":"'Coordination Timing - EXISTING'!C145","v":"-"},{"$f":"'Coordination Timing - EXISTING'!D145","v":"-"},{"$f":"'Coordination Timing - EXISTING'!E145","v":"-"},{"$f":"'Coordination Timing - EXISTING'!F145","v":"-"},{"$f":"'Coordination Timing - EXISTING'!G145","v":"-"},{"$f":"'Coordination Timing - EXISTING'!H145","v":"-"},{"$f":"'Coordination Timing - EXISTING'!I145","v":"-"},null,null,null,"DIRECTION",{"$f":"'Coordination Timing - PROPOSED'!B145","v":"-"},{"$f":"'Coordination Timing - PROPOSED'!C145","v":"-"},{"$f":"'Coordination Timing - PROPOSED'!D145","v":"-"},{"$f":"'Coordination Timing - PROPOSED'!E145","v":"-"},{"$f":"'Coordination Timing - PROPOSED'!F145","v":"-"},{"$f":"'Coordination Timing - PROPOSED'!G145","v":"-"},{"$f":"'Coordination Timing - PROPOSED'!H145","v":"-"},{"$f":"'Coordination Timing - PROPOSED'!I145","v":"-"}]
["PLAN NO. OR C/S/O","SPLITS (G+Y+AR) IN SECONDS",null,null,null,null,null,null,null,null,null,null,"PLAN NO. OR C/S/O","SPLITS (G+Y+AR) IN SECONDS"]
[{"$f":"'Coordination Timing - EXISTING'!A147","v":"-"},{"$f":"'Coordination Timing - EXISTING'!B147","v":"-"},{"$f":"'Coordination Timing - EXISTING'!C147","v":"-"},{"$f":"'Coordination Timing - EXISTING'!D147","v":"-"},{"$f":"'Coordination Timing - EXISTING'!E147","v":"-"},{"$f":"'Coordination Timing - EXISTING'!F147","v":"-"},{"$f":"'Coordination Timing - EXISTING'!G147","v":"-"},{"$f":"'Coordination Timing - EXISTING'!H147","v":"-"},{"$f":"'Coordination Timing - EXISTING'!I147","v":"-"},{"$f":"'Coordination Timing - EXISTING'!J147","v":"-"},{"$f":"'Coordination Timing - EXISTING'!K147","v":"-"},null,{"$f":"'Coordination Timing - PROPOSED'!A147","v":"-"},{"$f":"'Coordination Timing - PROPOSED'!B147","v":"-"},{"$f":"'Coordination Timing - PROPOSED'!C147","v":"-"},{"$f":"'Coordination Timing - PROPOSED'!D147","v":"-"},{"$f":"'Coordination Timing - PROPOSED'!E147","v":"-"},{"$f":"'Coordination Timing - PROPOSED'!F147","v":"-"},{"$f":"'Coordination Timing - PROPOSED'!G147","v":"-"},{"$f":"'Coordination Timing - PROPOSED'!H147","v":"-"},{"$f":"'Coordination Timing - PROPOSED'!I147","v":"-"},{"$f":"'Coordination Timing - PROPOSED'!J147","v":"-"},{"$f":"'Coordination Timing - PROPOSED'!K147","v":"-"}]
[{"$f":"'Coordination Timing - EXISTING'!A148","v":"-"},{"$f":"'Coordination Timing - EXISTING'!B148","v":"-"},{"$f":"'Coordination Timing - EXISTING'!C148","v":"-"},{"$f":"'Coordination Timing - EXISTING'!D148","v":"-"},{"$f":"'Coordination Timing - EXISTING'!E148","v":"-"},{"$f":"'Coordination Timing - EXISTING'!F148","v":"-"},{"$f":"'Coordination Timing - EXISTING'!G148","v":"-"},{"$f":"'Coordination Timing - EXISTING'!H148","v":"-"},{"$f":"'Coordination Timing - EXISTING'!I148","v":"-"},{"$f":"'Coordination Timing - EXISTING'!J148","v":"-"},{"$f":"'Coordination Timing - EXISTING'!K148","v":"-"},null,{"$f":"'Coordination Timing - PROPOSED'!A148","v":"-"},{"$f":"'Coordination Timing - PROPOSED'!B148","v":"-"},{"$f":"'Coordination Timing - PROPOSED'!C148","v":"-"},{"$f":"'Coordination Timing - PROPOSED'!D148","v":"-"},{"$f":"'Coordination Timing - PROPOSED'!E148","v":"-"},{"$f":"'Coordination Timing - PROPOSED'!F148","v":"-"},{"$f":"'Coordination Timing - PROPOSED'!G148","v":"-"},{"$f":"'Coordination Timing - PROPOSED'!H148","v":"-"},{"$f":"'Coordination Timing - PROPOSED'!I148","v":"-"},{"$f":"'Coordination Timing - PROPOSED'!J148","v":"-"},{"$f":"'Coordination Timing - PROPOSED'!K148","v":"-"}]
[{"$f":"'Coordination Timing - EXISTING'!A149","v":"-"},{"$f":"'Coordination Timing - EXISTING'!B149","v":"-"},{"$f":"'Coordination Timing - EXISTING'!C149","v":"-"},{"$f":"'Coordination Timing - EXISTING'!D149","v":"-"},{"$f":"'Coordination Timing - EXISTING'!E149","v":"-"},{"$f":"'Coordination Timing - EXISTING'!F149","v":"-"},{"$f":"'Coordination Timing - EXISTING'!G149","v":"-"},{"$f":"'Coordination Timing - EXISTING'!H149","v":"-"},{"$f":"'Coordination Timing - EXISTING'!I149","v":"-"},{"$f":"'Coordination Timing - EXISTING'!J149","v":"-"},{"$f":"'Coordination Timing - EXISTING'!K149","v":"-"},null,{"$f":"'Coordination Timing - PROPOSED'!A149","v":"-"},{"$f":"'Coordination Timing - PROPOSED'!B149","v":"-"},{"$f":"'Coordination Timing - PROPOSED'!C149","v":"-"},{"$f":"'Coordination Timing - PROPOSED'!D149","v":"-"},{"$f":"'Coordination Timing - PROPOSED'!E149","v":"-"},{"$f":"'Coordination Timing - PROPOSED'!F149","v":"-"},{"$f":"'Coordination Timing - PROPOSED'!G149","v":"-"},{"$f":"'Coordination Timing - PROPOSED'!H149","v":"-"},{"$f":"'Coordination Timing - PROPOSED'!I149","v":"-"},{"$f":"'Coordination Timing - PROPOSED'!J149","v":"-"},{"$f":"'Coordination Timing - PROPOSED'!K149","v":"-"}]
[{"$f":"'Coordination Timing - EXISTING'!A150","v":"-"},{"$f":"'Coordination Timing - EXISTING'!B150","v":"-"},{"$f":"'Coordination Timing - EXISTING'!C150","v":"-"},{"$f":"'Coordination Timing - EXISTING'!D150","v":"-"},{"$f":"'Coordination Timing - EXISTING'!E150","v":"-"},{"$f":"'Coordination Timing - EXISTING'!F150","v":"-"},{"$f":"'Coordination Timing - EXISTING'!G150","v":"-"},{"$f":"'Coordination Timing - EXISTING'!H150","v":"-"},{"$f":"'Coordination Timing - EXISTING'!I150","v":"-"},{"$f":"'Coordination Timing - EXISTING'!J150","v":"-"},{"$f":"'Coordination Timing - EXISTING'!K150","v":"-"},null,{"$f":"'Coordination Timing - PROPOSED'!A150","v":"-"},{"$f":"'Coordination Timing - PROPOSED'!B150","v":"-"},{"$f":"'Coordination Timing - PROPOSED'!C150","v":"-"},{"$f":"'Coordination Timing - PROPOSED'!D150","v":"-"},{"$f":"'Coordination Timing - PROPOSED'!E150","v":"-"},{"$f":"'Coordination Timing - PROPOSED'!F150","v":"-"},{"$f":"'Coordination Timing - PROPOSED'!G150","v":"-"},{"$f":"'Coordination Timing - PROPOSED'!H150","v":"-"},{"$f":"'Coordination Timing - PROPOSED'!I150","v":"-"},{"$f":"'Coordination Timing - PROPOSED'!J150","v":"-"},{"$f":"'Coordination Timing - PROPOSED'!K150","v":"-"}]
[{"$f":"'Coordination Timing - EXISTING'!A151","v":"-"},{"$f":"'Coordination Timing - EXISTING'!B151","v":"-"},{"$f":"'Coordination Timing - EXISTING'!C151","v":"-"},{"$f":"'Coordination Timing - EXISTING'!D151","v":"-"},{"$f":"'Coordination Timing - EXISTING'!E151","v":"-"},{"$f":"'Coordination Timing - EXISTING'!F151","v":"-"},{"$f":"'Coordination Timing - EXISTING'!G151","v":"-"},{"$f":"'Coordination Timing - EXISTING'!H151","v":"-"},{"$f":"'Coordination Timing - EXISTING'!I151","v":"-"},{"$f":"'Coordination Timing - EXISTING'!J151","v":"-"},{"$f":"'Coordination Timing - EXISTING'!K151","v":"-"},null,{"$f":"'Coordination Timing - PROPOSED'!A151","v":"-"},{"$f":"'Coordination Timing - PROPOSED'!B151","v":"-"},{"$f":"'Coordination Timing - PROPOSED'!C151","v":"-"},{"$f":"'Coordination Timing - PROPOSED'!D151","v":"-"},{"$f":"'Coordination Timing - PROPOSED'!E151","v":"-"},{"$f":"'Coordination Timing - PROPOSED'!F151","v":"-"},{"$f":"'Coordination Timing - PROPOSED'!G151","v":"-"},{"$f":"'Coordination Timing - PROPOSED'!H151","v":"-"},{"$f":"'Coordination Timing - PROPOSED'!I151","v":"-"},{"$f":"'Coordination Timing - PROPOSED'!J151","v":"-"},{"$f":"'Coordination Timing - PROPOSED'!K151","v":"-"}]
[]
[null,null,null,null,null,null,null,null,"EXISTING TIMING",null,null,null,null,null,null,null,null,null,null,null,"PROPOSED TIMING"]

{"sheet":"Comb Coord Schedule-Read Only","index":8,"n_rows":25,"n_cols":9,"rows_kept":25,"cut":false,"hidden":false,"merged":[[1,0,1,10],[2,1,2,2],[2,3,2,4],[2,5,2,7],[2,8,2,10],[6,1,6,2],[6,3,6,4],[6,5,6,7],[6,8,6,10],[3,1,3,2],[3,3,3,4],[3,5,3,7],[3,8,3,10],[4,1,4,2],[4,3,4,4],[4,5,4,7],[4,8,4,10],[5,1,5,2],[5,3,5,4],[5,5,5,7],[5,8,5,10],[7,1,7,2],[7,3,7,4],[7,5,7,7],[7,8,7,10],[9,1,9,2],[9,3,9,4],[9,5,9,7],[9,8,9,10],[8,1,8,2],[8,3,8,4],[8,5,8,7],[8,8,8,10],[11,1,11,2],[11,3,11,4],[11,5,11,7],[11,8,11,10],[10,1,10,2],[10,3,10,4],[10,5,10,7],[10,8,10,10],[15,8,15,10],[14,0,14,10],[15,1,15,2],[15,3,15,4],[15,5,15,7],[17,5,17,7],[17,8,17,10],[18,1,18,2],[18,3,18,4],[18,5,18,7],[18,8,18,10],[16,1,16,2],[16,3,16,4],[16,5,16,7],[16,8,16,10],[24,1,24,2],[24,3,24,4],[24,5,24,7],[24,8,24,10],[21,1,21,2],[21,3,21,4],[21,5,21,7],[21,8,21,10],[22,1,22,2],[22,3,22,4],[22,5,22,7],[22,8,22,10],[0,0,0,10],[13,0,13,10],[23,1,23,2],[23,3,23,4],[23,5,23,7],[23,8,23,10],[19,1,19,2],[19,3,19,4],[19,5,19,7],[19,8,19,10],[20,1,20,2],[20,3,20,4],[20,5,20,7],[20,8,20,10],[17,1,17,2],[17,3,17,4]]}
["EXISTING"]
["COORDINATION TIMING PLANS"]
["DAY(S) OF WEEK","PLAN NAME",null,"HOURS",null,"PLAN NO. OR\nCYCLE/SPLIT/OFFSET",null,null,"CYCLE LENGTH (SEC)"]
[{"$f":"'Coordination Timing - EXISTING'!A14","v":"-"},{"$f":"'Coordination Timing - EXISTING'!B14:C14","v":"-"},null,{"$f":"'Coordination Timing - EXISTING'!D14:E14","v":"-"},null,{"$f":"'Coordination Timing - EXISTING'!F14:H14","v":"-"},null,null,{"$f":"'Coordination Timing - EXISTING'!I14:K14","v":"-"}]
[{"$f":"'Coordination Timing - EXISTING'!A15","v":"-"},{"$f":"'Coordination Timing - EXISTING'!B15:C15","v":"-"},null,{"$f":"'Coordination Timing - EXISTING'!D15:E15","v":"-"},null,{"$f":"'Coordination Timing - EXISTING'!F15:H15","v":"-"},null,null,{"$f":"'Coordination Timing - EXISTING'!I15:K15","v":"-"}]
[{"$f":"'Coordination Timing - EXISTING'!A16","v":"-"},{"$f":"'Coordination Timing - EXISTING'!B16:C16","v":"-"},null,{"$f":"'Coordination Timing - EXISTING'!D16:E16","v":"-"},null,{"$f":"'Coordination Timing - EXISTING'!F16:H16","v":"-"},null,null,{"$f":"'Coordination Timing - EXISTING'!I16:K16","v":"-"}]
[{"$f":"'Coordination Timing - EXISTING'!A17","v":"-"},{"$f":"'Coordination Timing - EXISTING'!B17:C17","v":"-"},null,{"$f":"'Coordination Timing - EXISTING'!D17:E17","v":"-"},null,{"$f":"'Coordination Timing - EXISTING'!F17:H17","v":"-"},null,null,{"$f":"'Coordination Timing - EXISTING'!I17:K17","v":"-"}]
[{"$f":"'Coordination Timing - EXISTING'!A18","v":"-"},{"$f":"'Coordination Timing - EXISTING'!B18:C18","v":"-"},null,{"$f":"'Coordination Timing - EXISTING'!D18:E18","v":"-"},null,{"$f":"'Coordination Timing - EXISTING'!F18:H18","v":"-"},null,null,{"$f":"'Coordination Timing - EXISTING'!I18:K18","v":"-"}]
[{"$f":"'Coordination Timing - EXISTING'!A19","v":"-"},{"$f":"'Coordination Timing - EXISTING'!B19:C19","v":"-"},null,{"$f":"'Coordination Timing - EXISTING'!D19:E19","v":"-"},null,{"$f":"'Coordination Timing - EXISTING'!F19:H19","v":"-"},null,null,{"$f":"'Coordination Timing - EXISTING'!I19:K19","v":"-"}]
[{"$f":"'Coordination Timing - EXISTING'!A20","v":"-"},{"$f":"'Coordination Timing - EXISTING'!B20:C20","v":"-"},null,{"$f":"'Coordination Timing - EXISTING'!D20:E20","v":"-"},null,{"$f":"'Coordination Timing - EXISTING'!F20:H20","v":"-"},null,null,{"$f":"'Coordination Timing - EXISTING'!I20:K20","v":"-"}]
[{"$f":"'Coordination Timing - EXISTING'!A21","v":"-"},{"$f":"'Coordination Timing - EXISTING'!B21:C21","v":"-"},null,{"$f":"'Coordination Timing - EXISTING'!D21:E21","v":"-"},null,{"$f":"'Coordination Timing - EXISTING'!F21:H21","v":"-"},null,null,{"$f":"'Coordination Timing - EXISTING'!I21:K21","v":"-"}]
[{"$f":"'Coordination Timing - EXISTING'!A22","v":"-"},{"$f":"'Coordination Timing - EXISTING'!B22:C22","v":"-"},null,{"$f":"'Coordination Timing - EXISTING'!D22:E22","v":"-"},null,{"$f":"'Coordination Timing - EXISTING'!F22:H22","v":"-"},null,null,{"$f":"'Coordination Timing - EXISTING'!I22:K22","v":"-"}]
[]
["PROPOSED"]
["COORDINATION TIMING PLANS"]
["DAY(S) OF WEEK","PLAN NAME",null,"HOURS",null,"PLAN NO. OR\nCYCLE/SPLIT/OFFSET",null,null,"CYCLE LENGTH (SEC)"]
[{"$f":"'Coordination Timing - PROPOSED'!A14","v":"-"},{"$f":"'Coordination Timing - PROPOSED'!B14:C14","v":"-"},null,{"$f":"'Coordination Timing - PROPOSED'!D14:E14","v":"-"},null,{"$f":"'Coordination Timing - PROPOSED'!F14:H14","v":"-"},null,null,{"$f":"'Coordination Timing - PROPOSED'!I14:K14","v":"-"}]
[{"$f":"'Coordination Timing - PROPOSED'!A15","v":"-"},{"$f":"'Coordination Timing - PROPOSED'!B15:C15","v":"-"},null,{"$f":"'Coordination Timing - PROPOSED'!D15:E15","v":"-"},null,{"$f":"'Coordination Timing - PROPOSED'!F15:H15","v":"-"},null,null,{"$f":"'Coordination Timing - PROPOSED'!I15:K15","v":"-"}]
[{"$f":"'Coordination Timing - PROPOSED'!A16","v":"-"},{"$f":"'Coordination Timing - PROPOSED'!B16:C16","v":"-"},null,{"$f":"'Coordination Timing - PROPOSED'!D16:E16","v":"-"},null,{"$f":"'Coordination Timing - PROPOSED'!F16:H16","v":"-"},null,null,{"$f":"'Coordination Timing - PROPOSED'!I16:K16","v":"-"}]
[{"$f":"'Coordination Timing - PROPOSED'!A17","v":"-"},{"$f":"'Coordination Timing - PROPOSED'!B17:C17","v":"-"},null,{"$f":"'Coordination Timing - PROPOSED'!D17:E17","v":"-"},null,{"$f":"'Coordination Timing - PROPOSED'!F17:H17","v":"-"},null,null,{"$f":"'Coordination Timing - PROPOSED'!I17:K17","v":"-"}]
[{"$f":"'Coordination Timing - PROPOSED'!A18","v":"-"},{"$f":"'Coordination Timing - PROPOSED'!B18:C18","v":"-"},null,{"$f":"'Coordination Timing - PROPOSED'!D18:E18","v":"-"},null,{"$f":"'Coordination Timing - PROPOSED'!F18:H18","v":"-"},null,null,{"$f":"'Coordination Timing - PROPOSED'!I18:K18","v":"-"}]
[{"$f":"'Coordination Timing - PROPOSED'!A19","v":"-"},{"$f":"'Coordination Timing - PROPOSED'!B19:C19","v":"-"},null,{"$f":"'Coordination Timing - PROPOSED'!D19:E19","v":"-"},null,{"$f":"'Coordination Timing - PROPOSED'!F19:H19","v":"-"},null,null,{"$f":"'Coordination Timing - PROPOSED'!I19:K19","v":"-"}]
[{"$f":"'Coordination Timing - PROPOSED'!A20","v":"-"},{"$f":"'Coordination Timing - PROPOSED'!B20:C20","v":"-"},null,{"$f":"'Coordination Timing - PROPOSED'!D20:E20","v":"-"},null,{"$f":"'Coordination Timing - PROPOSED'!F20:H20","v":"-"},null,null,{"$f":"'Coordination Timing - PROPOSED'!I20:K20","v":"-"}]
[{"$f":"'Coordination Timing - PROPOSED'!A21","v":"-"},{"$f":"'Coordination Timing - PROPOSED'!B21:C21","v":"-"},null,{"$f":"'Coordination Timing - PROPOSED'!D21:E21","v":"-"},null,{"$f":"'Coordination Timing - PROPOSED'!F21:H21","v":"-"},null,null,{"$f":"'Coordination Timing - PROPOSED'!I21:K21","v":"-"}]
[{"$f":"'Coordination Timing - PROPOSED'!A22","v":"-"},{"$f":"'Coordination Timing - PROPOSED'!B22:C22","v":"-"},null,{"$f":"'Coordination Timing - PROPOSED'!D22:E22","v":"-"},null,{"$f":"'Coordination Timing - PROPOSED'!F22:H22","v":"-"},null,null,{"$f":"'Coordination Timing - PROPOSED'!I22:K22","v":"-"}]